BEGIN:VCALENDAR
VERSION:2.0
PRODID:-//The Carlebach Shul - ECPv6.2.9//NONSGML v1.0//EN
CALSCALE:GREGORIAN
METHOD:PUBLISH
X-WR-CALNAME:The Carlebach Shul
X-ORIGINAL-URL:https://www.thecarlebachshul.org
X-WR-CALDESC:Events for The Carlebach Shul
REFRESH-INTERVAL;VALUE=DURATION:PT1H
X-Robots-Tag:noindex
X-PUBLISHED-TTL:PT1H
BEGIN:VTIMEZONE
TZID:America/New_York
BEGIN:DAYLIGHT
TZOFFSETFROM:-0500
TZOFFSETTO:-0400
TZNAME:EDT
DTSTART:20180311T070000
END:DAYLIGHT
BEGIN:STANDARD
TZOFFSETFROM:-0400
TZOFFSETTO:-0500
TZNAME:EST
DTSTART:20181104T060000
END:STANDARD
END:VTIMEZONE
BEGIN:VEVENT
DTSTART;TZID=America/New_York:20180531T203000
DTEND;TZID=America/New_York:20180531T221500
DTSTAMP:20260421T113258
CREATED:20180410T045213Z
LAST-MODIFIED:20180508T170019Z
UID:10000468-1527798600-1527804900@www.thecarlebachshul.org
SUMMARY:Daf Yomi – Thursday (With Yitzy Weinberg)
DESCRIPTION:
URL:https://www.thecarlebachshul.org/event/daf-yomi-thursday-with-yitzy-weinberg-5-31/
LOCATION:305 W 79th St\, New York\, NY\, 10024
CATEGORIES:Daf Yomi,Events,Special Events
ATTACH;FMTTYPE=image/jpeg:https://www.thecarlebachshul.org/wp-content/uploads/2018/04/Yitzy_Weinberg-1-1.jpg
END:VEVENT
BEGIN:VEVENT
DTSTART;TZID=America/New_York:20180531T220000
DTEND;TZID=America/New_York:20180531T221500
DTSTAMP:20260421T113258
CREATED:20180417T063502Z
LAST-MODIFIED:20180418T145150Z
UID:10000508-1527804000-1527804900@www.thecarlebachshul.org
SUMMARY:Maariv
DESCRIPTION:Maariv or Ma’ariv (Hebrew: ????????\, [ma????iv])\, also known as Arvit (Hebrew: ????????\, [a??vit])\, is a Jewish prayer service held in the evening or night. It consists primarily of the evening Shema and Amidah.\nThe service usually begins with two verses from Psalms\, followed by the communal recitation of Barechu. The three paragraphs of the Shema are then said\, both preceded and followed by two blessings\, although sometimes a fifth blessing is added at the end. The hazzan (leader) then recites half-Kaddish. The Amidah is said quietly by everyone\, and\, unlike at the other services\, is not repeated by the hazzan. He recites the full Kaddish\, Aleinu is recited\, and the mourners’ Kaddish ends the service. Other prayers occasionally added include the Counting of the Omer (between Passover and Shavuot) and Psalm 27 (between the first of Elul and the end of Sukkot). \nMaariv is generally recited after sunset. However\, it may be recited as early as one and a quarter seasonal hours before sunset. This is common only on Friday nights\, in order to begin Shabbat earlier. At the conclusion of Shabbat and holidays\, the service is usually delayed until nightfall. While Maariv should be prayed before midnight\, it may be recited until daybreak or even sunrise.
URL:https://www.thecarlebachshul.org/event/maariv-19/
LOCATION:The Carlebach Shul\, 305 W 79th St\, New York\, 10024\, United States
CATEGORIES:Events
END:VEVENT
END:VCALENDAR