BEGIN:VCALENDAR
VERSION:2.0
PRODID:-//The Carlebach Shul - ECPv6.2.9//NONSGML v1.0//EN
CALSCALE:GREGORIAN
METHOD:PUBLISH
X-WR-CALNAME:The Carlebach Shul
X-ORIGINAL-URL:https://www.thecarlebachshul.org
X-WR-CALDESC:Events for The Carlebach Shul
REFRESH-INTERVAL;VALUE=DURATION:PT1H
X-Robots-Tag:noindex
X-PUBLISHED-TTL:PT1H
BEGIN:VTIMEZONE
TZID:America/New_York
BEGIN:DAYLIGHT
TZOFFSETFROM:-0500
TZOFFSETTO:-0400
TZNAME:EDT
DTSTART:20230312T070000
END:DAYLIGHT
BEGIN:STANDARD
TZOFFSETFROM:-0400
TZOFFSETTO:-0500
TZNAME:EST
DTSTART:20231105T060000
END:STANDARD
END:VTIMEZONE
BEGIN:VEVENT
DTSTART;TZID=America/New_York:20230306T183500
DTEND;TZID=America/New_York:20230307T183500
DTSTAMP:20260423T045249
CREATED:20230221T175601Z
LAST-MODIFIED:20230306T180137Z
UID:10003464-1678127700-1678214100@www.thecarlebachshul.org
SUMMARY:Purim Schedule 2023
DESCRIPTION:Monday NIght: \nMaariv 6:35 PM\,  Megillah readings 6:45 PM and 8:30 PM \n  \nTuesday Morning:\n9:00 AM Schacharit\, 9:45 AM Megillah reading\, there will be a 2nd reading at 4:30 PM
URL:https://www.thecarlebachshul.org/event/purim-schedule-2023/
ATTACH;FMTTYPE=image/jpeg:https://www.thecarlebachshul.org/wp-content/uploads/2018/01/Purim-Banner.jpg
END:VEVENT
BEGIN:VEVENT
DTSTART;TZID=America/New_York:20230307T170000
DTEND;TZID=America/New_York:20230307T193000
DTSTAMP:20260423T045249
CREATED:20230209T162910Z
LAST-MODIFIED:20230306T154958Z
UID:10003442-1678208400-1678217400@www.thecarlebachshul.org
SUMMARY:Purim Seudah 2023 (March 7th)
DESCRIPTION:Purim Seuda with noted Rosh Yeshiva Rabbi Herschel Reichman and Rabbi Naftali Citron\, and Rabbi Shmuley Boteach\nWe are happy to announce that “America’s Rabbi”\, Rabbi Shmuley Boteach\, will be at the Purim Seuda.\n*Open Bar\n*Music\n*Barbeque\n*Purim Torah\nTuesday\, March 7th at 5:00 PM\n  $45 Members\, $55 non-members\nClick Here to reserve \n\n              	\n                      	\n                        		\n                                	PurimRead more \n                        	\n                      	\n                      \n                        \n                          \n                            ×\n                            Team Members\n                          \n                            \n                                \n                                \n                                    \n                                    	\n                                    \n                                    \n                                    	Purim
URL:https://www.thecarlebachshul.org/event/purim-seudah-2023-march-7th/
ATTACH;FMTTYPE=image/jpeg:https://www.thecarlebachshul.org/wp-content/uploads/2023/02/cocktails-shaker-arrangement-night-club-scaled.jpg
END:VEVENT
END:VCALENDAR