BEGIN:VCALENDAR
VERSION:2.0
PRODID:-//The Carlebach Shul - ECPv6.2.9//NONSGML v1.0//EN
CALSCALE:GREGORIAN
METHOD:PUBLISH
X-ORIGINAL-URL:https://www.thecarlebachshul.org
X-WR-CALDESC:Events for The Carlebach Shul
REFRESH-INTERVAL;VALUE=DURATION:PT1H
X-Robots-Tag:noindex
X-PUBLISHED-TTL:PT1H
BEGIN:VTIMEZONE
TZID:America/New_York
BEGIN:DAYLIGHT
TZOFFSETFROM:-0500
TZOFFSETTO:-0400
TZNAME:EDT
DTSTART:20230312T070000
END:DAYLIGHT
BEGIN:STANDARD
TZOFFSETFROM:-0400
TZOFFSETTO:-0500
TZNAME:EST
DTSTART:20231105T060000
END:STANDARD
END:VTIMEZONE
BEGIN:VEVENT
DTSTART;TZID=America/New_York:20230310T173900
DTEND;TZID=America/New_York:20230311T183900
DTSTAMP:20260422T211808
CREATED:20230221T165329Z
LAST-MODIFIED:20230310T143900Z
UID:10003461-1678469940-1678559940@www.thecarlebachshul.org
SUMMARY:Friday – Shabbat Schedule 03/10- 03/11
DESCRIPTION:Friday Night 03/10\nShabbat Candle Lighting 5:39 PM\nMincha  5:45 PM\nKabbalat Shabbat: Yehuda Green\nDrasha: Rabbi Naftali Citron \nSaturday Morning 03/11\nShabbat Parshat: Ki Sisa & Parshat Para\nMorning Services: 9:30 AM\nSof Z’man Kriyat Shema: (Gr”a) 9:11 AM\nDrasha: Rabbi Naftali Citron\nMusaf: Yehuda Green\nKiddush following services\nPre-Mincha Shiur: Rabbi Naftali Citron 5:00 PM\nMincha: 5:30 PM\nDrasha: Rabbi Naftali Citron
URL:https://www.thecarlebachshul.org/event/friday-shabbat-schedule-03-10-03-11/
ATTACH;FMTTYPE=image/jpeg:https://www.thecarlebachshul.org/wp-content/uploads/2019/01/Carlebach-HP.jpg
END:VEVENT
END:VCALENDAR