BEGIN:VCALENDAR
VERSION:2.0
PRODID:-//The Carlebach Shul - ECPv6.2.9//NONSGML v1.0//EN
CALSCALE:GREGORIAN
METHOD:PUBLISH
X-WR-CALNAME:The Carlebach Shul
X-ORIGINAL-URL:https://www.thecarlebachshul.org
X-WR-CALDESC:Events for The Carlebach Shul
REFRESH-INTERVAL;VALUE=DURATION:PT1H
X-Robots-Tag:noindex
X-PUBLISHED-TTL:PT1H
BEGIN:VTIMEZONE
TZID:America/New_York
BEGIN:DAYLIGHT
TZOFFSETFROM:-0500
TZOFFSETTO:-0400
TZNAME:EDT
DTSTART:20230312T070000
END:DAYLIGHT
BEGIN:STANDARD
TZOFFSETFROM:-0400
TZOFFSETTO:-0500
TZNAME:EST
DTSTART:20231105T060000
END:STANDARD
END:VTIMEZONE
BEGIN:VEVENT
DTSTART;TZID=America/New_York:20230317T184600
DTEND;TZID=America/New_York:20230317T233000
DTSTAMP:20260422T104408
CREATED:20230227T160527Z
LAST-MODIFIED:20230314T160308Z
UID:10003478-1679078760-1679095800@www.thecarlebachshul.org
SUMMARY:3/17 Dinner in Memory of Reb Eli Chaim Carlebach
DESCRIPTION:Reb Eli Chaim Carlebach – Yahrzeit Celebration\nReb Eli Chaim\, as he was affectionately referred to\, was a warm and caring\npresence in the life of The Carlebach Shul. Reb Eli Chaim opened up the lost\nworld of the Chassidic masters by his Institute’s publishing of encyclopedias\nof Chassidut. Please join the family and friends of Reb Eli Chaim for this\nShabbat. \nClick Here to reserve
URL:https://www.thecarlebachshul.org/event/3-17-dinner-in-memory-of-reb-eli-chaim-carlebach/
ATTACH;FMTTYPE=image/jpeg:https://www.thecarlebachshul.org/wp-content/uploads/2017/01/EliChaim.jpg
END:VEVENT
BEGIN:VEVENT
DTSTART;TZID=America/New_York:20230317T184600
DTEND;TZID=America/New_York:20230318T194700
DTSTAMP:20260422T104408
CREATED:20230221T181220Z
LAST-MODIFIED:20230221T194642Z
UID:10003465-1679078760-1679168820@www.thecarlebachshul.org
SUMMARY:Friday – Shabbat Schedule 03/17- 03/18
DESCRIPTION:Friday Night 03/17\nShabbat Candle Lighting 6:46 PM\nMincha  7:00 PM\nKabbalat Shabbat:\nDrasha: Rabbi Naftali Citron \nSaturday Morning 03/18\nShabbat Parshat: Vayakel-Pekudeh & Parshat Hachodesh \nMorning Services: 9:30 AM\nSof Z’man Kriyat Shema: (Gr”a) 10:04AM\nDrasha: Rabbi Naftali Citron\nMusaf:\nKiddush following services\nPre-Mincha Shiur: Rabbi Naftali Citron 5:40 PM\nMincha: 6:40 PM\nDrasha: Rabbi Naftali Citron
URL:https://www.thecarlebachshul.org/event/friday-shabbat-schedule-03-17-03-18/
ATTACH;FMTTYPE=image/jpeg:https://www.thecarlebachshul.org/wp-content/uploads/2019/01/Carlebach-HP.jpg
END:VEVENT
END:VCALENDAR