BEGIN:VCALENDAR
VERSION:2.0
PRODID:-//The Carlebach Shul - ECPv6.2.9//NONSGML v1.0//EN
CALSCALE:GREGORIAN
METHOD:PUBLISH
X-ORIGINAL-URL:https://www.thecarlebachshul.org
X-WR-CALDESC:Events for The Carlebach Shul
REFRESH-INTERVAL;VALUE=DURATION:PT1H
X-Robots-Tag:noindex
X-PUBLISHED-TTL:PT1H
BEGIN:VTIMEZONE
TZID:America/New_York
BEGIN:DAYLIGHT
TZOFFSETFROM:-0500
TZOFFSETTO:-0400
TZNAME:EDT
DTSTART:20230312T070000
END:DAYLIGHT
BEGIN:STANDARD
TZOFFSETFROM:-0400
TZOFFSETTO:-0500
TZNAME:EST
DTSTART:20231105T060000
END:STANDARD
END:VTIMEZONE
BEGIN:VEVENT
DTSTART;TZID=America/New_York:20230404T200600
DTEND;TZID=America/New_York:20230413T201500
DTSTAMP:20260421T185440
CREATED:20230308T160453Z
LAST-MODIFIED:20230411T152620Z
UID:10003479-1680638760-1681416900@www.thecarlebachshul.org
SUMMARY:Pesach Schedule 2023
DESCRIPTION:Last Days of Pesach \nTuesday\, April 11th– EREV 7th DAY of PESACH\nCandle lighting 7:13 PM\nMincha/Yom Tov Services\nDrasha: Rabbi Naftali Citron\nSplitting of the Sea with Rabbi Avraham Newman: 11:00 PM \nWednesday\, April 12th – 7th DAY of PESACH\nMorning Services\,  9:30 AM\nDrasha: Rabbi Naftali Citron\nCake and wine Kiddush following services`\nDrasha:6:45 Rabbi Avraham Newman\nMincha/Yom Tov Services\, 7:15 PM\nDrasha: Rabbi Avraham Newman\nCandle lighting 8:14PM \nThursday\, April 13rd – 8th DAY of PESACH\nMorning Services\,  9:30 AM\nDrasha: Rabbi Avraham Newman\nYiskor Approx. 11:30 AM\nCake and wine Kiddush following services\,\nMincha 6:40 PM\n●●Moshiach Meal led by Rabbi Avraham Newman\nHoliday Ends 8:15 PM\nChometz that was sold through the Shul can be eaten after 9:30 PM
URL:https://www.thecarlebachshul.org/event/pesach-schedule-2023/
ATTACH;FMTTYPE=image/jpeg:https://www.thecarlebachshul.org/wp-content/uploads/2017/04/Pesach-image.jpg
END:VEVENT
BEGIN:VEVENT
DTSTART;TZID=America/New_York:20230404T200600
DTEND;TZID=America/New_York:20230413T201500
DTSTAMP:20260421T185440
CREATED:20230317T134409Z
LAST-MODIFIED:20230317T135527Z
UID:10003507-1680638760-1681416900@www.thecarlebachshul.org
SUMMARY:Pesach Schedule and meals 2023
DESCRIPTION:Click Here for Pesach Schedule  \nClick Here to sell your Chametz \nClick Here for Pesach sponsorship opportunities \nClick Here to reserve for fist night Seder  \nClick Here for Shabbat Chol Ha’Moed dinner  \nClick Here for seventh night Dinner  \nClick Here to donate to Maos Chittim  \n 
URL:https://www.thecarlebachshul.org/event/pesach-schedule-and-meals-2023/
ATTACH;FMTTYPE=image/jpeg:https://www.thecarlebachshul.org/wp-content/uploads/2019/02/Merged-Pesach-Carlebach-Graphic-01.jpg
END:VEVENT
BEGIN:VEVENT
DTSTART;TZID=America/New_York:20230404T220000
DTEND;TZID=America/New_York:20230404T221500
DTSTAMP:20260421T185440
CREATED:20230222T202022Z
LAST-MODIFIED:20230222T202022Z
UID:10003467-1680645600-1680646500@www.thecarlebachshul.org
SUMMARY:Sunday - Thursday 10:00 PM Maariv
DESCRIPTION:The Schedule \n10:00 pm – 10:00 pm Start \n10:15 pm – 10:15 pm End \nMaariv or Ma’ariv (Hebrew: מַעֲרִיב\, [maʔăˈʁiv])\, also known as Arvit (Hebrew: עַרְבִית\, [aʁˈvit])\, is a Jewish prayer service held in the evening or night. It consists primarily of the evening Shema and Amidah. \nThe service usually begins with two verses from Psalms\, followed by the communal recitation of Barechu. The three paragraphs of the Shema are then said\, both preceded and followed by two blessings\, although sometimes a fifth blessing is added at the end. The hazzan (leader) then recites half-Kaddish. The Amidah is said quietly by everyone\, and\, unlike at the other services\, is not repeated by the hazzan. He recites the full Kaddish\, Aleinu is recited\, and the mourners’ Kaddish ends the service. Other prayers occasionally added include the Counting of the Omer (between Passover and Shavuot) and Psalm 27 (between the first of Elul and the end of Sukkot). \nMaariv is generally recited after sunset. However\, it may be recited as early as one and a quarter seasonal hours before sunset. This is common only on Friday nights\, in order to begin Shabbat earlier. At the conclusion of Shabbat and holidays\, the service is usually delayed until nightfall. While Maariv should be prayed before midnight\, it may be recited until daybreak or even sunrise. \nInterested in sponsoring/Donating? \nAll non for profit such as The Carlebach Shul require operating funds to allow the continuation and sustainability of the community\, synagogue\, services\, educational programs and more. \nYour donation is a special way to mark an occasion\, remember someone dear\, celebrate a “simcha” or anniversary\, rejoice in the arrival of a child\, mourn the passing of a friend or recognize an Aliyah honor. \n\n\n	Kiddush Sponsorship\n	$300.00 – $1\,000.00\nSelect options\n\n	Chesed Fund\nSet Price\n\n	Redeem Your Pledge\nSet Price\n\n	Donate As You Like\nSet Price
URL:https://www.thecarlebachshul.org/event/sunday-thursday-1000-pm-maariv-157/
ATTACH;FMTTYPE=image/jpeg:https://www.thecarlebachshul.org/wp-content/uploads/2018/04/images-5-1-600x400.jpeg
END:VEVENT
END:VCALENDAR