BEGIN:VCALENDAR
VERSION:2.0
PRODID:-//The Carlebach Shul - ECPv6.2.9//NONSGML v1.0//EN
CALSCALE:GREGORIAN
METHOD:PUBLISH
X-ORIGINAL-URL:https://www.thecarlebachshul.org
X-WR-CALDESC:Events for The Carlebach Shul
REFRESH-INTERVAL;VALUE=DURATION:PT1H
X-Robots-Tag:noindex
X-PUBLISHED-TTL:PT1H
BEGIN:VTIMEZONE
TZID:America/New_York
BEGIN:DAYLIGHT
TZOFFSETFROM:-0500
TZOFFSETTO:-0400
TZNAME:EDT
DTSTART:20230312T070000
END:DAYLIGHT
BEGIN:STANDARD
TZOFFSETFROM:-0400
TZOFFSETTO:-0500
TZNAME:EST
DTSTART:20231105T060000
END:STANDARD
END:VTIMEZONE
BEGIN:VEVENT
DTSTART;TZID=America/New_York:20230421T192300
DTEND;TZID=America/New_York:20230422T202300
DTSTAMP:20260421T185501
CREATED:20230310T163305Z
LAST-MODIFIED:20230421T135815Z
UID:10003481-1682104980-1682194980@www.thecarlebachshul.org
SUMMARY:Friday – Shabbat Schedule 04/21- 04/22
DESCRIPTION:Friday Night 04/21\nShabbat Candle Lighting 7:23 PM\nMincha  7:23 PM\nKabbalat Shabbat: Led this week by Yehuda Green\nDrasha: Rabbi Naftali Citron \nSaturday Morning 04/22\nShabbat Parshat: Tazria-Metzora- Rosh Chodesh Iyar\nMorning Services: 9:30 AM\nSof Z’man Kriyat Shema: (Gr”a) 9:31 AM\nDrasha: Rabbi Naftali Citron\nMusaf: Led by Yehuda Green\nKiddush following services\nPre-Mincha Shiur: Rabbi Naftali Citron 6:15PM\nMincha: 7:15 PM\nDrasha: Rabbi Naftali Citron
URL:https://www.thecarlebachshul.org/event/friday-shabbat-schedule-04-21-04-22/
ATTACH;FMTTYPE=image/jpeg:https://www.thecarlebachshul.org/wp-content/uploads/2019/01/Carlebach-HP.jpg
END:VEVENT
END:VCALENDAR