BEGIN:VCALENDAR
VERSION:2.0
PRODID:-//The Carlebach Shul - ECPv6.2.9//NONSGML v1.0//EN
CALSCALE:GREGORIAN
METHOD:PUBLISH
X-ORIGINAL-URL:https://www.thecarlebachshul.org
X-WR-CALDESC:Events for The Carlebach Shul
REFRESH-INTERVAL;VALUE=DURATION:PT1H
X-Robots-Tag:noindex
X-PUBLISHED-TTL:PT1H
BEGIN:VTIMEZONE
TZID:America/New_York
BEGIN:DAYLIGHT
TZOFFSETFROM:-0500
TZOFFSETTO:-0400
TZNAME:EDT
DTSTART:20230312T070000
END:DAYLIGHT
BEGIN:STANDARD
TZOFFSETFROM:-0400
TZOFFSETTO:-0500
TZNAME:EST
DTSTART:20231105T060000
END:STANDARD
END:VTIMEZONE
BEGIN:VEVENT
DTSTART;TZID=America/New_York:20230505T193800
DTEND;TZID=America/New_York:20230506T203900
DTSTAMP:20260421T171903
CREATED:20230321T193242Z
LAST-MODIFIED:20230501T043854Z
UID:10003540-1683315480-1683405540@www.thecarlebachshul.org
SUMMARY:Friday – Shabbat Schedule 05/05- 05/06
DESCRIPTION:Friday Night 05/05\nShabbat Candle Lighting 7:38 PM\nMincha  7:38 PM\nKabbalat Shabbat:\nDrasha: Rabbi Naftali Citron \nSaturday Morning 05/06\nShabbat Parshat Emor\nMorning Services: 9:30 AM\nSof Z’man Kriyat Shema: (Gr”a) 09:20 AM\nDrasha: Rabbi Naftali Citron\nMusaf:\nKiddush following services\nPre-Mincha Shiur: Rabbi Naftali Citron 6:30 PM\nMincha: 7:30 PM\nDrasha: Rabbi Naftali Citron
URL:https://www.thecarlebachshul.org/event/friday-shabbat-schedule-05-05-05-06/
ATTACH;FMTTYPE=image/jpeg:https://www.thecarlebachshul.org/wp-content/uploads/2019/01/Carlebach-HP.jpg
END:VEVENT
END:VCALENDAR