BEGIN:VCALENDAR
VERSION:2.0
PRODID:-//The Carlebach Shul - ECPv6.2.9//NONSGML v1.0//EN
CALSCALE:GREGORIAN
METHOD:PUBLISH
X-WR-CALNAME:The Carlebach Shul
X-ORIGINAL-URL:https://www.thecarlebachshul.org
X-WR-CALDESC:Events for The Carlebach Shul
REFRESH-INTERVAL;VALUE=DURATION:PT1H
X-Robots-Tag:noindex
X-PUBLISHED-TTL:PT1H
BEGIN:VTIMEZONE
TZID:America/New_York
BEGIN:DAYLIGHT
TZOFFSETFROM:-0500
TZOFFSETTO:-0400
TZNAME:EDT
DTSTART:20230312T070000
END:DAYLIGHT
BEGIN:STANDARD
TZOFFSETFROM:-0400
TZOFFSETTO:-0500
TZNAME:EST
DTSTART:20231105T060000
END:STANDARD
END:VTIMEZONE
BEGIN:VEVENT
DTSTART;TZID=America/New_York:20230623T201300
DTEND;TZID=America/New_York:20230624T211500
DTSTAMP:20260421T153307
CREATED:20230519T171612Z
LAST-MODIFIED:20230623T192357Z
UID:10003638-1687551180-1687641300@www.thecarlebachshul.org
SUMMARY:Friday – Shabbat Schedule 06/23- 06/24
DESCRIPTION:Friday Night 06/23\nShabbat Candle Lighting 8:13 PM\nMincha  8:13 PM\nKabbalat Shabbat:\nDrasha: Rabbi Naftali Citron \nSaturday Morning 06/24\nShabbat Parshat Korach\nMorning Services: 9:30 AM\nSof Z’man Kriyat Shema: (Gr”a) 9:11 AM\nDrasha: Rabbi Naftali Citron\nMusaf:\nKiddush following services\nPre-Mincha Shiurim: Zev Teifer 6:30 PM (at the Shul)\n7:35 PM at the Shul – Rabbi Naftali Citron\nMincha: 8:05 PM\nfollowed by Seudah Shelishit \n 
URL:https://www.thecarlebachshul.org/event/friday-shabbat-schedule-06-23-06-24/
ATTACH;FMTTYPE=image/jpeg:https://www.thecarlebachshul.org/wp-content/uploads/2019/01/Carlebach-HP.jpg
END:VEVENT
END:VCALENDAR