BEGIN:VCALENDAR
VERSION:2.0
PRODID:-//The Carlebach Shul - ECPv6.2.9//NONSGML v1.0//EN
CALSCALE:GREGORIAN
METHOD:PUBLISH
X-ORIGINAL-URL:https://www.thecarlebachshul.org
X-WR-CALDESC:Events for The Carlebach Shul
REFRESH-INTERVAL;VALUE=DURATION:PT1H
X-Robots-Tag:noindex
X-PUBLISHED-TTL:PT1H
BEGIN:VTIMEZONE
TZID:America/New_York
BEGIN:DAYLIGHT
TZOFFSETFROM:-0500
TZOFFSETTO:-0400
TZNAME:EDT
DTSTART:20230312T070000
END:DAYLIGHT
BEGIN:STANDARD
TZOFFSETFROM:-0400
TZOFFSETTO:-0500
TZNAME:EST
DTSTART:20231105T060000
END:STANDARD
END:VTIMEZONE
BEGIN:VEVENT
DTSTART;TZID=America/New_York:20230721T200300
DTEND;TZID=America/New_York:20230721T234500
DTSTAMP:20260421T135342
CREATED:20230618T200808Z
LAST-MODIFIED:20230721T165750Z
UID:10003696-1689969780-1689983100@www.thecarlebachshul.org
SUMMARY:July 21st – 22nd: Arizal Shabbaton in memory of Moshe Liebert
DESCRIPTION:Shabbat\, July 21st – 22nd: Arizal Shabbaton \nShabbat Chazon Friday night Dinner With Rabbi Naftali Citron \nThe Psychocosmology of the Arizal\nThis dinner is dedicated in memory of our beloved past President\, Moshe Liebert\, on the occasion of his twenty-third yahrzeit. \nReservations are no longer available.
URL:https://www.thecarlebachshul.org/event/july-21st-22nd-arizal-shabbaton-moshe-liebert-yahrzeit-dinner/
ATTACH;FMTTYPE=image/jpeg:https://www.thecarlebachshul.org/wp-content/uploads/2018/06/Moshe-Liebert-600x400-2.jpg
END:VEVENT
BEGIN:VEVENT
DTSTART;TZID=America/New_York:20230721T200300
DTEND;TZID=America/New_York:20230722T211000
DTSTAMP:20260421T135342
CREATED:20230608T150026Z
LAST-MODIFIED:20230721T175950Z
UID:10003690-1689969780-1690060200@www.thecarlebachshul.org
SUMMARY:Friday – Shabbat Schedule 07/21 - 07/22
DESCRIPTION:ARIZAL SHABBATON – In honor of the upcoming Yahrzeit of Rabbi Yitzchak Luria \nFriday Night 07/21\nShabbat Candle Lighting 8:03 PM\nMincha  8:03 PM\nKabbalat Shabbat:\nDrasha: Rabbi Naftali Citron \n  \nSaturday Morning 07/22\nShabbat Parshat Devarim\nMorning Services: 9:30 AM\nSof Z’man Kriyat Shema: (Gr”a) 9:22 AM\nDrasha: Rabbi Naftali Citron\nMusaf:\nKiddush following services\, sponsored by Michael Moffson\, in memory of his father\, David ben Esrael\nPre-Mincha Shiurim: Rabbi Naftali Citron 6:20 PM Riverside Park between 81st and 82nd Street\n7:25 PM at the Shul\nMincha: 7:55 PM\nDrasha: Rabbi Naftali Citron
URL:https://www.thecarlebachshul.org/event/friday-shabbat-schedule-07-21-07-22/
ATTACH;FMTTYPE=image/jpeg:https://www.thecarlebachshul.org/wp-content/uploads/2019/01/Carlebach-HP.jpg
END:VEVENT
END:VCALENDAR