BEGIN:VCALENDAR
VERSION:2.0
PRODID:-//The Carlebach Shul - ECPv6.2.9//NONSGML v1.0//EN
CALSCALE:GREGORIAN
METHOD:PUBLISH
X-ORIGINAL-URL:https://www.thecarlebachshul.org
X-WR-CALDESC:Events for The Carlebach Shul
REFRESH-INTERVAL;VALUE=DURATION:PT1H
X-Robots-Tag:noindex
X-PUBLISHED-TTL:PT1H
BEGIN:VTIMEZONE
TZID:America/New_York
BEGIN:DAYLIGHT
TZOFFSETFROM:-0500
TZOFFSETTO:-0400
TZNAME:EDT
DTSTART:20230312T070000
END:DAYLIGHT
BEGIN:STANDARD
TZOFFSETFROM:-0400
TZOFFSETTO:-0500
TZNAME:EST
DTSTART:20231105T060000
END:STANDARD
END:VTIMEZONE
BEGIN:VEVENT
DTSTART;TZID=America/New_York:20230811T194100
DTEND;TZID=America/New_York:20230812T205000
DTSTAMP:20260421T121453
CREATED:20230608T151803Z
LAST-MODIFIED:20230728T152432Z
UID:10003693-1691782860-1691873400@www.thecarlebachshul.org
SUMMARY:Friday – Shabbat Schedule 08/11 - 08/12
DESCRIPTION:Friday Night 08/11\nShabbat Candle Lighting 7:41 PM\nMincha  7:41 PM\nKabbalat Shabbat:\nDrasha: Rabbi Naftali Citron \n  \nSaturday Morning 08/12\nShabbat Parshat Re’eh\nMorning Services: 9:30 AM\nSof Z’man Kriyat Shema: (Gr”a) 9:31 AM\nDrasha: Rabbi Naftali Citron\nMusaf:\nKiddush following services\nPre-Mincha Shiurim: Rabbi Naftali Citron 6:05 PM & 7:05 PM at the Shul\nMincha: 7:35 PM\nDrasha: Rabbi Naftali Citron
URL:https://www.thecarlebachshul.org/event/friday-shabbat-schedule-08-11-08-12/
ATTACH;FMTTYPE=image/jpeg:https://www.thecarlebachshul.org/wp-content/uploads/2019/01/Carlebach-HP.jpg
END:VEVENT
END:VCALENDAR