BEGIN:VCALENDAR
VERSION:2.0
PRODID:-//The Carlebach Shul - ECPv6.2.9//NONSGML v1.0//EN
CALSCALE:GREGORIAN
METHOD:PUBLISH
X-WR-CALNAME:The Carlebach Shul
X-ORIGINAL-URL:https://www.thecarlebachshul.org
X-WR-CALDESC:Events for The Carlebach Shul
REFRESH-INTERVAL;VALUE=DURATION:PT1H
X-Robots-Tag:noindex
X-PUBLISHED-TTL:PT1H
BEGIN:VTIMEZONE
TZID:America/New_York
BEGIN:DAYLIGHT
TZOFFSETFROM:-0500
TZOFFSETTO:-0400
TZNAME:EDT
DTSTART:20230312T070000
END:DAYLIGHT
BEGIN:STANDARD
TZOFFSETFROM:-0400
TZOFFSETTO:-0500
TZNAME:EST
DTSTART:20231105T060000
END:STANDARD
END:VTIMEZONE
BEGIN:VEVENT
DTSTART;TZID=America/New_York:20230901T191000
DTEND;TZID=America/New_York:20230902T201500
DTSTAMP:20260421T103411
CREATED:20230618T224619Z
LAST-MODIFIED:20230822T195336Z
UID:10003697-1693595400-1693685700@www.thecarlebachshul.org
SUMMARY:Friday – Shabbat Schedule 09/01 - 09/02
DESCRIPTION:Friday Night 09/01\nShabbat Candle Lighting 7:10PM\nMincha  7:10PM\nKabbalat Shabbat:\nDrasha: Rabbi Naftali Citron \n  \nSaturday Morning 09/02\nShabbat Parshat Ki Tavo\nMorning Services: 9:30 AM\nSof Z’man Kriyat Shema: (Gr”a) 9:39 AM\nDrasha: Rabbi Naftali Citron\nMusaf:\nKiddush following services\nPre-Mincha Shiur: Rabbi Naftali Citron: 6:00 PM at the Shul\nMincha: 7:00 PM\nDrasha: Rabbi Naftali Citron
URL:https://www.thecarlebachshul.org/event/friday-shabbat-schedule-09-01-09-02/
ATTACH;FMTTYPE=image/jpeg:https://www.thecarlebachshul.org/wp-content/uploads/2019/01/Carlebach-HP.jpg
END:VEVENT
END:VCALENDAR