BEGIN:VCALENDAR
VERSION:2.0
PRODID:-//The Carlebach Shul - ECPv6.2.9//NONSGML v1.0//EN
CALSCALE:GREGORIAN
METHOD:PUBLISH
X-WR-CALNAME:The Carlebach Shul
X-ORIGINAL-URL:https://www.thecarlebachshul.org
X-WR-CALDESC:Events for The Carlebach Shul
REFRESH-INTERVAL;VALUE=DURATION:PT1H
X-Robots-Tag:noindex
X-PUBLISHED-TTL:PT1H
BEGIN:VTIMEZONE
TZID:America/New_York
BEGIN:DAYLIGHT
TZOFFSETFROM:-0500
TZOFFSETTO:-0400
TZNAME:EDT
DTSTART:20230312T070000
END:DAYLIGHT
BEGIN:STANDARD
TZOFFSETFROM:-0400
TZOFFSETTO:-0500
TZNAME:EST
DTSTART:20231105T060000
END:STANDARD
END:VTIMEZONE
BEGIN:VEVENT
DTSTART;TZID=America/New_York:20231006T181200
DTEND;TZID=America/New_York:20231008T190000
DTSTAMP:20260421T084448
CREATED:20230914T162513Z
LAST-MODIFIED:20231006T204630Z
UID:10003750-1696615920-1696791600@www.thecarlebachshul.org
SUMMARY:Shemini Atzeret & Simchat Torah Schedule 5784
DESCRIPTION:Friday\, October 6th – EREV SHEMINI ATZERET\nCandle Lighting: 6:12 PM\nMincha: 6:12 PM \nShabbat\, October 7th – SHEMINI ATZERET\nMorning Services:9:30 AM\nYizkor: 11:45 AM\nMusaf and Tefillat Geshem\, led by Yehuda Green\nNo Kiddush following services\nMincha: 6:10 PM \nShabbat\, October 7th – SIMCHAT TORAH EVE\nCandle Lighting  not before 7:09 PM\nMa’ariv: 7:00 PM\nKiddush: 7:20 PM\ndedicated to the Memory of Pnina Arbesfeld\, a hidden\, yet shining light. May her Neshama be bound in the bond of life. \nHakafot: 9:00 PM\nKiddush in middle of Hakafot – 11:00 PM\n(Priority admission to Members) \nSunday\, October 8th – SIMCHAT TORAH\nMorning Services: 10:00 AM\nFollowed by full Kiddush before Mussaf\nMincha: following Mussaf \n \n 
URL:https://www.thecarlebachshul.org/event/shemini-atzeret-schedule/
CATEGORIES:Holidays,Sukkot
ATTACH;FMTTYPE=image/jpeg:https://www.thecarlebachshul.org/wp-content/uploads/2016/02/Geshem-Banner.jpg
END:VEVENT
END:VCALENDAR