BEGIN:VCALENDAR
VERSION:2.0
PRODID:-//The Carlebach Shul - ECPv6.2.9//NONSGML v1.0//EN
CALSCALE:GREGORIAN
METHOD:PUBLISH
X-WR-CALNAME:The Carlebach Shul
X-ORIGINAL-URL:https://www.thecarlebachshul.org
X-WR-CALDESC:Events for The Carlebach Shul
REFRESH-INTERVAL;VALUE=DURATION:PT1H
X-Robots-Tag:noindex
X-PUBLISHED-TTL:PT1H
BEGIN:VTIMEZONE
TZID:America/New_York
BEGIN:DAYLIGHT
TZOFFSETFROM:-0500
TZOFFSETTO:-0400
TZNAME:EDT
DTSTART:20230312T070000
END:DAYLIGHT
BEGIN:STANDARD
TZOFFSETFROM:-0400
TZOFFSETTO:-0500
TZNAME:EST
DTSTART:20231105T060000
END:STANDARD
END:VTIMEZONE
BEGIN:VEVENT
DTSTART;TZID=America/New_York:20231027T174000
DTEND;TZID=America/New_York:20231028T184500
DTSTAMP:20260421T084447
CREATED:20230914T203441Z
LAST-MODIFIED:20231020T173704Z
UID:10003770-1698428400-1698518700@www.thecarlebachshul.org
SUMMARY:Friday – Shabbat Schedule 10/27- 10/28
DESCRIPTION:Friday Night 10/27\nShabbat Candle Lighting 5:40 PM\nMincha 5:40 PM\nKabbalat Shabbat: Yehuda Green\nDrasha: Rabbi Nehemia Polen \n  \nSaturday Morning 10/28\nShabbat Parshat Lech-Lecha\nMorning Services: 9:30 AM\nSof Z’man Kriyat Shema: (Gr”a) 10:00 AM\nDrasha: Rabbi Naftali Citron\nMussaf: Yehuda Green\nKiddush following services\nPre-Mincha Shiur: Rabbi Naftali Citron: 4:40 PM at the Shul\nMincha: 5:40 PM\nDrasha: Rabbi Naftali Citron
URL:https://www.thecarlebachshul.org/event/friday-shabbat-schedule-10-27-10-28/
ATTACH;FMTTYPE=image/jpeg:https://www.thecarlebachshul.org/wp-content/uploads/2019/01/Carlebach-HP.jpg
END:VEVENT
BEGIN:VEVENT
DTSTART;TZID=America/New_York:20231028T203000
DTEND;TZID=America/New_York:20231028T234500
DTSTAMP:20260421T084447
CREATED:20230927T213011Z
LAST-MODIFIED:20231026T215946Z
UID:10003774-1698525000-1698536700@www.thecarlebachshul.org
SUMMARY:Israel Solidarity Concert on the Occasion of Reb Shlomo's Yahrtzeit
DESCRIPTION:FINAL DEADLINE FOR PRE-SALES Friday\, 10/27 at 4:00 PM.\nTickets available at the door\, \nAll profits will go to UNITED HATZALAH. \n  \nClick below for Joey Newcomb performing and creating unity in subway station \nhttps://mishpacha.com/can-joey-newcombs-music-transform-a-gritty-subway-station/ \nClick Here to purchase your tickets
URL:https://www.thecarlebachshul.org/event/israel-solidarity-concert-on-the-occasion-of-reb-shlomos-yahrtzeit/
LOCATION:West Side Institutional Synagogue\, 120 West 76th Street\, New York\, NY\, United States
CATEGORIES:Yahrzeit23
ATTACH;FMTTYPE=image/jpeg:https://www.thecarlebachshul.org/wp-content/uploads/2023/09/CarlebachConcert2023_flyer-UPDATE.jpg
END:VEVENT
END:VCALENDAR