BEGIN:VCALENDAR
VERSION:2.0
PRODID:-//The Carlebach Shul - ECPv6.2.9//NONSGML v1.0//EN
CALSCALE:GREGORIAN
METHOD:PUBLISH
X-ORIGINAL-URL:https://www.thecarlebachshul.org
X-WR-CALDESC:Events for The Carlebach Shul
REFRESH-INTERVAL;VALUE=DURATION:PT1H
X-Robots-Tag:noindex
X-PUBLISHED-TTL:PT1H
BEGIN:VTIMEZONE
TZID:America/New_York
BEGIN:DAYLIGHT
TZOFFSETFROM:-0500
TZOFFSETTO:-0400
TZNAME:EDT
DTSTART:20230312T070000
END:DAYLIGHT
BEGIN:STANDARD
TZOFFSETFROM:-0400
TZOFFSETTO:-0500
TZNAME:EST
DTSTART:20231105T060000
END:STANDARD
END:VTIMEZONE
BEGIN:VEVENT
DTSTART;TZID=America/New_York:20231110T162400
DTEND;TZID=America/New_York:20231111T172500
DTSTAMP:20260421T064438
CREATED:20231012T163312Z
LAST-MODIFIED:20231108T203808Z
UID:10002819-1699633440-1699723500@www.thecarlebachshul.org
SUMMARY:Friday – Shabbat Schedule 11/10 - 11/11
DESCRIPTION:Friday Night 11/10\nShabbat Candle Lighting: 4:24 PM\nMincha 4:35 PM\nKabbalat Shabbat:\nDrasha: Rabbi Naftali Citron \nSaturday Morning 11/11\nShabbat Parshat Chaye Sarah\, Mevarchim\nMorning Services: 9:30 AM\nSof Z’man Kriyat Shema: (Gr”a) 9:08 AM\nDrasha: Rabbi Naftali Citron\nMusaf\nKiddush following services\nPre-Mincha Shiur: Rabbi Naftali Citron: 3:45 PM at the Shul\nMincha: 4:15 PM\nDrasha: Rabbi Naftali Citron
URL:https://www.thecarlebachshul.org/event/friday-shabbat-schedule-11-10-11-11/
ATTACH;FMTTYPE=image/jpeg:https://www.thecarlebachshul.org/wp-content/uploads/2019/01/Carlebach-HP.jpg
END:VEVENT
END:VCALENDAR