BEGIN:VCALENDAR
VERSION:2.0
PRODID:-//The Carlebach Shul - ECPv6.2.9//NONSGML v1.0//EN
CALSCALE:GREGORIAN
METHOD:PUBLISH
X-ORIGINAL-URL:https://www.thecarlebachshul.org
X-WR-CALDESC:Events for The Carlebach Shul
REFRESH-INTERVAL;VALUE=DURATION:PT1H
X-Robots-Tag:noindex
X-PUBLISHED-TTL:PT1H
BEGIN:VTIMEZONE
TZID:America/New_York
BEGIN:DAYLIGHT
TZOFFSETFROM:-0500
TZOFFSETTO:-0400
TZNAME:EDT
DTSTART:20230312T070000
END:DAYLIGHT
BEGIN:STANDARD
TZOFFSETFROM:-0400
TZOFFSETTO:-0500
TZNAME:EST
DTSTART:20231105T060000
END:STANDARD
END:VTIMEZONE
BEGIN:VEVENT
DTSTART;TZID=America/New_York:20231222T161300
DTEND;TZID=America/New_York:20231223T171800
DTSTAMP:20260421T070541
CREATED:20231102T190147Z
LAST-MODIFIED:20231219T213951Z
UID:10003876-1703261580-1703351880@www.thecarlebachshul.org
SUMMARY:Friday – Shabbat Schedule 12/22 - 12/23
DESCRIPTION:ASARA B’TEVET\nFast Begins: 6:05 AM \nFriday Night 12/22 \nShabbat Candle Lighting: 4:13 PM\nMincha 4:00 PM\nKabbalat Shabbat\nDrasha: Rabbi Naftali Citron\nFast of Asara B’Tevet Ends: 5:18 PM \nSaturday Morning 12/23\nShabbat Parshat Vayigash\nMorning Services: 9:30 AM\nSof Z’man Kriyat Shema: (Gr”a) 9:36 AM\nDrasha: Rabbi Naftali Citron\nMusaf\nKiddush following services\nPre-Mincha Shiur: Rabbi Naftali Citron: 3:35 PM at the Shul\nMincha: 4:05 PM\nDrasha: Rabbi Naftali Citron
URL:https://www.thecarlebachshul.org/event/friday-shabbat-schedule-12-22-12-23/
ATTACH;FMTTYPE=image/jpeg:https://www.thecarlebachshul.org/wp-content/uploads/2019/01/Carlebach-HP.jpg
END:VEVENT
END:VCALENDAR