BEGIN:VCALENDAR
VERSION:2.0
PRODID:-//The Carlebach Shul - ECPv6.2.9//NONSGML v1.0//EN
CALSCALE:GREGORIAN
METHOD:PUBLISH
X-WR-CALNAME:The Carlebach Shul
X-ORIGINAL-URL:https://www.thecarlebachshul.org
X-WR-CALDESC:Events for The Carlebach Shul
REFRESH-INTERVAL;VALUE=DURATION:PT1H
X-Robots-Tag:noindex
X-PUBLISHED-TTL:PT1H
BEGIN:VTIMEZONE
TZID:America/New_York
BEGIN:DAYLIGHT
TZOFFSETFROM:-0500
TZOFFSETTO:-0400
TZNAME:EDT
DTSTART:20250309T070000
END:DAYLIGHT
BEGIN:STANDARD
TZOFFSETFROM:-0400
TZOFFSETTO:-0500
TZNAME:EST
DTSTART:20251102T060000
END:STANDARD
END:VTIMEZONE
BEGIN:VEVENT
DTSTART;TZID=America/New_York:20250425T192800
DTEND;TZID=America/New_York:20250426T202800
DTSTAMP:20260420T195236
CREATED:20250204T212324Z
LAST-MODIFIED:20250422T192626Z
UID:10010470-1745609280-1745699280@www.thecarlebachshul.org
SUMMARY:Friday – Shabbat Schedule 04/25- 04/26
DESCRIPTION:Friday Night 04/25\nShabbat Candle Lighting: 7:28 PM\nMincha 7:28 PM\nKabbalat Shabbat\nDrasha: Rabbi Naftali Citron \nSaturday Morning 04/26\nShabbat Parshat Shemini\nParsha Q&A Shiur: 9:00 AM\nMorning Services: 9:30 AM\nSof Z’man Kriyat Shema: (Gr”a) 9:28 AM\nDrasha: Rabbi Naftali Citron\nMusaf\nKiddush following services\nPre-Mincha Shiur: Rabbi Naftali Citron: 6:20 PM\nZohar and Maimonides: A comparison of the Zohar to the Rambam’s Mishnah Torah\nMincha: 7:20 PM
URL:https://www.thecarlebachshul.org/event/friday-shabbat-schedule-04-25-04-26/
CATEGORIES:Shabbat
ATTACH;FMTTYPE=image/jpeg:https://www.thecarlebachshul.org/wp-content/uploads/2019/01/Carlebach-HP.jpg
END:VEVENT
END:VCALENDAR