BEGIN:VCALENDAR
VERSION:2.0
PRODID:-//The Carlebach Shul - ECPv6.2.9//NONSGML v1.0//EN
CALSCALE:GREGORIAN
METHOD:PUBLISH
X-ORIGINAL-URL:https://www.thecarlebachshul.org
X-WR-CALDESC:Events for The Carlebach Shul
REFRESH-INTERVAL;VALUE=DURATION:PT1H
X-Robots-Tag:noindex
X-PUBLISHED-TTL:PT1H
BEGIN:VTIMEZONE
TZID:America/New_York
BEGIN:DAYLIGHT
TZOFFSETFROM:-0500
TZOFFSETTO:-0400
TZNAME:EDT
DTSTART:20250309T070000
END:DAYLIGHT
BEGIN:STANDARD
TZOFFSETFROM:-0400
TZOFFSETTO:-0500
TZNAME:EST
DTSTART:20251102T060000
END:STANDARD
END:VTIMEZONE
BEGIN:VEVENT
DTSTART;TZID=America/New_York:20250509T194200
DTEND;TZID=America/New_York:20250510T204200
DTSTAMP:20260420T161728
CREATED:20250204T213937Z
LAST-MODIFIED:20250429T154208Z
UID:10010472-1746819720-1746909720@www.thecarlebachshul.org
SUMMARY:Friday – Shabbat Schedule 05/09- 05/10
DESCRIPTION:Friday Night 05/09\nShabbat Candle Lighting: 7:42 PM\nMincha 7:42 PM\nKabbalat Shabbat\nDrasha: Rabbi Naftali Citron \nSaturday Morning 05/10\nShabbat Parshat Acharei Mot-Kedoshim\nParsha Q&A Shiur: 9:00 AM\nMorning Services: 9:30 AM\nSof Z’man Kriyat Shema: (Gr”a) 9:18 AM\nDrasha: Rabbi Naftali Citron\nMusaf\nKiddush following services\nPre-Mincha Shiur: Rabbi Naftali Citron: 6:35 PM\nZohar and Maimonides: A comparison of the Zohar to the Rambam’s Mishnah Torah\nMincha: 7:35 PM
URL:https://www.thecarlebachshul.org/event/friday-shabbat-schedule-05-09-05-10/
CATEGORIES:Shabbat
ATTACH;FMTTYPE=image/jpeg:https://www.thecarlebachshul.org/wp-content/uploads/2019/01/Carlebach-HP.jpg
END:VEVENT
END:VCALENDAR