BEGIN:VCALENDAR
VERSION:2.0
PRODID:-//The Carlebach Shul - ECPv6.2.9//NONSGML v1.0//EN
CALSCALE:GREGORIAN
METHOD:PUBLISH
X-ORIGINAL-URL:https://www.thecarlebachshul.org
X-WR-CALDESC:Events for The Carlebach Shul
REFRESH-INTERVAL;VALUE=DURATION:PT1H
X-Robots-Tag:noindex
X-PUBLISHED-TTL:PT1H
BEGIN:VTIMEZONE
TZID:America/New_York
BEGIN:DAYLIGHT
TZOFFSETFROM:-0500
TZOFFSETTO:-0400
TZNAME:EDT
DTSTART:20250309T070000
END:DAYLIGHT
BEGIN:STANDARD
TZOFFSETFROM:-0400
TZOFFSETTO:-0500
TZNAME:EST
DTSTART:20251102T060000
END:STANDARD
END:VTIMEZONE
BEGIN:VEVENT
DTSTART;TZID=America/New_York:20250516T193500
DTEND;TZID=America/New_York:20250517T203500
DTSTAMP:20260420T161635
CREATED:20250204T214129Z
LAST-MODIFIED:20250516T161711Z
UID:10010474-1747424100-1747514100@www.thecarlebachshul.org
SUMMARY:Friday – Shabbat Schedule 05/16- 05/17
DESCRIPTION:Friday Night 05/16\nShabbat Candle Lighting: 7:49 PM\nMincha 7:49 PM\nKabbalat Shabbat: Yehuda Green\nDrasha: Dr. Raphael Kellman\nDinner follows services – Click here to reserve \nSaturday Morning 05/17\nShabbat Parshat Emor\nParsha Q&A Shiur: 9:00 AM\nMorning Services: 9:30 AM\nSof Z’man Kriyat Shema: (Gr”a) 9:15 AM\nDrasha: Rabbi Naftali Citron\nMusaf: Yehuda Green\nKiddush following services\nPre-Mincha Shiur: Rabbi Naftali Citron: 6:40 PM\nMincha: 7:40 PM
URL:https://www.thecarlebachshul.org/event/friday-shabbat-schedule-05-16-05-17/
CATEGORIES:Shabbat
ATTACH;FMTTYPE=image/jpeg:https://www.thecarlebachshul.org/wp-content/uploads/2019/01/Carlebach-HP.jpg
END:VEVENT
BEGIN:VEVENT
DTSTART;TZID=America/New_York:20250516T194900
DTEND;TZID=America/New_York:20250516T233000
DTSTAMP:20260420T161635
CREATED:20250422T140639Z
LAST-MODIFIED:20250513T201125Z
UID:10012148-1747424940-1747438200@www.thecarlebachshul.org
SUMMARY:Lag Ba'Omer Shabbat Dinner with Rabbi Naftali Citron\, Dr. Raphael Kellman\, and Yehuda Green
DESCRIPTION:Celebrating the Rashbi & the Zohar\n$50 for members\, $60 for non-members\, with a $10 discount if reserved before Wednesday\, May 14th. \nClick Here to Reserve\n 
URL:https://www.thecarlebachshul.org/event/0516-lag-baomer-friday-night-dinner/
CATEGORIES:Shabbat
END:VEVENT
END:VCALENDAR