BEGIN:VCALENDAR
VERSION:2.0
PRODID:-//The Carlebach Shul - ECPv6.2.9//NONSGML v1.0//EN
CALSCALE:GREGORIAN
METHOD:PUBLISH
X-WR-CALNAME:The Carlebach Shul
X-ORIGINAL-URL:https://www.thecarlebachshul.org
X-WR-CALDESC:Events for The Carlebach Shul
REFRESH-INTERVAL;VALUE=DURATION:PT1H
X-Robots-Tag:noindex
X-PUBLISHED-TTL:PT1H
BEGIN:VTIMEZONE
TZID:America/New_York
BEGIN:DAYLIGHT
TZOFFSETFROM:-0500
TZOFFSETTO:-0400
TZNAME:EDT
DTSTART:20250309T070000
END:DAYLIGHT
BEGIN:STANDARD
TZOFFSETFROM:-0400
TZOFFSETTO:-0500
TZNAME:EST
DTSTART:20251102T060000
END:STANDARD
END:VTIMEZONE
BEGIN:VEVENT
DTSTART;TZID=America/New_York:20250601T200000
DTEND;TZID=America/New_York:20250603T211900
DTSTAMP:20260420T161450
CREATED:20250516T141848Z
LAST-MODIFIED:20250522T192748Z
UID:10012227-1748808000-1748985540@www.thecarlebachshul.org
SUMMARY:Shavuot Schedule 2025
DESCRIPTION:Shavuot 5785 – with Rabbi Naftali Citron\, Rabbi Dr. Nehemia Polen\, & Yehuda Green \nSunday Night\, June 1st\nCandle Lighting 8:03 PM\nMincha  8:03 PM\nDrasha: Rabbi Dr. Nehemia Polen\nMaariv: Yehuda Green\nYom Tov dinner follows services: Click here to reserve \nTikkun Leil Shavuot: 11:00 PM – 5:00 AM \nMonday\, June 2nd – 1st day of Shavuot\nMorning Services 10:00 AM\nSof Z’man Kriyat Shema 9:10 AM\nTorah reading\nMusaf: Yehuda Green\nCheesecake Kiddush following services\nPre-Mincha Shiur: 7:15 PM – Rabbi Dr. Nehemia Polen & Rabbi Naftali Citron\nMincha: 8:00 PM\nDrasha : Rabbi Dr. Nehemia Polen\nCandle lighting not before 9:05 PM\nMa’ariv: Yehuda Green\nYom Tov dinner follows services: Click here to reserve \nTuesday\, June 3rd – 2nd day Shavuot\nMorning Services: 9:30 AM\nSof Z’man Kriyat Shema: (Gr”a) 9:10 AM\nTorah reading\nDrasha: Rabbi Dr. Nehemia Polen\nYizkor: 11:45 AM\nMusaf:\nPre-Mincha Shiur 7:30 PM\nMincha: 8:05 PM
URL:https://www.thecarlebachshul.org/event/shavuot-schedule-2025/
CATEGORIES:Holidays
ATTACH;FMTTYPE=image/jpeg:https://www.thecarlebachshul.org/wp-content/uploads/2018/05/HP_Shavuot-Banner.jpg
END:VEVENT
BEGIN:VEVENT
DTSTART;TZID=America/New_York:20250601T204500
DTEND;TZID=America/New_York:20250602T230000
DTSTAMP:20260420T161450
CREATED:20250509T152103Z
LAST-MODIFIED:20250601T155125Z
UID:10012152-1748810700-1748905200@www.thecarlebachshul.org
SUMMARY:Shavuot Dinners  with Rabbi Dr. Nehemia Polen\, Rabbi Naftali Citron\, & Yehuda Green
DESCRIPTION:Sunday night\, June 1st and Monday night\, June 2nd\nReservations are now closed for Yom Tov Dinner\nTikkun Leil Shavuot follows 1st night dinner – Click here for schedule. \nNehemia Polen\, professor of Jewish thought\, director of the Hasidic Text Institute at Boston’s Hebrew College\, and an ordained rabbi\, is the author of The Holy Fire: The Teachings of Rabbi Kalonymus Shapira\, the Rebbe of the Warsaw Ghetto. He is a contributing commentator to My People’s Prayer Book\, a multivolume Siddur incorporating diverse perspectives on the liturgy. A recipient of the National Jewish Book Award\, Nehemia has studied with and served as a teaching fellow for Elie Wiesel and was a visiting scholar at the Hebrew University in Jerusalem. He co-authored Filling Words with Light: Hasidic and Mystical Reflections on Jewish Prayer with Rabbi Lawrence Kushner. His recent book\, Stop\, Look\, Listen\, reintroduces Shabbos as a totally immersive spiritual experience\, based on the teachings of the great Chassidic masters. \nThe Carlebach Shul strives to provide a beautiful experience for everyone participating in our Shabbat or Yom Tov dinners. A typical dinner commences approximately 2 hours after Mincha begins. These dinners provide a unique opportunity for both members and visitors to celebrate Shabbat together in a lively and inviting setting. Attendees can expect delicious food\, lots of singing\, and inspiring words of Torah from the world-renowned scholars-in-residence who join us for these dinners.
URL:https://www.thecarlebachshul.org/event/shavuot-dinners-with-rabbi-dr-nehemia-polen-and-rabbi-naftali-citron/
CATEGORIES:Holidays
END:VEVENT
END:VCALENDAR