BEGIN:VCALENDAR
VERSION:2.0
PRODID:-//The Carlebach Shul - ECPv6.2.9//NONSGML v1.0//EN
CALSCALE:GREGORIAN
METHOD:PUBLISH
X-ORIGINAL-URL:https://www.thecarlebachshul.org
X-WR-CALDESC:Events for The Carlebach Shul
REFRESH-INTERVAL;VALUE=DURATION:PT1H
X-Robots-Tag:noindex
X-PUBLISHED-TTL:PT1H
BEGIN:VTIMEZONE
TZID:America/New_York
BEGIN:DAYLIGHT
TZOFFSETFROM:-0500
TZOFFSETTO:-0400
TZNAME:EDT
DTSTART:20250309T070000
END:DAYLIGHT
BEGIN:STANDARD
TZOFFSETFROM:-0400
TZOFFSETTO:-0500
TZNAME:EST
DTSTART:20251102T060000
END:STANDARD
END:VTIMEZONE
BEGIN:VEVENT
DTSTART;TZID=America/New_York:20250802T200900
DTEND;TZID=America/New_York:20250803T204700
DTSTAMP:20260420T111445
CREATED:20250718T181805Z
LAST-MODIFIED:20250729T144439Z
UID:10019136-1754165340-1754254020@www.thecarlebachshul.org
SUMMARY:Tisha B’Av Schedule 2025
DESCRIPTION:Tisha B’Av 2025 Schedule\nTisha B’Av is a sad day in the history of the Jewish people. On this day\, the Holy Temple in Jerusalem was destroyed—twice. The first Holy Temple was destroyed by the Babylonian Empire in 423 BCE. It was a devastating blow to the Jewish people\, but we survived and eventually rebuilt the Temple. Then in 69 CE\, on the very same day on the Jewish calendar\, the Roman Empire destroyed our second Holy Temple. \nSaturday\,  August 2nd:\nMincha: 1:45 PM\nNo Food or Drink after: 8:09 PM\nShabbat ends: 8:56 PM\nMaariv\, followed by Eicha: 9:30 PM\nAfter Eicha there will be Songs of Reb Shlomo appropriate for Tisha B’av led by Yehuda Green and Rabbi Naftali Citron with special guests. \nSunday\, August 3rd:\nShacharit: 10:00 AM\nChatzot: 1:01 PM\nMincha: 2:45 PM\nProgram: 3:30 PM\nMaariv: 8:40 PM\nFast Ends: 8:47 PM \nFor a list of halachot when Tisha B’Av falls on Saturday night/Sunday\, click here
URL:https://www.thecarlebachshul.org/event/tisha-bav-schedule-2025/
CATEGORIES:Events,Holidays
ATTACH;FMTTYPE=image/jpeg:https://www.thecarlebachshul.org/wp-content/uploads/2018/07/ninth-of-av-9-lg.jpg
END:VEVENT
BEGIN:VEVENT
DTSTART;TZID=America/New_York:20250803T153000
DTEND;TZID=America/New_York:20250803T203000
DTSTAMP:20260420T111445
CREATED:20250722T211606Z
LAST-MODIFIED:20250725T141537Z
UID:10019141-1754235000-1754253000@www.thecarlebachshul.org
SUMMARY:Tisha B’Av Program 2025
DESCRIPTION:Tisha B’Av 2025 Program\n3:30 PM – 8:30 PM  at The Carlebach Shul\, 305 West 79th Street \nWhy are Many People Still Blaming Jews for the World’s Problems?  \nJews in the Medieval Period were often blamed for being responsible for diseases\, well poisoning\, blood libels\, and various misfortunes. Today\, Jews are attacked on both sides\, as communists and leftists by the Right\, and as colonizers and racists by the Left. Many conspiracy theories are attributed to Jews. Israel is held to a standard that rewards terrorist goals by constantly criticizing Israel for defending itself\, and that in turn encourages further violence and its reprisals. \nFilms: \nFrom Hell to Hell is the award-winning film that centers on the Kielce Pogrom in Poland on July 4\, 1946. Forty-two Jews were murdered and 50 others wounded in the violence that was sparked by a false accusation that Jews had kidnapped a Polish child\, a resurgence of the blood libel myth.  \nThe Truce is a Martin Scorsese film about Primo Levi’s last days at Auschwitz and the stark challenges he faced to return home to Italy. \nADL clips will look at contemporary antisemitism and anti-Israel protests. \nA discussion will follow until the fast ends at nightfall on August 3rd.  A light break-fast will be available. \nProgram Chaired by Historian Dr. Karen Sutton\, PhD \nKaren Friedman Sutton received a Fulbright Award in 1987 for research in German/Lithuanian Collaboration in the Final Solution 1941 – 1944. She received a PhD in 1995 from the University of Illinois and subsequently became Director of the Anti-Defamation League’s Braun Holocaust Institute. In 1995\, she researched Lithuanian archives in Vilnius that had become open in the post-Soviet era. She is a Professor of History at Touro College.
URL:https://www.thecarlebachshul.org/event/tisha-bav-program-2025/
CATEGORIES:Events,Holidays
END:VEVENT
END:VCALENDAR