BEGIN:VCALENDAR
VERSION:2.0
PRODID:-//The Carlebach Shul - ECPv6.2.9//NONSGML v1.0//EN
CALSCALE:GREGORIAN
METHOD:PUBLISH
X-ORIGINAL-URL:https://www.thecarlebachshul.org
X-WR-CALDESC:Events for The Carlebach Shul
REFRESH-INTERVAL;VALUE=DURATION:PT1H
X-Robots-Tag:noindex
X-PUBLISHED-TTL:PT1H
BEGIN:VTIMEZONE
TZID:America/New_York
BEGIN:DAYLIGHT
TZOFFSETFROM:-0500
TZOFFSETTO:-0400
TZNAME:EDT
DTSTART:20250309T070000
END:DAYLIGHT
BEGIN:STANDARD
TZOFFSETFROM:-0400
TZOFFSETTO:-0500
TZNAME:EST
DTSTART:20251102T060000
END:STANDARD
END:VTIMEZONE
BEGIN:VEVENT
DTSTART;TZID=America/New_York:20251001T181900
DTEND;TZID=America/New_York:20251002T193000
DTSTAMP:20260420T080507
CREATED:20250617T203033Z
LAST-MODIFIED:20250930T193224Z
UID:10018556-1759342740-1759433400@www.thecarlebachshul.org
SUMMARY:Yom Kippur 5786
DESCRIPTION:Yom Kippur 5786\nWednesday Night\, October 1st – Thursday\, October 2nd\nSCHEDULE OF SERVICES\nRabbi Naftali Citron    Chazzan Yehuda Green\nBal Shacharit Michael Most\nEREV YOM KIPPUR – Wednesday\, October 1st\nMincha 2:00 PM\nCandle lighting 6:20 PM\nKol Nidrei 6:30 PM\n  \nYOM KIPPUR DAY – Thursday\, October 2nd\nShacharit: 9:00 AM\nYizkor 12:45 PM\nMincha 4:20 PM\nNeila: 5:45 PM\nFast Ends: 7:17 PM
URL:https://www.thecarlebachshul.org/event/yom-kippur-5786/
CATEGORIES:High Holidays 2025,Yom Kippur
END:VEVENT
END:VCALENDAR