BEGIN:VCALENDAR
VERSION:2.0
PRODID:-//The Carlebach Shul - ECPv6.2.9//NONSGML v1.0//EN
CALSCALE:GREGORIAN
METHOD:PUBLISH
X-WR-CALNAME:The Carlebach Shul
X-ORIGINAL-URL:https://www.thecarlebachshul.org
X-WR-CALDESC:Events for The Carlebach Shul
REFRESH-INTERVAL;VALUE=DURATION:PT1H
X-Robots-Tag:noindex
X-PUBLISHED-TTL:PT1H
BEGIN:VTIMEZONE
TZID:America/New_York
BEGIN:DAYLIGHT
TZOFFSETFROM:-0500
TZOFFSETTO:-0400
TZNAME:EDT
DTSTART:20250309T070000
END:DAYLIGHT
BEGIN:STANDARD
TZOFFSETFROM:-0400
TZOFFSETTO:-0500
TZNAME:EST
DTSTART:20251102T060000
END:STANDARD
END:VTIMEZONE
BEGIN:VEVENT
DTSTART;TZID=America/New_York:20251006T181100
DTEND;TZID=America/New_York:20251008T190600
DTSTAMP:20260420T080334
CREATED:20250618T135329Z
LAST-MODIFIED:20250929T191114Z
UID:10018564-1759774260-1759950360@www.thecarlebachshul.org
SUMMARY:Sukkot 2025 Day 1 and Day 2 Schedule
DESCRIPTION:First Days Sukkot 5786 \nMonday night\, October 6th – Wednesday\, October 8th\nMonday night\, October 6th – EREV SUKKOT \nCandle Lighting 6:11 PM\nMincha 6:15 PM\nFollowed by dinner in the Sukkah.\nOur Sukkot dinner has sold out at this time. If you wish to be placed on a waiting list\, please E-mail the Shul office. \nTuesday\, October 7th – 1ST DAY SUKKOT\nMorning Services 9:30 AM\nMussaf: Yehuda Green\nCake & Wine Kiddush following services\nMincha  6:20 PM\nCandle Lighting not before 7:08 PM\nMaariv 7:08 PM \nWednesday\, October 8th – 2ND DAY SUKKOT\nMorning Services 9:30 AM\nMussaf: Yehuda Green\nCake & Wine Kiddush following services\nMincha  5:55 PM
URL:https://www.thecarlebachshul.org/event/sukkot-2025-day-1-and-day-2-schedule/
CATEGORIES:Holidays,Sukkot 2025
END:VEVENT
BEGIN:VEVENT
DTSTART;TZID=America/New_York:20251006T200000
DTEND;TZID=America/New_York:20251006T230000
DTSTAMP:20260420T080334
CREATED:20250926T155709Z
LAST-MODIFIED:20250926T155709Z
UID:10020538-1759780800-1759791600@www.thecarlebachshul.org
SUMMARY:First Night Sukkot Dinner 2025
DESCRIPTION:Monday night\, October 6th\nCandle Lighting 6:11 PM\nMincha 6:15 PM\nFollowed by dinner in the Sukkah.\nDue to limited space\, only the first 10 people to register will be able to attend.\n$50 Members\, $60 Non-Members \nClick Here to Reserve\na  5:55 PM
URL:https://www.thecarlebachshul.org/event/first-night-sukkot-dinner-2025/
CATEGORIES:Holidays,Sukkot 2025
END:VEVENT
END:VCALENDAR