BEGIN:VCALENDAR
VERSION:2.0
PRODID:-//The Carlebach Shul - ECPv6.2.9//NONSGML v1.0//EN
CALSCALE:GREGORIAN
METHOD:PUBLISH
X-ORIGINAL-URL:https://www.thecarlebachshul.org
X-WR-CALDESC:Events for The Carlebach Shul
REFRESH-INTERVAL;VALUE=DURATION:PT1H
X-Robots-Tag:noindex
X-PUBLISHED-TTL:PT1H
BEGIN:VTIMEZONE
TZID:America/New_York
BEGIN:DAYLIGHT
TZOFFSETFROM:-0500
TZOFFSETTO:-0400
TZNAME:EDT
DTSTART:20250309T070000
END:DAYLIGHT
BEGIN:STANDARD
TZOFFSETFROM:-0400
TZOFFSETTO:-0500
TZNAME:EST
DTSTART:20251102T060000
END:STANDARD
END:VTIMEZONE
BEGIN:VEVENT
DTSTART;TZID=America/New_York:20251010T180400
DTEND;TZID=America/New_York:20251011T190200
DTSTAMP:20260420T080534
CREATED:20250618T141055Z
LAST-MODIFIED:20251006T183349Z
UID:10018568-1760119440-1760209320@www.thecarlebachshul.org
SUMMARY:Friday – Shabbat Schedule 10/10 - 10/11
DESCRIPTION:Friday Night 10/10\nShabbat Candle Lighting: 6:04 PM\nMincha 6:10 PM\nKabbalat Shabbat: Yehuda Green\nDrasha: Rabbi Eliyahu Citron \nSaturday Morning 10/11\nShabbat Chol HaMoed Sukkot\nParsha Q&A Shiur: No session this week\nMorning Services: 9:30 AM\nSof Z’man Kriyat Shema: (Gr”a) 9:53 AM\nDrasha: Rabbi Eliyahu Citron\nMusaf:Yehuda Green\nKiddush following services\nPre-Mincha Shiur: Rabbi Naftali Citron: 4:55 PM\nMincha: 5:55 PM
URL:https://www.thecarlebachshul.org/event/friday-shabbat-schedule-10-10-10-11/
CATEGORIES:Shabbat
ATTACH;FMTTYPE=image/jpeg:https://www.thecarlebachshul.org/wp-content/uploads/2019/01/Carlebach-HP.jpg
END:VEVENT
BEGIN:VEVENT
DTSTART;TZID=America/New_York:20251010T180400
DTEND;TZID=America/New_York:20251011T191500
DTSTAMP:20260420T080534
CREATED:20251009T134742Z
LAST-MODIFIED:20251009T190156Z
UID:10020541-1760119440-1760210100@www.thecarlebachshul.org
SUMMARY:Scholar-in-Residence Rabbi Eliyahu Citron
DESCRIPTION:Please join us this Shabbat Chol HaMoed Sukkot in welcoming Rabbi Eliyahu Citron\, speaking at Kabbalat Shabbat services\, and Shacharit.\nHis topic will be: “The Jewish Spark on Campus: Where’s the fire?”\nClick Here to read more about Rabbi Eliyahu Citron\nFor our complete Shabbat Schedule\, click here.
URL:https://www.thecarlebachshul.org/event/scholar-in-residence-rabbi-eliyahu-citron/
CATEGORIES:Scholar-In-Residence,Shabbat
END:VEVENT
END:VCALENDAR