BEGIN:VCALENDAR
VERSION:2.0
PRODID:-//The Carlebach Shul - ECPv6.2.9//NONSGML v1.0//EN
CALSCALE:GREGORIAN
METHOD:PUBLISH
X-WR-CALNAME:The Carlebach Shul
X-ORIGINAL-URL:https://www.thecarlebachshul.org
X-WR-CALDESC:Events for The Carlebach Shul
REFRESH-INTERVAL;VALUE=DURATION:PT1H
X-Robots-Tag:noindex
X-PUBLISHED-TTL:PT1H
BEGIN:VTIMEZONE
TZID:America/New_York
BEGIN:DAYLIGHT
TZOFFSETFROM:-0500
TZOFFSETTO:-0400
TZNAME:EDT
DTSTART:20250309T070000
END:DAYLIGHT
BEGIN:STANDARD
TZOFFSETFROM:-0400
TZOFFSETTO:-0500
TZNAME:EST
DTSTART:20251102T060000
END:STANDARD
END:VTIMEZONE
BEGIN:VEVENT
DTSTART;TZID=America/New_York:20251024T174400
DTEND;TZID=America/New_York:20251025T184200
DTSTAMP:20260420T074222
CREATED:20250618T141535Z
LAST-MODIFIED:20251024T134343Z
UID:10018571-1761327840-1761417720@www.thecarlebachshul.org
SUMMARY:Friday – Shabbat Schedule 10/24- 10/25
DESCRIPTION:Friday Night 10/24\nShabbat Candle Lighting: 5:44 PM\nMincha 5:50 PM\nKabbalat Shabbat: Yehuda Green\nDrasha \nSaturday Morning 10/25\nShabbat Parshat Noach\nParsha Q&A Shiur: 9:00 AM\nMorning Services: 9:30 AM\nSof Z’man Kriyat Shema: (Gr”a) 9:58 AM\nDrasha\nMusaf: Yehuda Green\nKiddush following services; sponsored by Janet and Stan Broome in memory of their parents Evelyn and Sidney Broome\nPre-Mincha Shiur: Dr. Raphael Kellman: 4:35 PM\nMincha: 5:35 PM\nfollowed by Seudah Shelisheet
URL:https://www.thecarlebachshul.org/event/friday-shabbat-schedule-10-24-10-25/
CATEGORIES:Shabbat
ATTACH;FMTTYPE=image/jpeg:https://www.thecarlebachshul.org/wp-content/uploads/2019/01/Carlebach-HP.jpg
END:VEVENT
END:VCALENDAR