BEGIN:VCALENDAR
VERSION:2.0
PRODID:-//The Carlebach Shul - ECPv6.2.9//NONSGML v1.0//EN
CALSCALE:GREGORIAN
METHOD:PUBLISH
X-WR-CALNAME:The Carlebach Shul
X-ORIGINAL-URL:https://www.thecarlebachshul.org
X-WR-CALDESC:Events for The Carlebach Shul
REFRESH-INTERVAL;VALUE=DURATION:PT1H
X-Robots-Tag:noindex
X-PUBLISHED-TTL:PT1H
BEGIN:VTIMEZONE
TZID:America/New_York
BEGIN:DAYLIGHT
TZOFFSETFROM:-0500
TZOFFSETTO:-0400
TZNAME:EDT
DTSTART:20260308T070000
END:DAYLIGHT
BEGIN:STANDARD
TZOFFSETFROM:-0400
TZOFFSETTO:-0500
TZNAME:EST
DTSTART:20261101T060000
END:STANDARD
END:VTIMEZONE
BEGIN:VEVENT
DTSTART;TZID=America/New_York:20260609T180000
DTEND;TZID=America/New_York:20260609T213000
DTSTAMP:20260421T014127
CREATED:20260410T170927Z
LAST-MODIFIED:20260419T220611Z
UID:10021366-1781028000-1781040600@www.thecarlebachshul.org
SUMMARY:The Carlebach Shul's Twenty-Fourth Annual Dinner
DESCRIPTION:Honoring Rebbetzin Hadassa Carlebach on the joyous occasion of her 100th year.\nPlease see the categories below: \nPlatinum Builder: $50\,000\nBuilder: $18\,000\nBenefactor: $10\,000 (includes 1 Table\, up to 12 seats)\nSustainer: $5\,400 (includes 1 Farbrengen Table\, up to 8 seats)\nGuardian: $3\,600*\nRedeemer: $1\,800*\nPatron: $972**\nChevra: $654**\nSupporter: $360***\nContributor: $180***\nFriend: $72*** \n*All donations $1\,800 and above include appropriate listing + two reservations.\n** Donations of $654 and $972 include appropriate listing + one reservation\nIf you are entitled to attend but cannot\, please let us know\n***Donations under $654 entitle you to a listing in the scroll of honor but do not include a reservation \nTo donate via Zelle: info@thecarlebachshul.org \nThe fair market value of the dinner is $500 per person.\nThe remainder of your contribution is tax-deductible to the extent permitted by applicable law \n  \n\n\n	Platinum Builder $50\,000\n	$50\,000.00\nAdd to cart\n\n	Builder $18\,000\n	$18\,000.00\nAdd to cart\n\n	Benefactor $10\,000 (Includes 1 Table\, up to 12 seats)\n	$10\,000.00\nAdd to cart\n\n	Sustainer $5.400 (Includes up to 8 seats)\n	$5\,400.00\nAdd to cart\n\n	Guardian $3\,600\n	$3\,600.00\nAdd to cart\n\n	Redeemer $1\,800 – Includes 2 tickets\n	$1\,800.00\nAdd to cart\n\n	Patron $972 (Includes 1 Ticket)\n	$972.00\nAdd to cart\n\n	Chevra $654  (Includes 1 ticket)\n	$654.00\nAdd to cart\n\n	Supporter $360\n	$360.00\nAdd to cart\n\n	Contributor $180\n	$180.00\nAdd to cart\n\n	Friend $72\n	$72.00\nAdd to cart
URL:https://www.thecarlebachshul.org/event/the-carlebach-shuls-twenty-fourth-annual-dinner/
CATEGORIES:Annual Dinner 2026
END:VEVENT
END:VCALENDAR