BEGIN:VCALENDAR
VERSION:2.0
PRODID:-//The Carlebach Shul - ECPv6.2.9//NONSGML v1.0//EN
CALSCALE:GREGORIAN
METHOD:PUBLISH
X-ORIGINAL-URL:https://www.thecarlebachshul.org
X-WR-CALDESC:Events for The Carlebach Shul
REFRESH-INTERVAL;VALUE=DURATION:PT1H
X-Robots-Tag:noindex
X-PUBLISHED-TTL:PT1H
BEGIN:VTIMEZONE
TZID:America/New_York
BEGIN:DAYLIGHT
TZOFFSETFROM:-0500
TZOFFSETTO:-0400
TZNAME:EDT
DTSTART:20180311T070000
END:DAYLIGHT
BEGIN:STANDARD
TZOFFSETFROM:-0400
TZOFFSETTO:-0500
TZNAME:EST
DTSTART:20181104T060000
END:STANDARD
END:VTIMEZONE
BEGIN:VEVENT
DTSTART;TZID=America/New_York:20180501T190000
DTEND;TZID=America/New_York:20180501T210000
DTSTAMP:20260423T145425
CREATED:20180406T061046Z
LAST-MODIFIED:20180406T232912Z
UID:10000445-1525201200-1525208400@www.thecarlebachshul.org
SUMMARY:A Touch of Kabbalah & A Taste of Torah with Rabbi Meir Fund
DESCRIPTION:
URL:https://www.thecarlebachshul.org/event/a-touch-of-kabbalah-a-taste-of-torah-with-rabbi-meir-fund-5-1/
LOCATION:305 W 79th St\, New York\, NY\, 10024
CATEGORIES:Events
ATTACH;FMTTYPE=image/jpeg:https://www.thecarlebachshul.org/wp-content/uploads/2018/04/3-myths-about-kabbalah-1-600x400.jpg
END:VEVENT
BEGIN:VEVENT
DTSTART;TZID=America/New_York:20180501T200000
DTEND;TZID=America/New_York:20180501T210000
DTSTAMP:20260423T145425
CREATED:20180406T062122Z
LAST-MODIFIED:20180409T040224Z
UID:10000446-1525204800-1525208400@www.thecarlebachshul.org
SUMMARY:A Touch of Kabbalah & A Taste of Torah with Rabbi Meir Fund
DESCRIPTION:
URL:https://www.thecarlebachshul.org/event/a-touch-of-kabbalah-a-taste-of-torah-with-rabbi-meir-fund-5-1-1/
LOCATION:305 W 79th St\, New York\, NY\, 10024
CATEGORIES:Events
ATTACH;FMTTYPE=image/jpeg:https://www.thecarlebachshul.org/wp-content/uploads/2018/04/3-myths-about-kabbalah-1-600x400.jpg
END:VEVENT
BEGIN:VEVENT
DTSTART;TZID=America/New_York:20180501T212000
DTEND;TZID=America/New_York:20180501T220000
DTSTAMP:20260423T145425
CREATED:20180406T053141Z
LAST-MODIFIED:20180406T053141Z
UID:10000443-1525209600-1525212000@www.thecarlebachshul.org
SUMMARY:Daf Yomi
DESCRIPTION:
URL:https://www.thecarlebachshul.org/event/daf-yomi-5-1/
LOCATION:305 W 79th St\, New York\, NY\, 10024
CATEGORIES:Daf Yomi,Events
ATTACH;FMTTYPE=image/jpeg:https://www.thecarlebachshul.org/wp-content/uploads/2018/04/daf-yomi.jpg
END:VEVENT
BEGIN:VEVENT
DTSTART;TZID=America/New_York:20180501T220000
DTEND;TZID=America/New_York:20180501T221500
DTSTAMP:20260423T145425
CREATED:20180406T052046Z
LAST-MODIFIED:20180409T031433Z
UID:10000440-1525212000-1525212900@www.thecarlebachshul.org
SUMMARY:Ma’ariv Service
DESCRIPTION:
URL:https://www.thecarlebachshul.org/event/maariv-service-5-1/
LOCATION:305 W 79th St\, New York\, NY\, 10024
CATEGORIES:Events
ATTACH;FMTTYPE=image/jpeg:https://www.thecarlebachshul.org/wp-content/uploads/2018/04/images-5-1-600x400.jpeg
END:VEVENT
BEGIN:VEVENT
DTSTART;TZID=America/New_York:20180502T193000
DTEND;TZID=America/New_York:20180502T230000
DTSTAMP:20260423T145425
CREATED:20180409T025049Z
LAST-MODIFIED:20180409T025300Z
UID:10000457-1525289400-1525302000@www.thecarlebachshul.org
SUMMARY:Lag Ba’Omer
DESCRIPTION:
URL:https://www.thecarlebachshul.org/event/lag-baomer/
CATEGORIES:Events
ATTACH;FMTTYPE=image/jpeg:https://www.thecarlebachshul.org/wp-content/uploads/2018/03/ariella_creativisualsLagBaomer.jpg
END:VEVENT
BEGIN:VEVENT
DTSTART;TZID=America/New_York:20180502T212000
DTEND;TZID=America/New_York:20180502T220000
DTSTAMP:20260423T145425
CREATED:20180406T055637Z
LAST-MODIFIED:20180406T055637Z
UID:10000444-1525296000-1525298400@www.thecarlebachshul.org
SUMMARY:Daf Yomi
DESCRIPTION:
URL:https://www.thecarlebachshul.org/event/daf-yomi-5-2/
LOCATION:305 W 79th St\, New York\, NY\, 10024
CATEGORIES:Daf Yomi,Events
ATTACH;FMTTYPE=image/jpeg:https://www.thecarlebachshul.org/wp-content/uploads/2018/04/daf-yomi.jpg
END:VEVENT
BEGIN:VEVENT
DTSTART;TZID=America/New_York:20180502T220000
DTEND;TZID=America/New_York:20180502T221500
DTSTAMP:20260423T145425
CREATED:20180406T051642Z
LAST-MODIFIED:20180409T031534Z
UID:10000439-1525298400-1525299300@www.thecarlebachshul.org
SUMMARY:Ma’ariv Service
DESCRIPTION:
URL:https://www.thecarlebachshul.org/event/maariv-service-5-2/
LOCATION:305 W 79th St\, New York\, NY\, 10024
CATEGORIES:Events
ATTACH;FMTTYPE=image/jpeg:https://www.thecarlebachshul.org/wp-content/uploads/2018/04/images-5-1-600x400.jpeg
END:VEVENT
BEGIN:VEVENT
DTSTART;TZID=America/New_York:20180503T220000
DTEND;TZID=America/New_York:20180503T221500
DTSTAMP:20260423T145425
CREATED:20180406T032804Z
LAST-MODIFIED:20180409T031629Z
UID:10000438-1525384800-1525385700@www.thecarlebachshul.org
SUMMARY:Ma’ariv Service
DESCRIPTION:
URL:https://www.thecarlebachshul.org/event/maariv-service-5-3/
CATEGORIES:Events
ATTACH;FMTTYPE=image/jpeg:https://www.thecarlebachshul.org/wp-content/uploads/2018/04/images-5-1-600x400.jpeg
END:VEVENT
BEGIN:VEVENT
DTSTART;TZID=America/New_York:20180504T183000
DTEND;TZID=America/New_York:20180504T193000
DTSTAMP:20260423T145425
CREATED:20180424T195752Z
LAST-MODIFIED:20180424T195752Z
UID:10000525-1525458600-1525462200@www.thecarlebachshul.org
SUMMARY:Early Friday Night Minyan at The Carlebach Shul 05/04
DESCRIPTION:
URL:https://www.thecarlebachshul.org/event/early-friday-night-minyan-at-the-carlebach-shul-05-04/
CATEGORIES:Events
END:VEVENT
BEGIN:VEVENT
DTSTART;TZID=America/New_York:20180504T193700
DTEND;TZID=America/New_York:20180504T234500
DTSTAMP:20260423T145425
CREATED:20180409T023915Z
LAST-MODIFIED:20180409T023915Z
UID:10000189-1525462620-1525477500@www.thecarlebachshul.org
SUMMARY:Shabbat-Friday Night Dinner May 4th – with Rabbi Joseph Telushkin
DESCRIPTION:
URL:https://www.thecarlebachshul.org/event/shabbat-friday-night-dinner-may-4th-with-rabbi-joseph-telushkin/
LOCATION:305 W 79th St\, New York\, NY\, 10024
CATEGORIES:Events,Friday-Shabbat Schedule
ATTACH;FMTTYPE=image/jpeg:https://www.thecarlebachshul.org/wp-content/uploads/2018/04/Rabbi-Joseph-Telushkin-600x400.jpg
END:VEVENT
BEGIN:VEVENT
DTSTART;TZID=America/New_York:20180505T103000
DTEND;TZID=America/New_York:20180505T123000
DTSTAMP:20260423T145425
CREATED:20180405T155058Z
LAST-MODIFIED:20180405T155058Z
UID:10000430-1525516200-1525523400@www.thecarlebachshul.org
SUMMARY:Children’s Program – Shabbat Morning
DESCRIPTION:
URL:https://www.thecarlebachshul.org/event/childrens-program-shabbat-morning-5-5/
LOCATION:305 W 79th St\, New York\, NY\, 10024
CATEGORIES:Events
ATTACH;FMTTYPE=image/jpeg:https://www.thecarlebachshul.org/wp-content/uploads/2018/04/children-program-1.jpg
END:VEVENT
BEGIN:VEVENT
DTSTART;TZID=America/New_York:20180506T113000
DTEND;TZID=America/New_York:20180506T170000
DTSTAMP:20260423T145425
CREATED:20180410T022428Z
LAST-MODIFIED:20180410T022428Z
UID:10000459-1525606200-1525626000@www.thecarlebachshul.org
SUMMARY:Sunday Morning Yeshiva with Rabbi Avraham Newman
DESCRIPTION:
URL:https://www.thecarlebachshul.org/event/sunday-morning-yeshiva-with-rabbi-avraham-newman-5-6/
LOCATION:305 W 79th St\, New York\, NY\, 10024
CATEGORIES:Events
ATTACH;FMTTYPE=image/jpeg:https://www.thecarlebachshul.org/wp-content/uploads/2018/04/torah_heart-1.jpg
END:VEVENT
BEGIN:VEVENT
DTSTART;TZID=America/New_York:20180506T212000
DTEND;TZID=America/New_York:20180506T220000
DTSTAMP:20260423T145425
CREATED:20180418T201327Z
LAST-MODIFIED:20180418T205923Z
UID:10000515-1525641600-1525644000@www.thecarlebachshul.org
SUMMARY:Daf Yomi
DESCRIPTION:The Schedule\n\n\n 9:20 pm – 9:20 pm Class Begins\n\n\n 10:00 pm – 10:00 pm Class Ends\n\n\n\nDaf Yomi (Hebrew: דף יומי‎\, Daf Yomi\, “page of the day” or “daily folio”) is a daily regimen of learning the Oral Torah and its commentaries (also known as the Gemara)\, in which each of the 2\,711 pages of the Babylonian Talmud are covered in sequence. Under this regimen\, the entire Talmud is completed\, one day at a time\, in a cycle of seven and a half years. \nTens of thousands of Jews worldwide study in the Daf Yomi program and over 300\,000 participate in the Siyum HaShas\, an event celebrating the culmination of the cycle of learning. The Daf Yomi program has been credited with making Talmud study accessible to Jews who are not Torah scholars\, contributing to Jewish continuity after the Holocaust\, and having a unifying factor among Jews. \nInterested in sponsoring/Donating?\nAll non for profit such as The Carlebach Shul require operating funds to allow the continuation and sustainability of the community\, synagogue\, services\, educational programs and more. \nYour donation is a special way to mark an occasion\, remember someone dear\, celebrate a “simcha” or anniversary\, rejoice in the arrival of a child\, mourn the passing of a friend or recognize an Aliyah honor. \n\n\n	Kiddush Sponsorship\n	$300.00 – $1\,000.00\nSelect options\n\n	Chesed Fund\nSet Price\n\n	Redeem Your Pledge\nSet Price\n\n	Donate As You Like\nSet Price
URL:https://www.thecarlebachshul.org/event/daf-yomi-sunday-wednesday-920-pm-1000-pm/
CATEGORIES:Events
ATTACH;FMTTYPE=image/jpeg:https://www.thecarlebachshul.org/wp-content/uploads/2018/04/daf-yomi.jpg
END:VEVENT
BEGIN:VEVENT
DTSTART;TZID=America/New_York:20180506T220000
DTEND;TZID=America/New_York:20180506T221500
DTSTAMP:20260423T145425
CREATED:20180413T003758Z
LAST-MODIFIED:20180413T004946Z
UID:10000500-1525644000-1525644900@www.thecarlebachshul.org
SUMMARY:Ma’ariv Service
DESCRIPTION:
URL:https://www.thecarlebachshul.org/event/maariv-service-week-of-may-6th/
CATEGORIES:Events,Special Events
ATTACH;FMTTYPE=image/jpeg:https://www.thecarlebachshul.org/wp-content/uploads/2018/04/images-5-1-600x400.jpeg
END:VEVENT
BEGIN:VEVENT
DTSTART;TZID=America/New_York:20180507T212000
DTEND;TZID=America/New_York:20180507T220000
DTSTAMP:20260423T145425
CREATED:20180419T145048Z
LAST-MODIFIED:20180419T145333Z
UID:10000516-1525728000-1525730400@www.thecarlebachshul.org
SUMMARY:Daf Yomi
DESCRIPTION:
URL:https://www.thecarlebachshul.org/event/daf-yomi-sunday-wednesday-920-pm-1000-pm-2/
CATEGORIES:Events
ATTACH;FMTTYPE=image/jpeg:https://www.thecarlebachshul.org/wp-content/uploads/2018/04/daf-yomi.jpg
END:VEVENT
BEGIN:VEVENT
DTSTART;TZID=America/New_York:20180507T220000
DTEND;TZID=America/New_York:20180507T221500
DTSTAMP:20260423T145425
CREATED:20180417T063452Z
LAST-MODIFIED:20180417T063452Z
UID:10000202-1525730400-1525731300@www.thecarlebachshul.org
SUMMARY:Maariv
DESCRIPTION:Maariv or Ma’ariv (Hebrew: ????????\, [ma????iv])\, also known as Arvit (Hebrew: ????????\, [a??vit])\, is a Jewish prayer service held in the evening or night. It consists primarily of the evening Shema and Amidah.\nThe service usually begins with two verses from Psalms\, followed by the communal recitation of Barechu. The three paragraphs of the Shema are then said\, both preceded and followed by two blessings\, although sometimes a fifth blessing is added at the end. The hazzan (leader) then recites half-Kaddish. The Amidah is said quietly by everyone\, and\, unlike at the other services\, is not repeated by the hazzan. He recites the full Kaddish\, Aleinu is recited\, and the mourners’ Kaddish ends the service. Other prayers occasionally added include the Counting of the Omer (between Passover and Shavuot) and Psalm 27 (between the first of Elul and the end of Sukkot). \nMaariv is generally recited after sunset. However\, it may be recited as early as one and a quarter seasonal hours before sunset. This is common only on Friday nights\, in order to begin Shabbat earlier. At the conclusion of Shabbat and holidays\, the service is usually delayed until nightfall. While Maariv should be prayed before midnight\, it may be recited until daybreak or even sunrise.
URL:https://www.thecarlebachshul.org/event/maariv/
LOCATION:The Carlebach Shul\, 305 W 79th St\, New York\, 10024\, United States
CATEGORIES:Events
END:VEVENT
BEGIN:VEVENT
DTSTART;TZID=America/New_York:20180508T190000
DTEND;TZID=America/New_York:20180508T210000
DTSTAMP:20260423T145425
CREATED:20180410T050748Z
LAST-MODIFIED:20180410T050748Z
UID:10000469-1525806000-1525813200@www.thecarlebachshul.org
SUMMARY:A Touch of Kabbalah & A Taste of Torah with Rabbi Meir Fund
DESCRIPTION:
URL:https://www.thecarlebachshul.org/event/a-touch-of-kabbalah-a-taste-of-torah-with-rabbi-meir-fund-5-8/
LOCATION:305 W 79th St\, New York\, NY\, 10024
CATEGORIES:Events
ATTACH;FMTTYPE=image/jpeg:https://www.thecarlebachshul.org/wp-content/uploads/2018/04/3-myths-about-kabbalah-1-600x400.jpg
END:VEVENT
BEGIN:VEVENT
DTSTART;TZID=America/New_York:20180508T200000
DTEND;TZID=America/New_York:20180508T210000
DTSTAMP:20260423T145425
CREATED:20180411T021620Z
LAST-MODIFIED:20180411T021621Z
UID:10000496-1525809600-1525813200@www.thecarlebachshul.org
SUMMARY:A Touch of Kabbalah & A Taste of Torah with Rabbi Meir Fund
DESCRIPTION:
URL:https://www.thecarlebachshul.org/event/a-touch-of-kabbalah-a-taste-of-torah-with-rabbi-meir-fund-5-8-2/
LOCATION:305 W 79th St\, New York\, NY\, 10024
CATEGORIES:Events
ATTACH;FMTTYPE=image/jpeg:https://www.thecarlebachshul.org/wp-content/uploads/2018/04/3-myths-about-kabbalah-1-600x400.jpg
END:VEVENT
BEGIN:VEVENT
DTSTART;TZID=America/New_York:20180508T212000
DTEND;TZID=America/New_York:20180508T220000
DTSTAMP:20260423T145425
CREATED:20180419T145703Z
LAST-MODIFIED:20180419T155812Z
UID:10000217-1525814400-1525816800@www.thecarlebachshul.org
SUMMARY:Daf Yomi
DESCRIPTION:
URL:https://www.thecarlebachshul.org/event/daf-yomi-sunday-wednesday-920-pm-1000-pm-3/
CATEGORIES:Events
ATTACH;FMTTYPE=image/jpeg:https://www.thecarlebachshul.org/wp-content/uploads/2018/04/daf-yomi.jpg
END:VEVENT
BEGIN:VEVENT
DTSTART;TZID=America/New_York:20180508T220000
DTEND;TZID=America/New_York:20180508T221500
DTSTAMP:20260423T145425
CREATED:20180417T063453Z
LAST-MODIFIED:20180417T063453Z
UID:10000204-1525816800-1525817700@www.thecarlebachshul.org
SUMMARY:Maariv
DESCRIPTION:Maariv or Ma’ariv (Hebrew: ????????\, [ma????iv])\, also known as Arvit (Hebrew: ????????\, [a??vit])\, is a Jewish prayer service held in the evening or night. It consists primarily of the evening Shema and Amidah.\nThe service usually begins with two verses from Psalms\, followed by the communal recitation of Barechu. The three paragraphs of the Shema are then said\, both preceded and followed by two blessings\, although sometimes a fifth blessing is added at the end. The hazzan (leader) then recites half-Kaddish. The Amidah is said quietly by everyone\, and\, unlike at the other services\, is not repeated by the hazzan. He recites the full Kaddish\, Aleinu is recited\, and the mourners’ Kaddish ends the service. Other prayers occasionally added include the Counting of the Omer (between Passover and Shavuot) and Psalm 27 (between the first of Elul and the end of Sukkot). \nMaariv is generally recited after sunset. However\, it may be recited as early as one and a quarter seasonal hours before sunset. This is common only on Friday nights\, in order to begin Shabbat earlier. At the conclusion of Shabbat and holidays\, the service is usually delayed until nightfall. While Maariv should be prayed before midnight\, it may be recited until daybreak or even sunrise.
URL:https://www.thecarlebachshul.org/event/maariv-2/
LOCATION:The Carlebach Shul\, 305 W 79th St\, New York\, 10024\, United States
CATEGORIES:Events
END:VEVENT
BEGIN:VEVENT
DTSTART;TZID=America/New_York:20180509T212000
DTEND;TZID=America/New_York:20180509T220000
DTSTAMP:20260423T145425
CREATED:20180419T150050Z
LAST-MODIFIED:20180419T155828Z
UID:10000218-1525900800-1525903200@www.thecarlebachshul.org
SUMMARY:Daf Yomi
DESCRIPTION:
URL:https://www.thecarlebachshul.org/event/daf-yomi-sunday-wednesday-920-pm-1000-pm-4/
CATEGORIES:Events
ATTACH;FMTTYPE=image/jpeg:https://www.thecarlebachshul.org/wp-content/uploads/2018/04/daf-yomi.jpg
END:VEVENT
BEGIN:VEVENT
DTSTART;TZID=America/New_York:20180509T220000
DTEND;TZID=America/New_York:20180509T221500
DTSTAMP:20260423T145425
CREATED:20180417T063453Z
LAST-MODIFIED:20180417T063453Z
UID:10000205-1525903200-1525904100@www.thecarlebachshul.org
SUMMARY:Maariv
DESCRIPTION:Maariv or Ma’ariv (Hebrew: ????????\, [ma????iv])\, also known as Arvit (Hebrew: ????????\, [a??vit])\, is a Jewish prayer service held in the evening or night. It consists primarily of the evening Shema and Amidah.\nThe service usually begins with two verses from Psalms\, followed by the communal recitation of Barechu. The three paragraphs of the Shema are then said\, both preceded and followed by two blessings\, although sometimes a fifth blessing is added at the end. The hazzan (leader) then recites half-Kaddish. The Amidah is said quietly by everyone\, and\, unlike at the other services\, is not repeated by the hazzan. He recites the full Kaddish\, Aleinu is recited\, and the mourners’ Kaddish ends the service. Other prayers occasionally added include the Counting of the Omer (between Passover and Shavuot) and Psalm 27 (between the first of Elul and the end of Sukkot). \nMaariv is generally recited after sunset. However\, it may be recited as early as one and a quarter seasonal hours before sunset. This is common only on Friday nights\, in order to begin Shabbat earlier. At the conclusion of Shabbat and holidays\, the service is usually delayed until nightfall. While Maariv should be prayed before midnight\, it may be recited until daybreak or even sunrise.
URL:https://www.thecarlebachshul.org/event/maariv-3/
LOCATION:The Carlebach Shul\, 305 W 79th St\, New York\, 10024\, United States
CATEGORIES:Events
END:VEVENT
BEGIN:VEVENT
DTSTART;TZID=America/New_York:20180510T203000
DTEND;TZID=America/New_York:20180510T221500
DTSTAMP:20260423T145425
CREATED:20180410T042415Z
LAST-MODIFIED:20180410T042415Z
UID:10000465-1525984200-1525990500@www.thecarlebachshul.org
SUMMARY:Daf Yomi – Thursday (With Yitzy Weinberg)
DESCRIPTION:
URL:https://www.thecarlebachshul.org/event/daf-yomi-thursday-with-yitzy-weinberg-5-10/
LOCATION:305 W 79th St\, New York\, NY\, 10024
CATEGORIES:Daf Yomi,Events,Special Events
ATTACH;FMTTYPE=image/jpeg:https://www.thecarlebachshul.org/wp-content/uploads/2018/04/Yitzy_Weinberg-1-1.jpg
END:VEVENT
BEGIN:VEVENT
DTSTART;TZID=America/New_York:20180510T220000
DTEND;TZID=America/New_York:20180510T221500
DTSTAMP:20260423T145425
CREATED:20180417T063453Z
LAST-MODIFIED:20180417T063453Z
UID:10000207-1525989600-1525990500@www.thecarlebachshul.org
SUMMARY:Maariv
DESCRIPTION:Maariv or Ma’ariv (Hebrew: ????????\, [ma????iv])\, also known as Arvit (Hebrew: ????????\, [a??vit])\, is a Jewish prayer service held in the evening or night. It consists primarily of the evening Shema and Amidah.\nThe service usually begins with two verses from Psalms\, followed by the communal recitation of Barechu. The three paragraphs of the Shema are then said\, both preceded and followed by two blessings\, although sometimes a fifth blessing is added at the end. The hazzan (leader) then recites half-Kaddish. The Amidah is said quietly by everyone\, and\, unlike at the other services\, is not repeated by the hazzan. He recites the full Kaddish\, Aleinu is recited\, and the mourners’ Kaddish ends the service. Other prayers occasionally added include the Counting of the Omer (between Passover and Shavuot) and Psalm 27 (between the first of Elul and the end of Sukkot). \nMaariv is generally recited after sunset. However\, it may be recited as early as one and a quarter seasonal hours before sunset. This is common only on Friday nights\, in order to begin Shabbat earlier. At the conclusion of Shabbat and holidays\, the service is usually delayed until nightfall. While Maariv should be prayed before midnight\, it may be recited until daybreak or even sunrise.
URL:https://www.thecarlebachshul.org/event/maariv-4/
LOCATION:The Carlebach Shul\, 305 W 79th St\, New York\, 10024\, United States
CATEGORIES:Events
END:VEVENT
BEGIN:VEVENT
DTSTART;TZID=America/New_York:20180512T103000
DTEND;TZID=America/New_York:20180512T123000
DTSTAMP:20260423T145425
CREATED:20180410T025609Z
LAST-MODIFIED:20180410T025609Z
UID:10000461-1526121000-1526128200@www.thecarlebachshul.org
SUMMARY:Children’s Program – Shabbat Morning
DESCRIPTION:
URL:https://www.thecarlebachshul.org/event/childrens-program-shabbat-morning-5-12/
LOCATION:305 W 79th St\, New York\, NY\, 10024
CATEGORIES:Events
ATTACH;FMTTYPE=image/jpeg:https://www.thecarlebachshul.org/wp-content/uploads/2018/04/children-program-1.jpg
END:VEVENT
BEGIN:VEVENT
DTSTART;TZID=America/New_York:20180513T113000
DTEND;TZID=America/New_York:20180513T170000
DTSTAMP:20260423T145425
CREATED:20180410T022623Z
LAST-MODIFIED:20180410T023932Z
UID:10000460-1526211000-1526230800@www.thecarlebachshul.org
SUMMARY:Sunday Morning Yeshiva with Rabbi Avraham Newman
DESCRIPTION:
URL:https://www.thecarlebachshul.org/event/sunday-morning-yeshiva-with-rabbi-avraham-newman-5-13/
LOCATION:305 W 79th St\, New York\, NY\, 10024
CATEGORIES:Events
ATTACH;FMTTYPE=image/jpeg:https://www.thecarlebachshul.org/wp-content/uploads/2018/04/torah_heart-1.jpg
END:VEVENT
BEGIN:VEVENT
DTSTART;TZID=America/New_York:20180513T212000
DTEND;TZID=America/New_York:20180513T220000
DTSTAMP:20260423T145425
CREATED:20180419T150343Z
LAST-MODIFIED:20180419T155841Z
UID:10000222-1526246400-1526248800@www.thecarlebachshul.org
SUMMARY:Daf Yomi
DESCRIPTION:
URL:https://www.thecarlebachshul.org/event/daf-yomi-sunday-wednesday-920-pm-1000-pm-5/
CATEGORIES:Events
ATTACH;FMTTYPE=image/jpeg:https://www.thecarlebachshul.org/wp-content/uploads/2018/04/daf-yomi.jpg
END:VEVENT
BEGIN:VEVENT
DTSTART;TZID=America/New_York:20180513T220000
DTEND;TZID=America/New_York:20180513T221500
DTSTAMP:20260423T145425
CREATED:20180417T063454Z
LAST-MODIFIED:20180417T063454Z
UID:10000208-1526248800-1526249700@www.thecarlebachshul.org
SUMMARY:Maariv
DESCRIPTION:Maariv or Ma’ariv (Hebrew: ????????\, [ma????iv])\, also known as Arvit (Hebrew: ????????\, [a??vit])\, is a Jewish prayer service held in the evening or night. It consists primarily of the evening Shema and Amidah.\nThe service usually begins with two verses from Psalms\, followed by the communal recitation of Barechu. The three paragraphs of the Shema are then said\, both preceded and followed by two blessings\, although sometimes a fifth blessing is added at the end. The hazzan (leader) then recites half-Kaddish. The Amidah is said quietly by everyone\, and\, unlike at the other services\, is not repeated by the hazzan. He recites the full Kaddish\, Aleinu is recited\, and the mourners’ Kaddish ends the service. Other prayers occasionally added include the Counting of the Omer (between Passover and Shavuot) and Psalm 27 (between the first of Elul and the end of Sukkot). \nMaariv is generally recited after sunset. However\, it may be recited as early as one and a quarter seasonal hours before sunset. This is common only on Friday nights\, in order to begin Shabbat earlier. At the conclusion of Shabbat and holidays\, the service is usually delayed until nightfall. While Maariv should be prayed before midnight\, it may be recited until daybreak or even sunrise.
URL:https://www.thecarlebachshul.org/event/maariv-5/
LOCATION:The Carlebach Shul\, 305 W 79th St\, New York\, 10024\, United States
CATEGORIES:Events
END:VEVENT
BEGIN:VEVENT
DTSTART;TZID=America/New_York:20180514T212000
DTEND;TZID=America/New_York:20180514T220000
DTSTAMP:20260423T145425
CREATED:20180419T150650Z
LAST-MODIFIED:20180419T155851Z
UID:10000223-1526332800-1526335200@www.thecarlebachshul.org
SUMMARY:Daf Yomi
DESCRIPTION:
URL:https://www.thecarlebachshul.org/event/daf-yomi-sunday-wednesday-920-pm-1000-pm-6/
CATEGORIES:Events
ATTACH;FMTTYPE=image/jpeg:https://www.thecarlebachshul.org/wp-content/uploads/2018/04/daf-yomi.jpg
END:VEVENT
BEGIN:VEVENT
DTSTART;TZID=America/New_York:20180514T220000
DTEND;TZID=America/New_York:20180514T220000
DTSTAMP:20260423T145425
CREATED:20180417T063457Z
LAST-MODIFIED:20180417T063457Z
UID:10000210-1526335200-1526335200@www.thecarlebachshul.org
SUMMARY:Maariv
DESCRIPTION:Maariv or Ma’ariv (Hebrew: ????????\, [ma????iv])\, also known as Arvit (Hebrew: ????????\, [a??vit])\, is a Jewish prayer service held in the evening or night. It consists primarily of the evening Shema and Amidah.\nThe service usually begins with two verses from Psalms\, followed by the communal recitation of Barechu. The three paragraphs of the Shema are then said\, both preceded and followed by two blessings\, although sometimes a fifth blessing is added at the end. The hazzan (leader) then recites half-Kaddish. The Amidah is said quietly by everyone\, and\, unlike at the other services\, is not repeated by the hazzan. He recites the full Kaddish\, Aleinu is recited\, and the mourners’ Kaddish ends the service. Other prayers occasionally added include the Counting of the Omer (between Passover and Shavuot) and Psalm 27 (between the first of Elul and the end of Sukkot). \nMaariv is generally recited after sunset. However\, it may be recited as early as one and a quarter seasonal hours before sunset. This is common only on Friday nights\, in order to begin Shabbat earlier. At the conclusion of Shabbat and holidays\, the service is usually delayed until nightfall. While Maariv should be prayed before midnight\, it may be recited until daybreak or even sunrise.
URL:https://www.thecarlebachshul.org/event/maariv-6/
LOCATION:The Carlebach Shul\, 305 W 79th St\, New York\, 10024\, United States
CATEGORIES:Events
END:VEVENT
END:VCALENDAR