BEGIN:VCALENDAR
VERSION:2.0
PRODID:-//The Carlebach Shul - ECPv6.2.9//NONSGML v1.0//EN
CALSCALE:GREGORIAN
METHOD:PUBLISH
X-WR-CALNAME:The Carlebach Shul
X-ORIGINAL-URL:https://www.thecarlebachshul.org
X-WR-CALDESC:Events for The Carlebach Shul
REFRESH-INTERVAL;VALUE=DURATION:PT1H
X-Robots-Tag:noindex
X-PUBLISHED-TTL:PT1H
BEGIN:VTIMEZONE
TZID:America/New_York
BEGIN:DAYLIGHT
TZOFFSETFROM:-0500
TZOFFSETTO:-0400
TZNAME:EDT
DTSTART:20180311T070000
END:DAYLIGHT
BEGIN:STANDARD
TZOFFSETFROM:-0400
TZOFFSETTO:-0500
TZNAME:EST
DTSTART:20181104T060000
END:STANDARD
END:VTIMEZONE
BEGIN:VEVENT
DTSTART;TZID=America/New_York:20180601T200300
DTEND;TZID=America/New_York:20180602T001500
DTSTAMP:20260423T125356
CREATED:20180413T172728Z
LAST-MODIFIED:20180413T173409Z
UID:10000200-1527883380-1527898500@www.thecarlebachshul.org
SUMMARY:Shabbat Friday Night Dinner June 1st with Judith Leventhal
DESCRIPTION:
URL:https://www.thecarlebachshul.org/event/shabbat-friday-night-dinner-june-1st-with-judith-leventhal/
CATEGORIES:Events
END:VEVENT
BEGIN:VEVENT
DTSTART;TZID=America/New_York:20180601T200300
DTEND;TZID=America/New_York:20180602T210300
DTSTAMP:20260423T125356
CREATED:20180530T164452Z
LAST-MODIFIED:20180530T164452Z
UID:10000727-1527883380-1527973380@www.thecarlebachshul.org
SUMMARY:Yehuda Green is at The Carlebach Shul Shabbat 06/1 – 06/2
DESCRIPTION:
URL:https://www.thecarlebachshul.org/event/yehuda-green-is-at-the-carlebach-shul-shabbat-06-1-06-2/
CATEGORIES:Events
ATTACH;FMTTYPE=image/png:https://www.thecarlebachshul.org/wp-content/uploads/2017/08/HP_YehudaGreenIsHere_600x400.png
END:VEVENT
BEGIN:VEVENT
DTSTART;TZID=America/New_York:20180602T103000
DTEND;TZID=America/New_York:20180602T123000
DTSTAMP:20260423T125356
CREATED:20180410T033000Z
LAST-MODIFIED:20180410T033000Z
UID:10000464-1527935400-1527942600@www.thecarlebachshul.org
SUMMARY:Children’s Program – Shabbat Morning
DESCRIPTION:
URL:https://www.thecarlebachshul.org/event/childrens-program-shabbat-morning-6-2/
LOCATION:305 W 79th St\, New York\, NY\, 10024
CATEGORIES:Events
ATTACH;FMTTYPE=image/jpeg:https://www.thecarlebachshul.org/wp-content/uploads/2018/04/children-program-1.jpg
END:VEVENT
BEGIN:VEVENT
DTSTART;TZID=America/New_York:20180603T212000
DTEND;TZID=America/New_York:20180603T220000
DTSTAMP:20260423T125356
CREATED:20180419T152441Z
LAST-MODIFIED:20180419T152441Z
UID:10000221-1528060800-1528063200@www.thecarlebachshul.org
SUMMARY:Daf Yomi
DESCRIPTION:
URL:https://www.thecarlebachshul.org/event/daf-yomi-sunday-wednesday-920-pm-1000-pm-15/
CATEGORIES:Events
ATTACH;FMTTYPE=image/jpeg:https://www.thecarlebachshul.org/wp-content/uploads/2018/04/daf-yomi.jpg
END:VEVENT
BEGIN:VEVENT
DTSTART;TZID=America/New_York:20180603T220000
DTEND;TZID=America/New_York:20180603T221500
DTSTAMP:20260423T125356
CREATED:20180417T063503Z
LAST-MODIFIED:20180418T145149Z
UID:10000509-1528063200-1528064100@www.thecarlebachshul.org
SUMMARY:Maariv
DESCRIPTION:Maariv or Ma’ariv (Hebrew: ????????\, [ma????iv])\, also known as Arvit (Hebrew: ????????\, [a??vit])\, is a Jewish prayer service held in the evening or night. It consists primarily of the evening Shema and Amidah.\nThe service usually begins with two verses from Psalms\, followed by the communal recitation of Barechu. The three paragraphs of the Shema are then said\, both preceded and followed by two blessings\, although sometimes a fifth blessing is added at the end. The hazzan (leader) then recites half-Kaddish. The Amidah is said quietly by everyone\, and\, unlike at the other services\, is not repeated by the hazzan. He recites the full Kaddish\, Aleinu is recited\, and the mourners’ Kaddish ends the service. Other prayers occasionally added include the Counting of the Omer (between Passover and Shavuot) and Psalm 27 (between the first of Elul and the end of Sukkot). \nMaariv is generally recited after sunset. However\, it may be recited as early as one and a quarter seasonal hours before sunset. This is common only on Friday nights\, in order to begin Shabbat earlier. At the conclusion of Shabbat and holidays\, the service is usually delayed until nightfall. While Maariv should be prayed before midnight\, it may be recited until daybreak or even sunrise.
URL:https://www.thecarlebachshul.org/event/maariv-22/
LOCATION:The Carlebach Shul\, 305 W 79th St\, New York\, 10024\, United States
CATEGORIES:Events
END:VEVENT
BEGIN:VEVENT
DTSTART;TZID=America/New_York:20180604T212000
DTEND;TZID=America/New_York:20180604T220000
DTSTAMP:20260423T125356
CREATED:20180419T153645Z
LAST-MODIFIED:20180419T153645Z
UID:10000224-1528147200-1528149600@www.thecarlebachshul.org
SUMMARY:Daf Yomi
DESCRIPTION:
URL:https://www.thecarlebachshul.org/event/daf-yomi-sunday-wednesday-920-pm-1000-pm-16/
CATEGORIES:Events
ATTACH;FMTTYPE=image/jpeg:https://www.thecarlebachshul.org/wp-content/uploads/2018/04/daf-yomi.jpg
END:VEVENT
BEGIN:VEVENT
DTSTART;TZID=America/New_York:20180604T220000
DTEND;TZID=America/New_York:20180604T221500
DTSTAMP:20260423T125356
CREATED:20180417T063504Z
LAST-MODIFIED:20180418T145149Z
UID:10000510-1528149600-1528150500@www.thecarlebachshul.org
SUMMARY:Maariv
DESCRIPTION:Maariv or Ma’ariv (Hebrew: ????????\, [ma????iv])\, also known as Arvit (Hebrew: ????????\, [a??vit])\, is a Jewish prayer service held in the evening or night. It consists primarily of the evening Shema and Amidah.\nThe service usually begins with two verses from Psalms\, followed by the communal recitation of Barechu. The three paragraphs of the Shema are then said\, both preceded and followed by two blessings\, although sometimes a fifth blessing is added at the end. The hazzan (leader) then recites half-Kaddish. The Amidah is said quietly by everyone\, and\, unlike at the other services\, is not repeated by the hazzan. He recites the full Kaddish\, Aleinu is recited\, and the mourners’ Kaddish ends the service. Other prayers occasionally added include the Counting of the Omer (between Passover and Shavuot) and Psalm 27 (between the first of Elul and the end of Sukkot). \nMaariv is generally recited after sunset. However\, it may be recited as early as one and a quarter seasonal hours before sunset. This is common only on Friday nights\, in order to begin Shabbat earlier. At the conclusion of Shabbat and holidays\, the service is usually delayed until nightfall. While Maariv should be prayed before midnight\, it may be recited until daybreak or even sunrise.
URL:https://www.thecarlebachshul.org/event/maariv-23/
LOCATION:The Carlebach Shul\, 305 W 79th St\, New York\, 10024\, United States
CATEGORIES:Events
END:VEVENT
BEGIN:VEVENT
DTSTART;TZID=America/New_York:20180605T190000
DTEND;TZID=America/New_York:20180605T210000
DTSTAMP:20260423T125356
CREATED:20180509T164121Z
LAST-MODIFIED:20180509T164310Z
UID:10000654-1528225200-1528232400@www.thecarlebachshul.org
SUMMARY:A Touch of Kabbalah & A Taste of Torah with Rabbi Meir Fund
DESCRIPTION:
URL:https://www.thecarlebachshul.org/event/touch-of-kabbalah-a-taste-of-torah-with-rabbi-meir-fund-2/
CATEGORIES:Events
ATTACH;FMTTYPE=image/jpeg:https://www.thecarlebachshul.org/wp-content/uploads/2018/04/3-myths-about-kabbalah-1-600x400.jpg
END:VEVENT
BEGIN:VEVENT
DTSTART;TZID=America/New_York:20180605T193000
DTEND;TZID=America/New_York:20180605T220000
DTSTAMP:20260423T125356
CREATED:20180529T205953Z
LAST-MODIFIED:20180529T205953Z
UID:10000725-1528227000-1528236000@www.thecarlebachshul.org
SUMMARY:The Kabballah of the Rules
DESCRIPTION:
URL:https://www.thecarlebachshul.org/event/the-kabballah-of-the-rules/
CATEGORIES:Events
ATTACH;FMTTYPE=image/jpeg:https://www.thecarlebachshul.org/wp-content/uploads/2018/04/Avraham-Newman-1.jpg
END:VEVENT
BEGIN:VEVENT
DTSTART;TZID=America/New_York:20180605T212000
DTEND;TZID=America/New_York:20180605T220000
DTSTAMP:20260423T125356
CREATED:20180419T153801Z
LAST-MODIFIED:20180419T153801Z
UID:10000226-1528233600-1528236000@www.thecarlebachshul.org
SUMMARY:Daf Yomi
DESCRIPTION:
URL:https://www.thecarlebachshul.org/event/daf-yomi-sunday-wednesday-920-pm-1000-pm-17/
CATEGORIES:Events
ATTACH;FMTTYPE=image/jpeg:https://www.thecarlebachshul.org/wp-content/uploads/2018/04/daf-yomi.jpg
END:VEVENT
BEGIN:VEVENT
DTSTART;TZID=America/New_York:20180605T220000
DTEND;TZID=America/New_York:20180605T221500
DTSTAMP:20260423T125356
CREATED:20180417T063504Z
LAST-MODIFIED:20180418T145149Z
UID:10000511-1528236000-1528236900@www.thecarlebachshul.org
SUMMARY:Maariv
DESCRIPTION:Maariv or Ma’ariv (Hebrew: ????????\, [ma????iv])\, also known as Arvit (Hebrew: ????????\, [a??vit])\, is a Jewish prayer service held in the evening or night. It consists primarily of the evening Shema and Amidah.\nThe service usually begins with two verses from Psalms\, followed by the communal recitation of Barechu. The three paragraphs of the Shema are then said\, both preceded and followed by two blessings\, although sometimes a fifth blessing is added at the end. The hazzan (leader) then recites half-Kaddish. The Amidah is said quietly by everyone\, and\, unlike at the other services\, is not repeated by the hazzan. He recites the full Kaddish\, Aleinu is recited\, and the mourners’ Kaddish ends the service. Other prayers occasionally added include the Counting of the Omer (between Passover and Shavuot) and Psalm 27 (between the first of Elul and the end of Sukkot). \nMaariv is generally recited after sunset. However\, it may be recited as early as one and a quarter seasonal hours before sunset. This is common only on Friday nights\, in order to begin Shabbat earlier. At the conclusion of Shabbat and holidays\, the service is usually delayed until nightfall. While Maariv should be prayed before midnight\, it may be recited until daybreak or even sunrise.
URL:https://www.thecarlebachshul.org/event/maariv-24/
LOCATION:The Carlebach Shul\, 305 W 79th St\, New York\, 10024\, United States
CATEGORIES:Events
END:VEVENT
BEGIN:VEVENT
DTSTART;TZID=America/New_York:20180606T212000
DTEND;TZID=America/New_York:20180606T220000
DTSTAMP:20260423T125356
CREATED:20180419T153857Z
LAST-MODIFIED:20180419T153857Z
UID:10000227-1528320000-1528322400@www.thecarlebachshul.org
SUMMARY:Daf Yomi
DESCRIPTION:
URL:https://www.thecarlebachshul.org/event/daf-yomi-sunday-wednesday-920-pm-1000-pm-18/
CATEGORIES:Events
ATTACH;FMTTYPE=image/jpeg:https://www.thecarlebachshul.org/wp-content/uploads/2018/04/daf-yomi.jpg
END:VEVENT
BEGIN:VEVENT
DTSTART;TZID=America/New_York:20180606T220000
DTEND;TZID=America/New_York:20180606T221500
DTSTAMP:20260423T125356
CREATED:20180417T063504Z
LAST-MODIFIED:20180418T145149Z
UID:10000512-1528322400-1528323300@www.thecarlebachshul.org
SUMMARY:Maariv
DESCRIPTION:Maariv or Ma’ariv (Hebrew: ????????\, [ma????iv])\, also known as Arvit (Hebrew: ????????\, [a??vit])\, is a Jewish prayer service held in the evening or night. It consists primarily of the evening Shema and Amidah.\nThe service usually begins with two verses from Psalms\, followed by the communal recitation of Barechu. The three paragraphs of the Shema are then said\, both preceded and followed by two blessings\, although sometimes a fifth blessing is added at the end. The hazzan (leader) then recites half-Kaddish. The Amidah is said quietly by everyone\, and\, unlike at the other services\, is not repeated by the hazzan. He recites the full Kaddish\, Aleinu is recited\, and the mourners’ Kaddish ends the service. Other prayers occasionally added include the Counting of the Omer (between Passover and Shavuot) and Psalm 27 (between the first of Elul and the end of Sukkot). \nMaariv is generally recited after sunset. However\, it may be recited as early as one and a quarter seasonal hours before sunset. This is common only on Friday nights\, in order to begin Shabbat earlier. At the conclusion of Shabbat and holidays\, the service is usually delayed until nightfall. While Maariv should be prayed before midnight\, it may be recited until daybreak or even sunrise.
URL:https://www.thecarlebachshul.org/event/maariv-25/
LOCATION:The Carlebach Shul\, 305 W 79th St\, New York\, 10024\, United States
CATEGORIES:Events
END:VEVENT
BEGIN:VEVENT
DTSTART;TZID=America/New_York:20180607T203000
DTEND;TZID=America/New_York:20180607T221500
DTSTAMP:20260423T125356
CREATED:20180508T155945Z
LAST-MODIFIED:20180508T164047Z
UID:10000621-1528403400-1528409700@www.thecarlebachshul.org
SUMMARY:Daf Yomi – Thursday (With Yitzy Weinberg)
DESCRIPTION:
URL:https://www.thecarlebachshul.org/event/daf-yomi-thursday-with-yitzy-weinberg-6-7/
CATEGORIES:Events
ATTACH;FMTTYPE=image/jpeg:https://www.thecarlebachshul.org/wp-content/uploads/2018/04/Yitzy_Weinberg-1-1.jpg
END:VEVENT
BEGIN:VEVENT
DTSTART;TZID=America/New_York:20180607T220000
DTEND;TZID=America/New_York:20180607T221500
DTSTAMP:20260423T125356
CREATED:20180417T063505Z
LAST-MODIFIED:20180418T145149Z
UID:10000513-1528408800-1528409700@www.thecarlebachshul.org
SUMMARY:Maariv
DESCRIPTION:Maariv or Ma’ariv (Hebrew: ????????\, [ma????iv])\, also known as Arvit (Hebrew: ????????\, [a??vit])\, is a Jewish prayer service held in the evening or night. It consists primarily of the evening Shema and Amidah.\nThe service usually begins with two verses from Psalms\, followed by the communal recitation of Barechu. The three paragraphs of the Shema are then said\, both preceded and followed by two blessings\, although sometimes a fifth blessing is added at the end. The hazzan (leader) then recites half-Kaddish. The Amidah is said quietly by everyone\, and\, unlike at the other services\, is not repeated by the hazzan. He recites the full Kaddish\, Aleinu is recited\, and the mourners’ Kaddish ends the service. Other prayers occasionally added include the Counting of the Omer (between Passover and Shavuot) and Psalm 27 (between the first of Elul and the end of Sukkot). \nMaariv is generally recited after sunset. However\, it may be recited as early as one and a quarter seasonal hours before sunset. This is common only on Friday nights\, in order to begin Shabbat earlier. At the conclusion of Shabbat and holidays\, the service is usually delayed until nightfall. While Maariv should be prayed before midnight\, it may be recited until daybreak or even sunrise.
URL:https://www.thecarlebachshul.org/event/maariv-26/
LOCATION:The Carlebach Shul\, 305 W 79th St\, New York\, 10024\, United States
CATEGORIES:Events
END:VEVENT
BEGIN:VEVENT
DTSTART;TZID=America/New_York:20180609T103000
DTEND;TZID=America/New_York:20180609T123000
DTSTAMP:20260423T125356
CREATED:20180410T152751Z
LAST-MODIFIED:20180410T152751Z
UID:10000186-1528540200-1528547400@www.thecarlebachshul.org
SUMMARY:Children’s Program – Shabbat Morning
DESCRIPTION:
URL:https://www.thecarlebachshul.org/event/childrens-program-shabbat-morning-6-9/
LOCATION:305 W 79th St\, New York\, NY\, 10024
CATEGORIES:Events
ATTACH;FMTTYPE=image/jpeg:https://www.thecarlebachshul.org/wp-content/uploads/2018/04/children-program-1.jpg
END:VEVENT
BEGIN:VEVENT
DTSTART;TZID=America/New_York:20180610T113000
DTEND;TZID=America/New_York:20180610T170000
DTSTAMP:20260423T125356
CREATED:20180510T190346Z
LAST-MODIFIED:20180510T192909Z
UID:10000703-1528630200-1528650000@www.thecarlebachshul.org
SUMMARY:Sunday Yeshiva with Rabbi Avraham Newman
DESCRIPTION:
URL:https://www.thecarlebachshul.org/event/sunday-yeshiva-with-rabbi-avraham-newman/
CATEGORIES:Events
ATTACH;FMTTYPE=image/jpeg:https://www.thecarlebachshul.org/wp-content/uploads/2018/04/Avraham-Newman-1.jpg
END:VEVENT
BEGIN:VEVENT
DTSTART;TZID=America/New_York:20180610T212000
DTEND;TZID=America/New_York:20180610T220000
DTSTAMP:20260423T125356
CREATED:20180419T153950Z
LAST-MODIFIED:20180419T153950Z
UID:10000230-1528665600-1528668000@www.thecarlebachshul.org
SUMMARY:Daf Yomi
DESCRIPTION:
URL:https://www.thecarlebachshul.org/event/daf-yomi-sunday-wednesday-920-pm-1000-pm-19/
CATEGORIES:Events
ATTACH;FMTTYPE=image/jpeg:https://www.thecarlebachshul.org/wp-content/uploads/2018/04/daf-yomi.jpg
END:VEVENT
BEGIN:VEVENT
DTSTART;TZID=America/New_York:20180610T220000
DTEND;TZID=America/New_York:20180610T221500
DTSTAMP:20260423T125356
CREATED:20180501T151751Z
LAST-MODIFIED:20180501T151751Z
UID:10000527-1528668000-1528668900@www.thecarlebachshul.org
SUMMARY:Maariv
DESCRIPTION:
URL:https://www.thecarlebachshul.org/event/maariv-28/
CATEGORIES:Events
ATTACH;FMTTYPE=image/jpeg:https://www.thecarlebachshul.org/wp-content/uploads/2018/04/images-5-1-600x400.jpeg
END:VEVENT
BEGIN:VEVENT
DTSTART;TZID=America/New_York:20180611T212000
DTEND;TZID=America/New_York:20180611T220000
DTSTAMP:20260423T125356
CREATED:20180419T154112Z
LAST-MODIFIED:20180419T154112Z
UID:10000233-1528752000-1528754400@www.thecarlebachshul.org
SUMMARY:Daf Yomi
DESCRIPTION:
URL:https://www.thecarlebachshul.org/event/daf-yomi-sunday-wednesday-920-pm-1000-pm-20/
CATEGORIES:Events
ATTACH;FMTTYPE=image/jpeg:https://www.thecarlebachshul.org/wp-content/uploads/2018/04/daf-yomi.jpg
END:VEVENT
BEGIN:VEVENT
DTSTART;TZID=America/New_York:20180611T220000
DTEND;TZID=America/New_York:20180611T221500
DTSTAMP:20260423T125356
CREATED:20180501T152323Z
LAST-MODIFIED:20180501T152323Z
UID:10000528-1528754400-1528755300@www.thecarlebachshul.org
SUMMARY:Maariv
DESCRIPTION:
URL:https://www.thecarlebachshul.org/event/maariv-29/
CATEGORIES:Events
ATTACH;FMTTYPE=image/jpeg:https://www.thecarlebachshul.org/wp-content/uploads/2018/04/images-5-1-600x400.jpeg
END:VEVENT
BEGIN:VEVENT
DTSTART;TZID=America/New_York:20180612T190000
DTEND;TZID=America/New_York:20180612T210000
DTSTAMP:20260423T125356
CREATED:20180509T164206Z
LAST-MODIFIED:20180509T164351Z
UID:10000655-1528830000-1528837200@www.thecarlebachshul.org
SUMMARY:A Touch of Kabbalah & A Taste of Torah with Rabbi Meir Fund
DESCRIPTION:
URL:https://www.thecarlebachshul.org/event/touch-of-kabbalah-a-taste-of-torah-with-rabbi-meir-fund-3/
CATEGORIES:Events
ATTACH;FMTTYPE=image/jpeg:https://www.thecarlebachshul.org/wp-content/uploads/2018/04/3-myths-about-kabbalah-1-600x400.jpg
END:VEVENT
BEGIN:VEVENT
DTSTART;TZID=America/New_York:20180612T212000
DTEND;TZID=America/New_York:20180612T220000
DTSTAMP:20260423T125356
CREATED:20180419T154220Z
LAST-MODIFIED:20180419T154220Z
UID:10000235-1528838400-1528840800@www.thecarlebachshul.org
SUMMARY:Daf Yomi
DESCRIPTION:
URL:https://www.thecarlebachshul.org/event/daf-yomi-sunday-wednesday-920-pm-1000-pm-21/
CATEGORIES:Events
ATTACH;FMTTYPE=image/jpeg:https://www.thecarlebachshul.org/wp-content/uploads/2018/04/daf-yomi.jpg
END:VEVENT
BEGIN:VEVENT
DTSTART;TZID=America/New_York:20180612T220000
DTEND;TZID=America/New_York:20180612T221500
DTSTAMP:20260423T125356
CREATED:20180501T152619Z
LAST-MODIFIED:20180501T152619Z
UID:10000529-1528840800-1528841700@www.thecarlebachshul.org
SUMMARY:Maariv
DESCRIPTION:
URL:https://www.thecarlebachshul.org/event/maariv-30/
CATEGORIES:Events
ATTACH;FMTTYPE=image/jpeg:https://www.thecarlebachshul.org/wp-content/uploads/2018/04/images-5-1-600x400.jpeg
END:VEVENT
BEGIN:VEVENT
DTSTART;TZID=America/New_York:20180613T212000
DTEND;TZID=America/New_York:20180613T220000
DTSTAMP:20260423T125356
CREATED:20180419T154328Z
LAST-MODIFIED:20180419T154328Z
UID:10000238-1528924800-1528927200@www.thecarlebachshul.org
SUMMARY:Daf Yomi
DESCRIPTION:
URL:https://www.thecarlebachshul.org/event/daf-yomi-sunday-wednesday-920-pm-1000-pm-22/
CATEGORIES:Events
ATTACH;FMTTYPE=image/jpeg:https://www.thecarlebachshul.org/wp-content/uploads/2018/04/daf-yomi.jpg
END:VEVENT
BEGIN:VEVENT
DTSTART;TZID=America/New_York:20180613T220000
DTEND;TZID=America/New_York:20180613T221500
DTSTAMP:20260423T125356
CREATED:20180501T152707Z
LAST-MODIFIED:20180501T152707Z
UID:10000530-1528927200-1528928100@www.thecarlebachshul.org
SUMMARY:Maariv
DESCRIPTION:
URL:https://www.thecarlebachshul.org/event/maariv-31/
CATEGORIES:Events
ATTACH;FMTTYPE=image/jpeg:https://www.thecarlebachshul.org/wp-content/uploads/2018/04/images-5-1-600x400.jpeg
END:VEVENT
BEGIN:VEVENT
DTSTART;TZID=America/New_York:20180614T220000
DTEND;TZID=America/New_York:20180614T221500
DTSTAMP:20260423T125356
CREATED:20180501T152752Z
LAST-MODIFIED:20180501T152752Z
UID:10000531-1529013600-1529014500@www.thecarlebachshul.org
SUMMARY:Maariv
DESCRIPTION:
URL:https://www.thecarlebachshul.org/event/maariv-32/
CATEGORIES:Events
ATTACH;FMTTYPE=image/jpeg:https://www.thecarlebachshul.org/wp-content/uploads/2018/04/images-5-1-600x400.jpeg
END:VEVENT
BEGIN:VEVENT
DTSTART;TZID=America/New_York:20180616T103000
DTEND;TZID=America/New_York:20180616T123000
DTSTAMP:20260423T125356
CREATED:20180410T153122Z
LAST-MODIFIED:20180410T153122Z
UID:10000188-1529145000-1529152200@www.thecarlebachshul.org
SUMMARY:Children’s Program – Shabbat Morning
DESCRIPTION:
URL:https://www.thecarlebachshul.org/event/childrens-program-shabbat-morning-6-16/
LOCATION:305 W 79th St\, New York\, NY\, 10024
CATEGORIES:Events
ATTACH;FMTTYPE=image/jpeg:https://www.thecarlebachshul.org/wp-content/uploads/2018/04/children-program-1.jpg
END:VEVENT
BEGIN:VEVENT
DTSTART;TZID=America/New_York:20180617T113000
DTEND;TZID=America/New_York:20180617T170000
DTSTAMP:20260423T125356
CREATED:20180510T190601Z
LAST-MODIFIED:20180510T192949Z
UID:10000704-1529235000-1529254800@www.thecarlebachshul.org
SUMMARY:Sunday Yeshiva with Rabbi Avraham Newman
DESCRIPTION:
URL:https://www.thecarlebachshul.org/event/sunday-yeshiva-with-rabbi-avraham-newman-2/
CATEGORIES:Events
ATTACH;FMTTYPE=image/jpeg:https://www.thecarlebachshul.org/wp-content/uploads/2018/04/Avraham-Newman-1.jpg
END:VEVENT
BEGIN:VEVENT
DTSTART;TZID=America/New_York:20180617T212000
DTEND;TZID=America/New_York:20180617T220000
DTSTAMP:20260423T125356
CREATED:20180419T154427Z
LAST-MODIFIED:20180419T154427Z
UID:10000239-1529270400-1529272800@www.thecarlebachshul.org
SUMMARY:Daf Yomi
DESCRIPTION:
URL:https://www.thecarlebachshul.org/event/daf-yomi-sunday-wednesday-920-pm-1000-pm-23/
CATEGORIES:Events
ATTACH;FMTTYPE=image/jpeg:https://www.thecarlebachshul.org/wp-content/uploads/2018/04/daf-yomi.jpg
END:VEVENT
END:VCALENDAR