BEGIN:VCALENDAR
VERSION:2.0
PRODID:-//The Carlebach Shul - ECPv6.2.9//NONSGML v1.0//EN
CALSCALE:GREGORIAN
METHOD:PUBLISH
X-WR-CALNAME:The Carlebach Shul
X-ORIGINAL-URL:https://www.thecarlebachshul.org
X-WR-CALDESC:Events for The Carlebach Shul
REFRESH-INTERVAL;VALUE=DURATION:PT1H
X-Robots-Tag:noindex
X-PUBLISHED-TTL:PT1H
BEGIN:VTIMEZONE
TZID:America/New_York
BEGIN:DAYLIGHT
TZOFFSETFROM:-0500
TZOFFSETTO:-0400
TZNAME:EDT
DTSTART:20180311T070000
END:DAYLIGHT
BEGIN:STANDARD
TZOFFSETFROM:-0400
TZOFFSETTO:-0500
TZNAME:EST
DTSTART:20181104T060000
END:STANDARD
END:VTIMEZONE
BEGIN:VEVENT
DTSTART;TZID=America/New_York:20180701T113000
DTEND;TZID=America/New_York:20180701T170000
DTSTAMP:20260423T110045
CREATED:20180510T191626Z
LAST-MODIFIED:20180510T193024Z
UID:10000706-1530444600-1530464400@www.thecarlebachshul.org
SUMMARY:Sunday Yeshiva with Rabbi Avraham Newman
DESCRIPTION:
URL:https://www.thecarlebachshul.org/event/sunday-yeshiva-with-rabbi-avraham-newman-4/
CATEGORIES:Events
ATTACH;FMTTYPE=image/jpeg:https://www.thecarlebachshul.org/wp-content/uploads/2018/04/Avraham-Newman-1.jpg
END:VEVENT
BEGIN:VEVENT
DTSTART;TZID=America/New_York:20180701T212000
DTEND;TZID=America/New_York:20180701T220000
DTSTAMP:20260423T110045
CREATED:20180501T163223Z
LAST-MODIFIED:20180501T163223Z
UID:10000556-1530480000-1530482400@www.thecarlebachshul.org
SUMMARY:Daf Yomi
DESCRIPTION:
URL:https://www.thecarlebachshul.org/event/daf-yomi-sunday-wednesday-920-pm-1000-pm-31/
CATEGORIES:Events
ATTACH;FMTTYPE=image/jpeg:https://www.thecarlebachshul.org/wp-content/uploads/2018/04/daf-yomi.jpg
END:VEVENT
BEGIN:VEVENT
DTSTART;TZID=America/New_York:20180701T220000
DTEND;TZID=America/New_York:20180701T221500
DTSTAMP:20260423T110045
CREATED:20180501T154727Z
LAST-MODIFIED:20180501T154727Z
UID:10000542-1530482400-1530483300@www.thecarlebachshul.org
SUMMARY:Maariv
DESCRIPTION:
URL:https://www.thecarlebachshul.org/event/maariv-43/
CATEGORIES:Events
ATTACH;FMTTYPE=image/jpeg:https://www.thecarlebachshul.org/wp-content/uploads/2018/04/images-5-1-600x400.jpeg
END:VEVENT
BEGIN:VEVENT
DTSTART;TZID=America/New_York:20180702T212000
DTEND;TZID=America/New_York:20180702T220000
DTSTAMP:20260423T110045
CREATED:20180501T163340Z
LAST-MODIFIED:20180501T163340Z
UID:10000558-1530566400-1530568800@www.thecarlebachshul.org
SUMMARY:Daf Yomi
DESCRIPTION:
URL:https://www.thecarlebachshul.org/event/daf-yomi-sunday-wednesday-920-pm-1000-pm-32/
CATEGORIES:Events
ATTACH;FMTTYPE=image/jpeg:https://www.thecarlebachshul.org/wp-content/uploads/2018/04/daf-yomi.jpg
END:VEVENT
BEGIN:VEVENT
DTSTART;TZID=America/New_York:20180702T220000
DTEND;TZID=America/New_York:20180702T221500
DTSTAMP:20260423T110045
CREATED:20180501T154755Z
LAST-MODIFIED:20180501T154755Z
UID:10000543-1530568800-1530569700@www.thecarlebachshul.org
SUMMARY:Maariv
DESCRIPTION:
URL:https://www.thecarlebachshul.org/event/maariv-44/
CATEGORIES:Events
ATTACH;FMTTYPE=image/jpeg:https://www.thecarlebachshul.org/wp-content/uploads/2018/04/images-5-1-600x400.jpeg
END:VEVENT
BEGIN:VEVENT
DTSTART;TZID=America/New_York:20180703T190000
DTEND;TZID=America/New_York:20180703T210000
DTSTAMP:20260423T110045
CREATED:20180509T164619Z
LAST-MODIFIED:20180509T164640Z
UID:10000658-1530644400-1530651600@www.thecarlebachshul.org
SUMMARY:A Touch of Kabbalah & A Taste of Torah with Rabbi Meir Fund
DESCRIPTION:
URL:https://www.thecarlebachshul.org/event/touch-of-kabbalah-a-taste-of-torah-with-rabbi-meir-fund-6/
CATEGORIES:Events
ATTACH;FMTTYPE=image/jpeg:https://www.thecarlebachshul.org/wp-content/uploads/2018/04/3-myths-about-kabbalah-1-600x400.jpg
END:VEVENT
BEGIN:VEVENT
DTSTART;TZID=America/New_York:20180703T212000
DTEND;TZID=America/New_York:20180703T220000
DTSTAMP:20260423T110045
CREATED:20180501T163417Z
LAST-MODIFIED:20180501T163417Z
UID:10000560-1530652800-1530655200@www.thecarlebachshul.org
SUMMARY:Daf Yomi
DESCRIPTION:
URL:https://www.thecarlebachshul.org/event/daf-yomi-sunday-wednesday-920-pm-1000-pm-33/
CATEGORIES:Events
ATTACH;FMTTYPE=image/jpeg:https://www.thecarlebachshul.org/wp-content/uploads/2018/04/daf-yomi.jpg
END:VEVENT
BEGIN:VEVENT
DTSTART;TZID=America/New_York:20180703T220000
DTEND;TZID=America/New_York:20180703T221500
DTSTAMP:20260423T110045
CREATED:20180501T154850Z
LAST-MODIFIED:20180501T154850Z
UID:10000544-1530655200-1530656100@www.thecarlebachshul.org
SUMMARY:Maariv
DESCRIPTION:
URL:https://www.thecarlebachshul.org/event/maariv-45/
CATEGORIES:Events
ATTACH;FMTTYPE=image/jpeg:https://www.thecarlebachshul.org/wp-content/uploads/2018/04/images-5-1-600x400.jpeg
END:VEVENT
BEGIN:VEVENT
DTSTART;TZID=America/New_York:20180704T212000
DTEND;TZID=America/New_York:20180704T220000
DTSTAMP:20260423T110045
CREATED:20180501T163510Z
LAST-MODIFIED:20180501T163510Z
UID:10000563-1530739200-1530741600@www.thecarlebachshul.org
SUMMARY:Daf Yomi
DESCRIPTION:
URL:https://www.thecarlebachshul.org/event/daf-yomi-sunday-wednesday-920-pm-1000-pm-34/
CATEGORIES:Events
ATTACH;FMTTYPE=image/jpeg:https://www.thecarlebachshul.org/wp-content/uploads/2018/04/daf-yomi.jpg
END:VEVENT
BEGIN:VEVENT
DTSTART;TZID=America/New_York:20180704T220000
DTEND;TZID=America/New_York:20180704T221500
DTSTAMP:20260423T110045
CREATED:20180501T154917Z
LAST-MODIFIED:20180501T154917Z
UID:10000545-1530741600-1530742500@www.thecarlebachshul.org
SUMMARY:Maariv
DESCRIPTION:
URL:https://www.thecarlebachshul.org/event/maariv-46/
CATEGORIES:Events
ATTACH;FMTTYPE=image/jpeg:https://www.thecarlebachshul.org/wp-content/uploads/2018/04/images-5-1-600x400.jpeg
END:VEVENT
BEGIN:VEVENT
DTSTART;TZID=America/New_York:20180705T203000
DTEND;TZID=America/New_York:20180705T221500
DTSTAMP:20260423T110045
CREATED:20180508T160733Z
LAST-MODIFIED:20180508T164947Z
UID:10000316-1530822600-1530828900@www.thecarlebachshul.org
SUMMARY:Daf Yomi – Thursday (With Yitzy Weinberg)
DESCRIPTION:
URL:https://www.thecarlebachshul.org/event/daf-yomi-thursday-with-yitzy-weinberg-7-5/
CATEGORIES:Events
ATTACH;FMTTYPE=image/jpeg:https://www.thecarlebachshul.org/wp-content/uploads/2018/04/Yitzy_Weinberg-1-1.jpg
END:VEVENT
BEGIN:VEVENT
DTSTART;TZID=America/New_York:20180705T220000
DTEND;TZID=America/New_York:20180705T221500
DTSTAMP:20260423T110045
CREATED:20180501T154942Z
LAST-MODIFIED:20180501T154942Z
UID:10000546-1530828000-1530828900@www.thecarlebachshul.org
SUMMARY:Maariv
DESCRIPTION:
URL:https://www.thecarlebachshul.org/event/maariv-47/
CATEGORIES:Events
ATTACH;FMTTYPE=image/jpeg:https://www.thecarlebachshul.org/wp-content/uploads/2018/04/images-5-1-600x400.jpeg
END:VEVENT
BEGIN:VEVENT
DTSTART;TZID=America/New_York:20180706T201100
DTEND;TZID=America/New_York:20180707T211100
DTSTAMP:20260423T110045
CREATED:20180706T160851Z
LAST-MODIFIED:20180706T160851Z
UID:10000787-1530907860-1530997860@www.thecarlebachshul.org
SUMMARY:Yehuda Green is at The Carlebach Shul Shabbat 07/06 – 07/07
DESCRIPTION:Yehuda Green will be leading Kabbalat Shabbat on Friday Night\, July 6th as well as Mussaf on July 7th
URL:https://www.thecarlebachshul.org/event/yehuda-green-is-at-the-carlebach-shul-shabbat-07-06-07-07/
CATEGORIES:Events
ATTACH;FMTTYPE=image/png:https://www.thecarlebachshul.org/wp-content/uploads/2017/08/HP_YehudaGreenIsHere_600x400.png
END:VEVENT
BEGIN:VEVENT
DTSTART;TZID=America/New_York:20180707T103000
DTEND;TZID=America/New_York:20180707T123000
DTSTAMP:20260423T110045
CREATED:20180523T140135Z
LAST-MODIFIED:20180523T140135Z
UID:10000713-1530959400-1530966600@www.thecarlebachshul.org
SUMMARY:Children’s Program – Shabbat Morning
DESCRIPTION:
URL:https://www.thecarlebachshul.org/event/childrens-program-shabbat-morning-6/
CATEGORIES:Events
ATTACH;FMTTYPE=image/jpeg:https://www.thecarlebachshul.org/wp-content/uploads/2018/04/children-program-1.jpg
END:VEVENT
BEGIN:VEVENT
DTSTART;TZID=America/New_York:20180708T113000
DTEND;TZID=America/New_York:20180708T170000
DTSTAMP:20260423T110045
CREATED:20180510T191931Z
LAST-MODIFIED:20180510T193042Z
UID:10000707-1531049400-1531069200@www.thecarlebachshul.org
SUMMARY:Sunday Yeshiva with Rabbi Avraham Newman
DESCRIPTION:
URL:https://www.thecarlebachshul.org/event/sunday-yeshiva-with-rabbi-avraham-newman-5/
CATEGORIES:Events
ATTACH;FMTTYPE=image/jpeg:https://www.thecarlebachshul.org/wp-content/uploads/2018/04/Avraham-Newman-1.jpg
END:VEVENT
BEGIN:VEVENT
DTSTART;TZID=America/New_York:20180708T212000
DTEND;TZID=America/New_York:20180708T220000
DTSTAMP:20260423T110045
CREATED:20180501T163615Z
LAST-MODIFIED:20180501T163615Z
UID:10000565-1531084800-1531087200@www.thecarlebachshul.org
SUMMARY:Daf Yomi
DESCRIPTION:
URL:https://www.thecarlebachshul.org/event/daf-yomi-sunday-wednesday-920-pm-1000-pm-35/
CATEGORIES:Events
ATTACH;FMTTYPE=image/jpeg:https://www.thecarlebachshul.org/wp-content/uploads/2018/04/daf-yomi.jpg
END:VEVENT
BEGIN:VEVENT
DTSTART;TZID=America/New_York:20180708T220000
DTEND;TZID=America/New_York:20180708T221500
DTSTAMP:20260423T110045
CREATED:20180501T155009Z
LAST-MODIFIED:20180501T155009Z
UID:10000547-1531087200-1531088100@www.thecarlebachshul.org
SUMMARY:Maariv
DESCRIPTION:
URL:https://www.thecarlebachshul.org/event/maariv-48/
CATEGORIES:Events
ATTACH;FMTTYPE=image/jpeg:https://www.thecarlebachshul.org/wp-content/uploads/2018/04/images-5-1-600x400.jpeg
END:VEVENT
BEGIN:VEVENT
DTSTART;TZID=America/New_York:20180709T212000
DTEND;TZID=America/New_York:20180709T220000
DTSTAMP:20260423T110045
CREATED:20180501T163655Z
LAST-MODIFIED:20180501T163655Z
UID:10000260-1531171200-1531173600@www.thecarlebachshul.org
SUMMARY:Daf Yomi
DESCRIPTION:
URL:https://www.thecarlebachshul.org/event/daf-yomi-sunday-wednesday-920-pm-1000-pm-36/
CATEGORIES:Events
ATTACH;FMTTYPE=image/jpeg:https://www.thecarlebachshul.org/wp-content/uploads/2018/04/daf-yomi.jpg
END:VEVENT
BEGIN:VEVENT
DTSTART;TZID=America/New_York:20180709T220000
DTEND;TZID=America/New_York:20180709T221500
DTSTAMP:20260423T110045
CREATED:20180501T155033Z
LAST-MODIFIED:20180501T155033Z
UID:10000548-1531173600-1531174500@www.thecarlebachshul.org
SUMMARY:Maariv
DESCRIPTION:
URL:https://www.thecarlebachshul.org/event/maariv-49/
CATEGORIES:Events
ATTACH;FMTTYPE=image/jpeg:https://www.thecarlebachshul.org/wp-content/uploads/2018/04/images-5-1-600x400.jpeg
END:VEVENT
BEGIN:VEVENT
DTSTART;TZID=America/New_York:20180710T190000
DTEND;TZID=America/New_York:20180710T210000
DTSTAMP:20260423T110045
CREATED:20180509T164741Z
LAST-MODIFIED:20180509T164741Z
UID:10000659-1531249200-1531256400@www.thecarlebachshul.org
SUMMARY:A Touch of Kabbalah & A Taste of Torah with Rabbi Meir Fund
DESCRIPTION:
URL:https://www.thecarlebachshul.org/event/touch-of-kabbalah-a-taste-of-torah-with-rabbi-meir-fund-7/
CATEGORIES:Events
ATTACH;FMTTYPE=image/jpeg:https://www.thecarlebachshul.org/wp-content/uploads/2018/04/3-myths-about-kabbalah-1-600x400.jpg
END:VEVENT
BEGIN:VEVENT
DTSTART;TZID=America/New_York:20180710T212000
DTEND;TZID=America/New_York:20180710T220000
DTSTAMP:20260423T110045
CREATED:20180501T163726Z
LAST-MODIFIED:20180501T163726Z
UID:10000262-1531257600-1531260000@www.thecarlebachshul.org
SUMMARY:Daf Yomi
DESCRIPTION:
URL:https://www.thecarlebachshul.org/event/daf-yomi-sunday-wednesday-920-pm-1000-pm-37/
CATEGORIES:Events
ATTACH;FMTTYPE=image/jpeg:https://www.thecarlebachshul.org/wp-content/uploads/2018/04/daf-yomi.jpg
END:VEVENT
BEGIN:VEVENT
DTSTART;TZID=America/New_York:20180710T220000
DTEND;TZID=America/New_York:20180710T221500
DTSTAMP:20260423T110045
CREATED:20180501T155100Z
LAST-MODIFIED:20180501T155100Z
UID:10000250-1531260000-1531260900@www.thecarlebachshul.org
SUMMARY:Maariv
DESCRIPTION:
URL:https://www.thecarlebachshul.org/event/maariv-50/
CATEGORIES:Events
ATTACH;FMTTYPE=image/jpeg:https://www.thecarlebachshul.org/wp-content/uploads/2018/04/images-5-1-600x400.jpeg
END:VEVENT
BEGIN:VEVENT
DTSTART;TZID=America/New_York:20180711T212000
DTEND;TZID=America/New_York:20180711T220000
DTSTAMP:20260423T110045
CREATED:20180501T163755Z
LAST-MODIFIED:20180501T163805Z
UID:10000264-1531344000-1531346400@www.thecarlebachshul.org
SUMMARY:Daf Yomi
DESCRIPTION:
URL:https://www.thecarlebachshul.org/event/daf-yomi-sunday-wednesday-920-pm-1000-pm-38/
CATEGORIES:Events
ATTACH;FMTTYPE=image/jpeg:https://www.thecarlebachshul.org/wp-content/uploads/2018/04/daf-yomi.jpg
END:VEVENT
BEGIN:VEVENT
DTSTART;TZID=America/New_York:20180711T220000
DTEND;TZID=America/New_York:20180711T221500
DTSTAMP:20260423T110045
CREATED:20180501T155141Z
LAST-MODIFIED:20180501T155141Z
UID:10000251-1531346400-1531347300@www.thecarlebachshul.org
SUMMARY:Maariv
DESCRIPTION:
URL:https://www.thecarlebachshul.org/event/maariv-51/
CATEGORIES:Events
ATTACH;FMTTYPE=image/jpeg:https://www.thecarlebachshul.org/wp-content/uploads/2018/04/images-5-1-600x400.jpeg
END:VEVENT
BEGIN:VEVENT
DTSTART;TZID=America/New_York:20180712T203000
DTEND;TZID=America/New_York:20180712T221500
DTSTAMP:20260423T110045
CREATED:20180508T160823Z
LAST-MODIFIED:20180508T165013Z
UID:10000317-1531427400-1531433700@www.thecarlebachshul.org
SUMMARY:Daf Yomi – Thursday (With Yitzy Weinberg)
DESCRIPTION:
URL:https://www.thecarlebachshul.org/event/daf-yomi-thursday-with-yitzy-weinberg-7-12/
CATEGORIES:Events
ATTACH;FMTTYPE=image/jpeg:https://www.thecarlebachshul.org/wp-content/uploads/2018/04/Yitzy_Weinberg-1-1.jpg
END:VEVENT
BEGIN:VEVENT
DTSTART;TZID=America/New_York:20180712T220000
DTEND;TZID=America/New_York:20180712T221500
DTSTAMP:20260423T110045
CREATED:20180501T155205Z
LAST-MODIFIED:20180501T155205Z
UID:10000252-1531432800-1531433700@www.thecarlebachshul.org
SUMMARY:Maariv
DESCRIPTION:
URL:https://www.thecarlebachshul.org/event/maariv-52/
CATEGORIES:Events
ATTACH;FMTTYPE=image/jpeg:https://www.thecarlebachshul.org/wp-content/uploads/2018/04/images-5-1-600x400.jpeg
END:VEVENT
BEGIN:VEVENT
DTSTART;TZID=America/New_York:20180713T190000
DTEND;TZID=America/New_York:20180714T210600
DTSTAMP:20260423T110045
CREATED:20180529T212047Z
LAST-MODIFIED:20180529T212047Z
UID:10000726-1531508400-1531602360@www.thecarlebachshul.org
SUMMARY:Save The Date!!!!! 7/13-14 Long Beach Shabbaton
DESCRIPTION:  \nShabbos by the Sea \nJoin the Carlebach Shul\, in partnership with the BACH and Young Israel of Long Beach\, for an amazing Shabbaton on July 13-14\, featuring Rabbi Naftali Citron\, Yehuda Green\, and the Chevra. \nReservations will be available shortly \nHIGHLIGHTS\nKabbalat Shabbat overlooking the ocean\, with Yehuda Green\nElegant Shabbat dinner on the Boardwalk\nInspirational Torah from Rabbi Naftali Citron\, along with Rabbi Chaim Wakslak and Rabbi Moshe Greene\nSchacharit will be at  Young Israel of Long Beach:120 Long Beach Blvd\, Long Beach\, NY 11561\nCatered lunch\nA chance to experience Shabbos in a relaxed and natural setting with the warm hospitality of the Long Beach Jewish community \nSponsored by The Carlebach Shul\, The Bach Shul\, The Young Israel of Long Beach\, and The United Kehilla of Long Beach. \nBy reservation only. We cannot accommodate anyone without a reservation. \nHOSPITALITY \nThe Shul is unable to provide lodging. We have arranged for special pricing with the Long Beach Hotel. Call soon and mention “Carlebach Shul” or “CBS” to receive a discounted price. http://www.longbeachhotelny.com/ \nAdditional lodging may be available at the Allegria Hotel:  http://www.allegriahotel.com/ \n  \nHotel space is limited\, so please reserve ASAP. \n  \nFor any questions\, email melissa@thecarlebachshul.org \n  \n\n              	\n                      	\n                        		\n                                	Yehuda GreenRead more \n                        	\n                      	\n                      \n                        \n                          \n                            ×\n                            Team Members\n                          \n                            \n                                \n                                \n                                    \n                                    	\n                                    \n                                    \n                                    	Yehuda Green\n                                    	SingerWhile the world of Jewish music has become saturated with “Shlomo Style” performances and performers\, none have captured the hearts and souls of audiences around the world with the soft spoken success of Yehudah Green. \nBorn to a prominent Chassidic family in Jerusalem\, Yehudah received his first exposure to the music of Reb Shlomo Carlebach at the age of five. Despite his tender age (or perhaps because of it)\, Yehudah immediately connected with Shlomo’s sincere –almost spiritual\, soulfulness on a truly “organic” level. Rather than imitate it\, his youthful innocence and exuberance enabled him to “absorb” its essence into his “musical DNA” and ultimately into his signature performance style. \nIt wasn’t until almost two decades later in New Hill England\, when Yehudah had the privilege to share the stage with his “rebbe” (to this day Yehudah describes himself as a talmid (student) of the saintly Rav Shlomo”\, rather than just a singer of his songs). \nThose fortunate enough to have been in the audience that evening describe an event that transcended any concert they’ve been to before or since. Clearly Shlomo sensed in Yehudah a “”kindred spirit” –someone who shared his “voice” and deep regard for the power of the “niggun” (song) . \nThat night evolved into a relationship that became the musical equivalent of “the passing of the torch”. Despite his perpetually busy performance schedule\, Shlomo made it a point to join Yehudah at least three times a year in Israel for standing room only performances that became “the hottest ticket in town”–regardless of who else happened to be in town. \nThose now legendary performances led to an inevitable invitation to the famed Carlebach Shul on Manhattan’s upper West Side\, where Yehudah’s honest\, earthy style immediately set him apart from the countless singers who incorporate interpretations of Shlomo into their performances. Perhaps the greatest compliment of all came about 10 years ago when Yehudah was chosen to lead services during the “Yomim Noroyim”. \nLike the legend who inspires him both personally and professionally\, Yehudah’s fan base is a “living lesson” in Jewish demography. The audiences at his sold out concerts are comprised of people from Williamsburg to Westchester. Attend a Yehudah Green concert and odds are that you’ll find yourself sitting between a traditionally dressed resident of Skver on one side a clearly Mizrachi type from Englewood on the other and a “Uman yarmulkeh” clad lower East Side hipster behind you . \nLike Shlomo\, the honesty of Yehuda’s music unites our people as only our almost universal love of song can. Regardless if its an intimate kumsitz or a sold out concert\, Yehuda’s style evokes an emotionally response that few if any performers can match \nOr\, as he describes it–with a level of modesty that invariably brings his “mentor” to mind; “Music is about honesty–not affectation…since childhood my music and singing just naturally went in Shlomo’s direction…it’s that “emes” that connects with audiences and Baruch Hashem lets them respond on a much deeper level. \n\n                                \n                            \n                            \n                        \n                      \n                    \n                      	\n                        		\n                                	Rabbi Naftali CitronRead more \n                        	\n                      	\n                      \n                        \n                          \n                            ×\n                            Team Members\n                          \n                            \n                                \n                                \n                                    \n                                    	\n                                    \n                                    \n                                    	Rabbi Naftali Citron\n                                    	RabbiOn October 15th\, 2002\, the membership of the Carlebach Shul endorsed the Board’s decision to appoint Rabbi Naftali Citron as our new rabbi. Rabbi Citron assumed full-time responsibilities immediately following Pesach. \nImmediately before coming to the Carlebach Shul\, Rabbi Citron served as the spiritual leader of the Highland Lakes Shul located in Aventura\, Florida. Under his leadership\, that synagogue has become one of the more dynamic Orthodox Jewish institutions in the South Florida region. At Highland Lakes\, Reb Naftali established numerous classes\, events and programs leading to almost a tripling of its membership in four years. Reb Naftali’s approach to Judaism is infused with a joyful spirituality in the service of G-d inspired by the legacy of his late grandfather\, Reb Eli Chaim Carlebach\, zt”l\, and his late great-uncle\, Reb Shlomo Carlebach\, zt”l. \nSince assuming the pulpit once held by his grandfather and great-uncle\, Reb Naftali has brought an energy level to our shul not felt here in many years. He has also initiated and been the driving force behind several new and exciting programs\, such as: The Rosh Chodesh Institute\, Torah in the Park\, Saturday morning shiurim\, and a fabulous community-wide Lag Ba’Omer celebration in Riverside Park. \nRabbi Citron received his Rabbinical ordination from Tomchie Tmimim Lubavitch in 1994. Because of the influence of Reb Shlomo\, zt”l\, he remains committed to openness and diversity in the Jewish community. Reb Naftali has studied extensively the works of the great Chassidic masters as well as the traditional Jewish philosophical works. \nClick Here to read the Jewish Week’s June 2003 article on Rabbi Naftali Citron.
URL:https://www.thecarlebachshul.org/event/save-the-date-7-13-14-long-beach-shabbaton/
LOCATION:210 Edwards Avenue\, Long Beach\, NY 11561\, USA\, 120 Long Beach Blvd\, Long Beach\, NY\, 11561\, United States
CATEGORIES:Events
ATTACH;FMTTYPE=image/jpeg:https://www.thecarlebachshul.org/wp-content/uploads/2018/05/LONGBEACH-600x400_-2018.jpg
END:VEVENT
BEGIN:VEVENT
DTSTART;TZID=America/New_York:20180714T103000
DTEND;TZID=America/New_York:20180714T123000
DTSTAMP:20260423T110045
CREATED:20180523T140235Z
LAST-MODIFIED:20180523T140235Z
UID:10000714-1531564200-1531571400@www.thecarlebachshul.org
SUMMARY:Children’s Program – Shabbat Morning
DESCRIPTION:
URL:https://www.thecarlebachshul.org/event/childrens-program-shabbat-morning-7/
CATEGORIES:Events
ATTACH;FMTTYPE=image/jpeg:https://www.thecarlebachshul.org/wp-content/uploads/2018/04/children-program-1.jpg
END:VEVENT
BEGIN:VEVENT
DTSTART;TZID=America/New_York:20180715T212000
DTEND;TZID=America/New_York:20180715T220000
DTSTAMP:20260423T110045
CREATED:20180501T164447Z
LAST-MODIFIED:20180501T164447Z
UID:10000266-1531689600-1531692000@www.thecarlebachshul.org
SUMMARY:Daf Yomi
DESCRIPTION:
URL:https://www.thecarlebachshul.org/event/daf-yomi/
CATEGORIES:Events
ATTACH;FMTTYPE=image/jpeg:https://www.thecarlebachshul.org/wp-content/uploads/2018/04/daf-yomi.jpg
END:VEVENT
BEGIN:VEVENT
DTSTART;TZID=America/New_York:20180715T220000
DTEND;TZID=America/New_York:20180715T221500
DTSTAMP:20260423T110045
CREATED:20180501T155245Z
LAST-MODIFIED:20180501T155245Z
UID:10000254-1531692000-1531692900@www.thecarlebachshul.org
SUMMARY:Maariv
DESCRIPTION:
URL:https://www.thecarlebachshul.org/event/maariv-53/
CATEGORIES:Events
ATTACH;FMTTYPE=image/jpeg:https://www.thecarlebachshul.org/wp-content/uploads/2018/04/images-5-1-600x400.jpeg
END:VEVENT
END:VCALENDAR