BEGIN:VCALENDAR
VERSION:2.0
PRODID:-//The Carlebach Shul - ECPv6.2.9//NONSGML v1.0//EN
CALSCALE:GREGORIAN
METHOD:PUBLISH
X-ORIGINAL-URL:https://www.thecarlebachshul.org
X-WR-CALDESC:Events for The Carlebach Shul
REFRESH-INTERVAL;VALUE=DURATION:PT1H
X-Robots-Tag:noindex
X-PUBLISHED-TTL:PT1H
BEGIN:VTIMEZONE
TZID:America/New_York
BEGIN:DAYLIGHT
TZOFFSETFROM:-0500
TZOFFSETTO:-0400
TZNAME:EDT
DTSTART:20180311T070000
END:DAYLIGHT
BEGIN:STANDARD
TZOFFSETFROM:-0400
TZOFFSETTO:-0500
TZNAME:EST
DTSTART:20181104T060000
END:STANDARD
END:VTIMEZONE
BEGIN:VEVENT
DTSTART;TZID=America/New_York:20180901T103000
DTEND;TZID=America/New_York:20180901T123000
DTSTAMP:20260423T065648
CREATED:20180523T140715Z
LAST-MODIFIED:20180523T140715Z
UID:10000717-1535797800-1535805000@www.thecarlebachshul.org
SUMMARY:Children’s Program – Shabbat Morning
DESCRIPTION:
URL:https://www.thecarlebachshul.org/event/childrens-program-shabbat-morning-14/
CATEGORIES:Events
ATTACH;FMTTYPE=image/jpeg:https://www.thecarlebachshul.org/wp-content/uploads/2018/04/children-program-1.jpg
END:VEVENT
BEGIN:VEVENT
DTSTART;TZID=America/New_York:20180902T003000
DTEND;TZID=America/New_York:20180902T031500
DTSTAMP:20260423T065648
CREATED:20180719T182618Z
LAST-MODIFIED:20180719T182618Z
UID:10000796-1535848200-1535858100@www.thecarlebachshul.org
SUMMARY:Selichot Tickets – Sunday morning\, September 2nd\, 12:30 AM – Carlebach Shul Selichot at West Side Institutional Synagogue
DESCRIPTION:
URL:https://www.thecarlebachshul.org/event/selichot-tickets-sunday-morning-september-2nd-1230-am-carlebach-shul-selichot-at-west-side-institutional-synagogue/
CATEGORIES:Events,Holidays,Homepage+1,Rosh Hashanah
ATTACH;FMTTYPE=image/jpeg:https://www.thecarlebachshul.org/wp-content/uploads/2016/07/slichot-Yehuda3-1.jpg
END:VEVENT
BEGIN:VEVENT
DTSTART;TZID=America/New_York:20180902T212000
DTEND;TZID=America/New_York:20180902T220000
DTSTAMP:20260423T065648
CREATED:20180507T205605Z
LAST-MODIFIED:20180507T205605Z
UID:10000613-1535923200-1535925600@www.thecarlebachshul.org
SUMMARY:Daf Yomi
DESCRIPTION:
URL:https://www.thecarlebachshul.org/event/daf-yomi-sunday-wednesday-920-pm-1000-pm-67/
CATEGORIES:Events
ATTACH;FMTTYPE=image/jpeg:https://www.thecarlebachshul.org/wp-content/uploads/2018/04/daf-yomi.jpg
END:VEVENT
BEGIN:VEVENT
DTSTART;TZID=America/New_York:20180902T220000
DTEND;TZID=America/New_York:20180902T221500
DTSTAMP:20260423T065648
CREATED:20180507T202909Z
LAST-MODIFIED:20180507T202909Z
UID:10000301-1535925600-1535926500@www.thecarlebachshul.org
SUMMARY:Maariv
DESCRIPTION:
URL:https://www.thecarlebachshul.org/event/maariv-88/
CATEGORIES:Events
ATTACH;FMTTYPE=image/jpeg:https://www.thecarlebachshul.org/wp-content/uploads/2018/04/images-5-1-600x400.jpeg
END:VEVENT
BEGIN:VEVENT
DTSTART;TZID=America/New_York:20180903T212000
DTEND;TZID=America/New_York:20180903T220000
DTSTAMP:20260423T065648
CREATED:20180507T205652Z
LAST-MODIFIED:20180507T205652Z
UID:10000614-1536009600-1536012000@www.thecarlebachshul.org
SUMMARY:Daf Yomi
DESCRIPTION:
URL:https://www.thecarlebachshul.org/event/daf-yomi-sunday-wednesday-920-pm-1000-pm-68/
CATEGORIES:Events
ATTACH;FMTTYPE=image/jpeg:https://www.thecarlebachshul.org/wp-content/uploads/2018/04/daf-yomi.jpg
END:VEVENT
BEGIN:VEVENT
DTSTART;TZID=America/New_York:20180903T220000
DTEND;TZID=America/New_York:20180903T221500
DTSTAMP:20260423T065648
CREATED:20180507T202943Z
LAST-MODIFIED:20180507T202943Z
UID:10000302-1536012000-1536012900@www.thecarlebachshul.org
SUMMARY:Maariv
DESCRIPTION:
URL:https://www.thecarlebachshul.org/event/maariv-89/
CATEGORIES:Events
ATTACH;FMTTYPE=image/jpeg:https://www.thecarlebachshul.org/wp-content/uploads/2018/04/images-5-1-600x400.jpeg
END:VEVENT
BEGIN:VEVENT
DTSTART;TZID=America/New_York:20180904T212000
DTEND;TZID=America/New_York:20180904T220000
DTSTAMP:20260423T065648
CREATED:20180507T205731Z
LAST-MODIFIED:20180507T205731Z
UID:10000615-1536096000-1536098400@www.thecarlebachshul.org
SUMMARY:Daf Yomi
DESCRIPTION:
URL:https://www.thecarlebachshul.org/event/daf-yomi-sunday-wednesday-920-pm-1000-pm-68-2/
CATEGORIES:Events
ATTACH;FMTTYPE=image/jpeg:https://www.thecarlebachshul.org/wp-content/uploads/2018/04/daf-yomi.jpg
END:VEVENT
BEGIN:VEVENT
DTSTART;TZID=America/New_York:20180904T220000
DTEND;TZID=America/New_York:20180904T221500
DTSTAMP:20260423T065648
CREATED:20180507T203215Z
LAST-MODIFIED:20180507T203215Z
UID:10000303-1536098400-1536099300@www.thecarlebachshul.org
SUMMARY:Maariv
DESCRIPTION:
URL:https://www.thecarlebachshul.org/event/maariv-90/
CATEGORIES:Events
ATTACH;FMTTYPE=image/jpeg:https://www.thecarlebachshul.org/wp-content/uploads/2018/04/images-5-1-600x400.jpeg
END:VEVENT
BEGIN:VEVENT
DTSTART;TZID=America/New_York:20180905T212000
DTEND;TZID=America/New_York:20180905T220000
DTSTAMP:20260423T065648
CREATED:20180507T205810Z
LAST-MODIFIED:20180507T205810Z
UID:10000616-1536182400-1536184800@www.thecarlebachshul.org
SUMMARY:Daf Yomi
DESCRIPTION:
URL:https://www.thecarlebachshul.org/event/daf-yomi-sunday-wednesday-920-pm-1000-pm-70/
CATEGORIES:Events
ATTACH;FMTTYPE=image/jpeg:https://www.thecarlebachshul.org/wp-content/uploads/2018/04/daf-yomi.jpg
END:VEVENT
BEGIN:VEVENT
DTSTART;TZID=America/New_York:20180905T220000
DTEND;TZID=America/New_York:20180905T221500
DTSTAMP:20260423T065648
CREATED:20180507T203326Z
LAST-MODIFIED:20180507T203326Z
UID:10000304-1536184800-1536185700@www.thecarlebachshul.org
SUMMARY:Maariv
DESCRIPTION:
URL:https://www.thecarlebachshul.org/event/maariv-91/
CATEGORIES:Events
ATTACH;FMTTYPE=image/jpeg:https://www.thecarlebachshul.org/wp-content/uploads/2018/04/images-5-1-600x400.jpeg
END:VEVENT
BEGIN:VEVENT
DTSTART;TZID=America/New_York:20180906T203000
DTEND;TZID=America/New_York:20180906T221500
DTSTAMP:20260423T065648
CREATED:20180508T165745Z
LAST-MODIFIED:20180508T170118Z
UID:10000622-1536265800-1536272100@www.thecarlebachshul.org
SUMMARY:Daf Yomi – Thursday (With Yitzy Weinberg)
DESCRIPTION:
URL:https://www.thecarlebachshul.org/event/daf-yomi-thursday-night-shiur-with-yitzy-weinberg-3/
CATEGORIES:Events
ATTACH;FMTTYPE=image/jpeg:https://www.thecarlebachshul.org/wp-content/uploads/2018/04/Yitzy_Weinberg-1-1.jpg
END:VEVENT
BEGIN:VEVENT
DTSTART;TZID=America/New_York:20180906T220000
DTEND;TZID=America/New_York:20180906T221500
DTSTAMP:20260423T065648
CREATED:20180507T203356Z
LAST-MODIFIED:20180507T203356Z
UID:10000306-1536271200-1536272100@www.thecarlebachshul.org
SUMMARY:Maariv
DESCRIPTION:
URL:https://www.thecarlebachshul.org/event/maariv-92/
CATEGORIES:Events
ATTACH;FMTTYPE=image/jpeg:https://www.thecarlebachshul.org/wp-content/uploads/2018/04/images-5-1-600x400.jpeg
END:VEVENT
BEGIN:VEVENT
DTSTART;TZID=America/New_York:20180907T185900
DTEND;TZID=America/New_York:20180908T195900
DTSTAMP:20260423T065648
CREATED:20180509T151005Z
LAST-MODIFIED:20180509T151005Z
UID:10000326-1536346740-1536436740@www.thecarlebachshul.org
SUMMARY:Friday – Shabbat Schedule 9/07-9/08
DESCRIPTION:
URL:https://www.thecarlebachshul.org/event/friday-shabbat-schedule-9-07-9-08/
CATEGORIES:Events,Friday-Shabbat Schedule
ATTACH;FMTTYPE=image/jpeg:https://www.thecarlebachshul.org/wp-content/uploads/2018/04/Carlebach-HP.jpg
END:VEVENT
BEGIN:VEVENT
DTSTART;TZID=America/New_York:20180908T103000
DTEND;TZID=America/New_York:20180908T123000
DTSTAMP:20260423T065648
CREATED:20180523T140829Z
LAST-MODIFIED:20180523T140829Z
UID:10000718-1536402600-1536409800@www.thecarlebachshul.org
SUMMARY:Children’s Program – Shabbat Morning
DESCRIPTION:
URL:https://www.thecarlebachshul.org/event/childrens-program-shabbat-morning-15/
CATEGORIES:Events
ATTACH;FMTTYPE=image/jpeg:https://www.thecarlebachshul.org/wp-content/uploads/2018/04/children-program-1.jpg
END:VEVENT
BEGIN:VEVENT
DTSTART;TZID=America/New_York:20180909T185600
DTEND;TZID=America/New_York:20180911T195200
DTSTAMP:20260423T065648
CREATED:20180604T203616Z
LAST-MODIFIED:20180604T203805Z
UID:10000745-1536519360-1536695520@www.thecarlebachshul.org
SUMMARY:Rosh Hashanah: Full Schedule\, Dinner\, Aliyot and Seat Reservations (2018)
DESCRIPTION:ROSH HASHANAH with Rabbi Naftali Citron\, Michael Most & Yehuda Green\nThe Services are led by Rabbi Naftali Citron\, who\, as a teacher and motivator\, will look to find the inner meaning of compassion and forgiveness in these High Holidays. Reb Naftali will be drawing on the deep resources of our spiritual inheritance\, such as the Zohar\, Reb Nachman of Breslov\, Ishbetzer Chassidut\, and the teachings of Rabbi Shlomo Carlebach. \n  \nClick here to buy High Holiday Tickets\n  \nClcik here to buy an Aliya \n\n              	\n                      	\n                        		\n                                	Yehuda GreenRead more \n                        	\n                      	\n                      \n                        \n                          \n                            ×\n                            Team Members\n                          \n                            \n                                \n                                \n                                    \n                                    	\n                                    \n                                    \n                                    	Yehuda Green\n                                    	SingerWhile the world of Jewish music has become saturated with “Shlomo Style” performances and performers\, none have captured the hearts and souls of audiences around the world with the soft spoken success of Yehudah Green. \nBorn to a prominent Chassidic family in Jerusalem\, Yehudah received his first exposure to the music of Reb Shlomo Carlebach at the age of five. Despite his tender age (or perhaps because of it)\, Yehudah immediately connected with Shlomo’s sincere –almost spiritual\, soulfulness on a truly “organic” level. Rather than imitate it\, his youthful innocence and exuberance enabled him to “absorb” its essence into his “musical DNA” and ultimately into his signature performance style. \nIt wasn’t until almost two decades later in New Hill England\, when Yehudah had the privilege to share the stage with his “rebbe” (to this day Yehudah describes himself as a talmid (student) of the saintly Rav Shlomo”\, rather than just a singer of his songs). \nThose fortunate enough to have been in the audience that evening describe an event that transcended any concert they’ve been to before or since. Clearly Shlomo sensed in Yehudah a “”kindred spirit” –someone who shared his “voice” and deep regard for the power of the “niggun” (song) . \nThat night evolved into a relationship that became the musical equivalent of “the passing of the torch”. Despite his perpetually busy performance schedule\, Shlomo made it a point to join Yehudah at least three times a year in Israel for standing room only performances that became “the hottest ticket in town”–regardless of who else happened to be in town. \nThose now legendary performances led to an inevitable invitation to the famed Carlebach Shul on Manhattan’s upper West Side\, where Yehudah’s honest\, earthy style immediately set him apart from the countless singers who incorporate interpretations of Shlomo into their performances. Perhaps the greatest compliment of all came about 10 years ago when Yehudah was chosen to lead services during the “Yomim Noroyim”. \nLike the legend who inspires him both personally and professionally\, Yehudah’s fan base is a “living lesson” in Jewish demography. The audiences at his sold out concerts are comprised of people from Williamsburg to Westchester. Attend a Yehudah Green concert and odds are that you’ll find yourself sitting between a traditionally dressed resident of Skver on one side a clearly Mizrachi type from Englewood on the other and a “Uman yarmulkeh” clad lower East Side hipster behind you . \nLike Shlomo\, the honesty of Yehuda’s music unites our people as only our almost universal love of song can. Regardless if its an intimate kumsitz or a sold out concert\, Yehuda’s style evokes an emotionally response that few if any performers can match \nOr\, as he describes it–with a level of modesty that invariably brings his “mentor” to mind; “Music is about honesty–not affectation…since childhood my music and singing just naturally went in Shlomo’s direction…it’s that “emes” that connects with audiences and Baruch Hashem lets them respond on a much deeper level. \n\n                                \n                            \n                            \n                        \n                      \n                    \n                      	\n                        		\n                                	Rabbi Naftali CitronRead more \n                        	\n                      	\n                      \n                        \n                          \n                            ×\n                            Team Members\n                          \n                            \n                                \n                                \n                                    \n                                    	\n                                    \n                                    \n                                    	Rabbi Naftali Citron\n                                    	RabbiOn October 15th\, 2002\, the membership of the Carlebach Shul endorsed the Board’s decision to appoint Rabbi Naftali Citron as our new rabbi. Rabbi Citron assumed full-time responsibilities immediately following Pesach. \nImmediately before coming to the Carlebach Shul\, Rabbi Citron served as the spiritual leader of the Highland Lakes Shul located in Aventura\, Florida. Under his leadership\, that synagogue has become one of the more dynamic Orthodox Jewish institutions in the South Florida region. At Highland Lakes\, Reb Naftali established numerous classes\, events and programs leading to almost a tripling of its membership in four years. Reb Naftali’s approach to Judaism is infused with a joyful spirituality in the service of G-d inspired by the legacy of his late grandfather\, Reb Eli Chaim Carlebach\, zt”l\, and his late great-uncle\, Reb Shlomo Carlebach\, zt”l. \nSince assuming the pulpit once held by his grandfather and great-uncle\, Reb Naftali has brought an energy level to our shul not felt here in many years. He has also initiated and been the driving force behind several new and exciting programs\, such as: The Rosh Chodesh Institute\, Torah in the Park\, Saturday morning shiurim\, and a fabulous community-wide Lag Ba’Omer celebration in Riverside Park. \nRabbi Citron received his Rabbinical ordination from Tomchie Tmimim Lubavitch in 1994. Because of the influence of Reb Shlomo\, zt”l\, he remains committed to openness and diversity in the Jewish community. Reb Naftali has studied extensively the works of the great Chassidic masters as well as the traditional Jewish philosophical works. \nClick Here to read the Jewish Week’s June 2003 article on Rabbi Naftali Citron. \n\n                                \n                            \n                            \n                        \n                      \n                    \n*An intensely spiritual service full of songs based on the traditional High Holiday liturgy as well as on Rabbi Shlomo Carlebach’s melodies. *A journey of this yearly gift of spiritual awakening that opens our emotions for divine forgiveness\, acceptance\, and unconditional love. *The joy of this cleansing process\, that will help set one free from negative behavior patterns. \nSunday\, September 9th\, EREV ROSH HASHANAH:\nCandle Lighting: 6:56 PM\nMincha/Maariv Services: 7:00 PM\nYom Tov Meal: 8:05 PM  – 11:00 PM \nMonday\, September 10th\, 1st DAY ROSH HASHANAH:\nMorning Services: 9:00 AM\nMincha: 6:10 PM\nTashlich at 79th Street Boat Basin (approx) 6:40 PM\nCandle Lighting: not before 8:02 PM\nMaariv Services: 8:02 PM\nYom Tov Meal: 8:42 PM  – 11:00 PM \nTuesday\, September 11th\, 2nd DAY ROSH HASHANAH:\nMorning Services: 9:00 AM\nMincha: 7:05 PM\nYom Tov ends: 7:52 PM \nReserve Meals Here\n 
URL:https://www.thecarlebachshul.org/event/rosh-hashanah-full-schedule-dinner-aliyot-and-seat-reservations-2018/
CATEGORIES:Events,Holidays,Rosh Hashanah,Special Events
ATTACH;FMTTYPE=image/png:https://www.thecarlebachshul.org/wp-content/uploads/2016/04/RoshHashana-1.png
END:VEVENT
BEGIN:VEVENT
DTSTART;TZID=America/New_York:20180912T212000
DTEND;TZID=America/New_York:20180912T220000
DTSTAMP:20260423T065648
CREATED:20180507T205855Z
LAST-MODIFIED:20180507T205855Z
UID:10000617-1536787200-1536789600@www.thecarlebachshul.org
SUMMARY:Daf Yomi
DESCRIPTION:
URL:https://www.thecarlebachshul.org/event/daf-yomi-sunday-wednesday-920-pm-1000-pm-71/
CATEGORIES:Events
ATTACH;FMTTYPE=image/jpeg:https://www.thecarlebachshul.org/wp-content/uploads/2018/04/daf-yomi.jpg
END:VEVENT
BEGIN:VEVENT
DTSTART;TZID=America/New_York:20180912T220000
DTEND;TZID=America/New_York:20180912T221500
DTSTAMP:20260423T065648
CREATED:20180507T203532Z
LAST-MODIFIED:20180507T203532Z
UID:10000307-1536789600-1536790500@www.thecarlebachshul.org
SUMMARY:Maariv
DESCRIPTION:
URL:https://www.thecarlebachshul.org/event/maariv-93/
CATEGORIES:Events
ATTACH;FMTTYPE=image/jpeg:https://www.thecarlebachshul.org/wp-content/uploads/2018/04/images-5-1-600x400.jpeg
END:VEVENT
BEGIN:VEVENT
DTSTART;TZID=America/New_York:20180913T203000
DTEND;TZID=America/New_York:20180913T221500
DTSTAMP:20260423T065648
CREATED:20180508T170241Z
LAST-MODIFIED:20180508T170241Z
UID:10000623-1536870600-1536876900@www.thecarlebachshul.org
SUMMARY:Daf Yomi – Thursday (With Yitzy Weinberg)
DESCRIPTION:
URL:https://www.thecarlebachshul.org/event/daf-yomi-thursday-night-shiur-with-yitzy-weinberg-4/
CATEGORIES:Events
ATTACH;FMTTYPE=image/jpeg:https://www.thecarlebachshul.org/wp-content/uploads/2018/04/Yitzy_Weinberg-1-1.jpg
END:VEVENT
BEGIN:VEVENT
DTSTART;TZID=America/New_York:20180913T220000
DTEND;TZID=America/New_York:20180913T221500
DTSTAMP:20260423T065648
CREATED:20180507T203641Z
LAST-MODIFIED:20180507T203642Z
UID:10000308-1536876000-1536876900@www.thecarlebachshul.org
SUMMARY:Maariv
DESCRIPTION:
URL:https://www.thecarlebachshul.org/event/maariv-94/
CATEGORIES:Events
ATTACH;FMTTYPE=image/jpeg:https://www.thecarlebachshul.org/wp-content/uploads/2018/04/images-5-1-600x400.jpeg
END:VEVENT
BEGIN:VEVENT
DTSTART;TZID=America/New_York:20180914T190000
DTEND;TZID=America/New_York:20180914T231500
DTSTAMP:20260423T065648
CREATED:20180815T132558Z
LAST-MODIFIED:20180815T132645Z
UID:10000801-1536951600-1536966900@www.thecarlebachshul.org
SUMMARY:Shabbat Dinner Friday September 14th with Rabbi Elie Weinstock and Rabbi Naftali Citron
DESCRIPTION:
URL:https://www.thecarlebachshul.org/event/shabbat-dinner-friday-september-14th-with-rabbi-elie-weinstock/
CATEGORIES:Events,Homepage+1,HP Banner Event,Special Events
ATTACH;FMTTYPE=image/png:https://www.thecarlebachshul.org/wp-content/uploads/2018/08/Weinstock2.png
END:VEVENT
BEGIN:VEVENT
DTSTART;TZID=America/New_York:20180915T103000
DTEND;TZID=America/New_York:20180915T123000
DTSTAMP:20260423T065648
CREATED:20180523T140913Z
LAST-MODIFIED:20180523T140913Z
UID:10000719-1537007400-1537014600@www.thecarlebachshul.org
SUMMARY:Children’s Program – Shabbat Morning
DESCRIPTION:
URL:https://www.thecarlebachshul.org/event/childrens-program-shabbat-morning-16/
CATEGORIES:Events
ATTACH;FMTTYPE=image/jpeg:https://www.thecarlebachshul.org/wp-content/uploads/2018/04/children-program-1.jpg
END:VEVENT
BEGIN:VEVENT
DTSTART;TZID=America/New_York:20180915T174000
DTEND;TZID=America/New_York:20180915T184000
DTSTAMP:20260423T065648
CREATED:20180913T172237Z
LAST-MODIFIED:20180913T172237Z
UID:10000803-1537033200-1537036800@www.thecarlebachshul.org
SUMMARY:Shabbat Shuva Drasha
DESCRIPTION:
URL:https://www.thecarlebachshul.org/event/shabbat-shuva-drasha/
CATEGORIES:Classes,Events,Rosh Hashanah
ATTACH;FMTTYPE=image/jpeg:https://www.thecarlebachshul.org/wp-content/uploads/2016/02/Rabbi_Naftali_Citron-1.jpg
END:VEVENT
BEGIN:VEVENT
DTSTART;TZID=America/New_York:20180916T212000
DTEND;TZID=America/New_York:20180916T220000
DTSTAMP:20260423T065648
CREATED:20180507T205930Z
LAST-MODIFIED:20180507T205930Z
UID:10000618-1537132800-1537135200@www.thecarlebachshul.org
SUMMARY:Daf Yomi
DESCRIPTION:
URL:https://www.thecarlebachshul.org/event/daf-yomi-sunday-wednesday-920-pm-1000-pm-72/
CATEGORIES:Events
ATTACH;FMTTYPE=image/jpeg:https://www.thecarlebachshul.org/wp-content/uploads/2018/04/daf-yomi.jpg
END:VEVENT
BEGIN:VEVENT
DTSTART;TZID=America/New_York:20180916T220000
DTEND;TZID=America/New_York:20180916T221500
DTSTAMP:20260423T065648
CREATED:20180507T203831Z
LAST-MODIFIED:20180507T203831Z
UID:10000309-1537135200-1537136100@www.thecarlebachshul.org
SUMMARY:Maariv
DESCRIPTION:
URL:https://www.thecarlebachshul.org/event/maariv-95/
CATEGORIES:Events
ATTACH;FMTTYPE=image/jpeg:https://www.thecarlebachshul.org/wp-content/uploads/2018/04/images-5-1-600x400.jpeg
END:VEVENT
BEGIN:VEVENT
DTSTART;TZID=America/New_York:20180917T212000
DTEND;TZID=America/New_York:20180917T220000
DTSTAMP:20260423T065648
CREATED:20180507T210007Z
LAST-MODIFIED:20180507T210007Z
UID:10000619-1537219200-1537221600@www.thecarlebachshul.org
SUMMARY:Daf Yomi
DESCRIPTION:
URL:https://www.thecarlebachshul.org/event/daf-yomi-sunday-wednesday-920-pm-1000-pm-73/
CATEGORIES:Events
ATTACH;FMTTYPE=image/jpeg:https://www.thecarlebachshul.org/wp-content/uploads/2018/04/daf-yomi.jpg
END:VEVENT
BEGIN:VEVENT
DTSTART;TZID=America/New_York:20180917T220000
DTEND;TZID=America/New_York:20180917T221500
DTSTAMP:20260423T065648
CREATED:20180507T203906Z
LAST-MODIFIED:20180507T203906Z
UID:10000311-1537221600-1537222500@www.thecarlebachshul.org
SUMMARY:Maariv
DESCRIPTION:
URL:https://www.thecarlebachshul.org/event/maariv-96/
CATEGORIES:Events
ATTACH;FMTTYPE=image/jpeg:https://www.thecarlebachshul.org/wp-content/uploads/2018/04/images-5-1-600x400.jpeg
END:VEVENT
BEGIN:VEVENT
DTSTART;TZID=America/New_York:20180920T203000
DTEND;TZID=America/New_York:20180920T221500
DTSTAMP:20260423T065648
CREATED:20180508T170330Z
LAST-MODIFIED:20180508T170330Z
UID:10000624-1537475400-1537481700@www.thecarlebachshul.org
SUMMARY:Daf Yomi – Thursday (With Yitzy Weinberg)
DESCRIPTION:
URL:https://www.thecarlebachshul.org/event/daf-yomi-thursday-night-shiur-with-yitzy-weinberg-5/
CATEGORIES:Events
ATTACH;FMTTYPE=image/jpeg:https://www.thecarlebachshul.org/wp-content/uploads/2018/04/Yitzy_Weinberg-1-1.jpg
END:VEVENT
BEGIN:VEVENT
DTSTART;TZID=America/New_York:20180920T220000
DTEND;TZID=America/New_York:20180920T221500
DTSTAMP:20260423T065648
CREATED:20180507T203944Z
LAST-MODIFIED:20180507T203944Z
UID:10000610-1537480800-1537481700@www.thecarlebachshul.org
SUMMARY:Maariv
DESCRIPTION:
URL:https://www.thecarlebachshul.org/event/maariv-97/
CATEGORIES:Events
ATTACH;FMTTYPE=image/jpeg:https://www.thecarlebachshul.org/wp-content/uploads/2018/04/images-5-1-600x400.jpeg
END:VEVENT
BEGIN:VEVENT
DTSTART;TZID=America/New_York:20180921T183600
DTEND;TZID=America/New_York:20180922T193600
DTSTAMP:20260423T065648
CREATED:20180509T151730Z
LAST-MODIFIED:20180509T151730Z
UID:10000331-1537554960-1537644960@www.thecarlebachshul.org
SUMMARY:Friday – Shabbat Schedule 9/21-9/22
DESCRIPTION:
URL:https://www.thecarlebachshul.org/event/friday-shabbat-schedule-9-21-9-22/
CATEGORIES:Events,Friday-Shabbat Schedule
ATTACH;FMTTYPE=image/jpeg:https://www.thecarlebachshul.org/wp-content/uploads/2018/04/Carlebach-HP.jpg
END:VEVENT
BEGIN:VEVENT
DTSTART;TZID=America/New_York:20180922T103000
DTEND;TZID=America/New_York:20180922T123000
DTSTAMP:20260423T065648
CREATED:20180523T140951Z
LAST-MODIFIED:20180523T140951Z
UID:10000720-1537612200-1537619400@www.thecarlebachshul.org
SUMMARY:Children’s Program – Shabbat Morning
DESCRIPTION:
URL:https://www.thecarlebachshul.org/event/childrens-program-shabbat-morning-17/
CATEGORIES:Events
ATTACH;FMTTYPE=image/jpeg:https://www.thecarlebachshul.org/wp-content/uploads/2018/04/children-program-1.jpg
END:VEVENT
END:VCALENDAR