BEGIN:VCALENDAR
VERSION:2.0
PRODID:-//The Carlebach Shul - ECPv6.2.9//NONSGML v1.0//EN
CALSCALE:GREGORIAN
METHOD:PUBLISH
X-WR-CALNAME:The Carlebach Shul
X-ORIGINAL-URL:https://www.thecarlebachshul.org
X-WR-CALDESC:Events for The Carlebach Shul
REFRESH-INTERVAL;VALUE=DURATION:PT1H
X-Robots-Tag:noindex
X-PUBLISHED-TTL:PT1H
BEGIN:VTIMEZONE
TZID:America/New_York
BEGIN:DAYLIGHT
TZOFFSETFROM:-0500
TZOFFSETTO:-0400
TZNAME:EDT
DTSTART:20180311T070000
END:DAYLIGHT
BEGIN:STANDARD
TZOFFSETFROM:-0400
TZOFFSETTO:-0500
TZNAME:EST
DTSTART:20181104T060000
END:STANDARD
END:VTIMEZONE
BEGIN:VEVENT
DTSTART;TZID=America/New_York:20180930T182000
DTEND;TZID=America/New_York:20181002T192000
DTSTAMP:20260423T045441
CREATED:20180718T134313Z
LAST-MODIFIED:20180718T134313Z
UID:10000794-1538331600-1538508000@www.thecarlebachshul.org
SUMMARY:Shemini Atzeret and Simchat Torah Schedule
DESCRIPTION:
URL:https://www.thecarlebachshul.org/event/shemini-atzeret-and-simchat-torah-schedule/
CATEGORIES:Events,Holidays
ATTACH;FMTTYPE=image/jpeg:https://www.thecarlebachshul.org/wp-content/uploads/2016/02/Geshem-Ad.jpg
END:VEVENT
BEGIN:VEVENT
DTSTART;TZID=America/New_York:20181001T204500
DTEND;TZID=America/New_York:20181002T020000
DTSTAMP:20260423T045441
CREATED:20180718T132826Z
LAST-MODIFIED:20180718T132826Z
UID:10000791-1538426700-1538445600@www.thecarlebachshul.org
SUMMARY:Legendary Hakafot
DESCRIPTION:
URL:https://www.thecarlebachshul.org/event/legendary-hakafot/
CATEGORIES:Events,Holidays
ATTACH;FMTTYPE=image/png:https://www.thecarlebachshul.org/wp-content/uploads/2016/10/Screen-Shot-2016-10-11-at-3.15.22-PM.png
END:VEVENT
BEGIN:VEVENT
DTSTART;TZID=America/New_York:20181003T212000
DTEND;TZID=America/New_York:20181003T220000
DTSTAMP:20260423T045441
CREATED:20180509T160938Z
LAST-MODIFIED:20180509T160938Z
UID:10000340-1538601600-1538604000@www.thecarlebachshul.org
SUMMARY:Daf Yomi
DESCRIPTION:
URL:https://www.thecarlebachshul.org/event/daf-yomi-sunday-wednesday-920-pm-1000-pm-75/
CATEGORIES:Events
ATTACH;FMTTYPE=image/jpeg:https://www.thecarlebachshul.org/wp-content/uploads/2018/04/daf-yomi.jpg
END:VEVENT
BEGIN:VEVENT
DTSTART;TZID=America/New_York:20181003T220000
DTEND;TZID=America/New_York:20181003T221500
DTSTAMP:20260423T045441
CREATED:20180508T182654Z
LAST-MODIFIED:20180508T182654Z
UID:10000626-1538604000-1538604900@www.thecarlebachshul.org
SUMMARY:Maariv
DESCRIPTION:
URL:https://www.thecarlebachshul.org/event/maariv-100/
CATEGORIES:Events
ATTACH;FMTTYPE=image/jpeg:https://www.thecarlebachshul.org/wp-content/uploads/2018/04/images-5-1-600x400.jpeg
END:VEVENT
BEGIN:VEVENT
DTSTART;TZID=America/New_York:20181004T203000
DTEND;TZID=America/New_York:20181004T221500
DTSTAMP:20260423T045441
CREATED:20180508T170600Z
LAST-MODIFIED:20180508T170611Z
UID:10000625-1538685000-1538691300@www.thecarlebachshul.org
SUMMARY:Daf Yomi – Thursday (With Yitzy Weinberg)
DESCRIPTION:
URL:https://www.thecarlebachshul.org/event/daf-yomi-thursday-night-shiur-with-yitzy-weinberg-6/
CATEGORIES:Events
ATTACH;FMTTYPE=image/jpeg:https://www.thecarlebachshul.org/wp-content/uploads/2018/04/Yitzy_Weinberg-1-1.jpg
END:VEVENT
BEGIN:VEVENT
DTSTART;TZID=America/New_York:20181004T220000
DTEND;TZID=America/New_York:20181004T221500
DTSTAMP:20260423T045441
CREATED:20180508T190456Z
LAST-MODIFIED:20180508T190456Z
UID:10000627-1538690400-1538691300@www.thecarlebachshul.org
SUMMARY:Maariv
DESCRIPTION:
URL:https://www.thecarlebachshul.org/event/maariv-101/
CATEGORIES:Events
ATTACH;FMTTYPE=image/jpeg:https://www.thecarlebachshul.org/wp-content/uploads/2018/04/images-5-1-600x400.jpeg
END:VEVENT
BEGIN:VEVENT
DTSTART;TZID=America/New_York:20181005T181200
DTEND;TZID=America/New_York:20181006T191200
DTSTAMP:20260423T045441
CREATED:20180509T152310Z
LAST-MODIFIED:20180509T152310Z
UID:10000337-1538763120-1538853120@www.thecarlebachshul.org
SUMMARY:Friday – Shabbat Schedule 10/05-10/06
DESCRIPTION:
URL:https://www.thecarlebachshul.org/event/friday-shabbat-schedule-10-05-10-06/
CATEGORIES:Events,Friday-Shabbat Schedule
ATTACH;FMTTYPE=image/jpeg:https://www.thecarlebachshul.org/wp-content/uploads/2018/04/Carlebach-HP.jpg
END:VEVENT
BEGIN:VEVENT
DTSTART;TZID=America/New_York:20181006T103000
DTEND;TZID=America/New_York:20181006T123000
DTSTAMP:20260423T045441
CREATED:20180523T141146Z
LAST-MODIFIED:20180523T141146Z
UID:10000414-1538821800-1538829000@www.thecarlebachshul.org
SUMMARY:Children’s Program – Shabbat Morning
DESCRIPTION:
URL:https://www.thecarlebachshul.org/event/childrens-program-shabbat-morning-19/
CATEGORIES:Events
ATTACH;FMTTYPE=image/jpeg:https://www.thecarlebachshul.org/wp-content/uploads/2018/04/children-program-1.jpg
END:VEVENT
BEGIN:VEVENT
DTSTART;TZID=America/New_York:20181007T113000
DTEND;TZID=America/New_York:20181007T170000
DTSTAMP:20260423T045441
CREATED:20180510T192024Z
LAST-MODIFIED:20180510T193101Z
UID:10000398-1538911800-1538931600@www.thecarlebachshul.org
SUMMARY:Sunday Yeshiva with Rabbi Avraham Newman
DESCRIPTION:
URL:https://www.thecarlebachshul.org/event/sunday-yeshiva-with-rabbi-avraham-newman-6/
CATEGORIES:Events
ATTACH;FMTTYPE=image/jpeg:https://www.thecarlebachshul.org/wp-content/uploads/2018/04/Avraham-Newman-1.jpg
END:VEVENT
BEGIN:VEVENT
DTSTART;TZID=America/New_York:20181007T212000
DTEND;TZID=America/New_York:20181007T220000
DTSTAMP:20260423T045441
CREATED:20180509T161014Z
LAST-MODIFIED:20180509T161039Z
UID:10000344-1538947200-1538949600@www.thecarlebachshul.org
SUMMARY:Daf Yomi
DESCRIPTION:
URL:https://www.thecarlebachshul.org/event/daf-yomi-sunday-wednesday-920-pm-1000-pm-76/
CATEGORIES:Events
ATTACH;FMTTYPE=image/jpeg:https://www.thecarlebachshul.org/wp-content/uploads/2018/04/daf-yomi.jpg
END:VEVENT
BEGIN:VEVENT
DTSTART;TZID=America/New_York:20181007T220000
DTEND;TZID=America/New_York:20181007T221500
DTSTAMP:20260423T045441
CREATED:20180508T194925Z
LAST-MODIFIED:20180508T194925Z
UID:10000628-1538949600-1538950500@www.thecarlebachshul.org
SUMMARY:Maariv
DESCRIPTION:
URL:https://www.thecarlebachshul.org/event/maariv-102/
CATEGORIES:Events
ATTACH;FMTTYPE=image/jpeg:https://www.thecarlebachshul.org/wp-content/uploads/2018/04/images-5-1-600x400.jpeg
END:VEVENT
BEGIN:VEVENT
DTSTART;TZID=America/New_York:20181008T212000
DTEND;TZID=America/New_York:20181008T220000
DTSTAMP:20260423T045441
CREATED:20180509T161118Z
LAST-MODIFIED:20180509T161118Z
UID:10000346-1539033600-1539036000@www.thecarlebachshul.org
SUMMARY:Daf Yomi
DESCRIPTION:
URL:https://www.thecarlebachshul.org/event/daf-yomi-sunday-wednesday-920-pm-1000-pm-77/
CATEGORIES:Events
ATTACH;FMTTYPE=image/jpeg:https://www.thecarlebachshul.org/wp-content/uploads/2018/04/daf-yomi.jpg
END:VEVENT
BEGIN:VEVENT
DTSTART;TZID=America/New_York:20181008T220000
DTEND;TZID=America/New_York:20181008T221500
DTSTAMP:20260423T045441
CREATED:20180508T194955Z
LAST-MODIFIED:20180508T194955Z
UID:10000629-1539036000-1539036900@www.thecarlebachshul.org
SUMMARY:Maariv
DESCRIPTION:
URL:https://www.thecarlebachshul.org/event/maariv-103/
CATEGORIES:Events
ATTACH;FMTTYPE=image/jpeg:https://www.thecarlebachshul.org/wp-content/uploads/2018/04/images-5-1-600x400.jpeg
END:VEVENT
BEGIN:VEVENT
DTSTART;TZID=America/New_York:20181009T190000
DTEND;TZID=America/New_York:20181009T210000
DTSTAMP:20260423T045441
CREATED:20180509T165420Z
LAST-MODIFIED:20180509T165420Z
UID:10000662-1539111600-1539118800@www.thecarlebachshul.org
SUMMARY:A Touch of Kabbalah & A Taste of Torah with Rabbi Meir Fund
DESCRIPTION:
URL:https://www.thecarlebachshul.org/event/touch-of-kabbalah-a-taste-of-torah-with-rabbi-meir-fund-10/
CATEGORIES:Events
ATTACH;FMTTYPE=image/jpeg:https://www.thecarlebachshul.org/wp-content/uploads/2018/04/3-myths-about-kabbalah-1-600x400.jpg
END:VEVENT
BEGIN:VEVENT
DTSTART;TZID=America/New_York:20181009T212000
DTEND;TZID=America/New_York:20181009T220000
DTSTAMP:20260423T045441
CREATED:20180509T161206Z
LAST-MODIFIED:20180509T161206Z
UID:10000350-1539120000-1539122400@www.thecarlebachshul.org
SUMMARY:Daf Yomi
DESCRIPTION:
URL:https://www.thecarlebachshul.org/event/daf-yomi-sunday-wednesday-920-pm-1000-pm-78/
CATEGORIES:Events
ATTACH;FMTTYPE=image/jpeg:https://www.thecarlebachshul.org/wp-content/uploads/2018/04/daf-yomi.jpg
END:VEVENT
BEGIN:VEVENT
DTSTART;TZID=America/New_York:20181009T220000
DTEND;TZID=America/New_York:20181009T221500
DTSTAMP:20260423T045441
CREATED:20180508T195032Z
LAST-MODIFIED:20180508T195032Z
UID:10000630-1539122400-1539123300@www.thecarlebachshul.org
SUMMARY:Maariv
DESCRIPTION:
URL:https://www.thecarlebachshul.org/event/maariv-104/
CATEGORIES:Events
ATTACH;FMTTYPE=image/jpeg:https://www.thecarlebachshul.org/wp-content/uploads/2018/04/images-5-1-600x400.jpeg
END:VEVENT
BEGIN:VEVENT
DTSTART;TZID=America/New_York:20181010T212000
DTEND;TZID=America/New_York:20181010T220000
DTSTAMP:20260423T045441
CREATED:20180509T161234Z
LAST-MODIFIED:20180509T161254Z
UID:10000352-1539206400-1539208800@www.thecarlebachshul.org
SUMMARY:Daf Yomi
DESCRIPTION:
URL:https://www.thecarlebachshul.org/event/daf-yomi-sunday-wednesday-920-pm-1000-pm-79/
CATEGORIES:Events
ATTACH;FMTTYPE=image/jpeg:https://www.thecarlebachshul.org/wp-content/uploads/2018/04/daf-yomi.jpg
END:VEVENT
BEGIN:VEVENT
DTSTART;TZID=America/New_York:20181010T220000
DTEND;TZID=America/New_York:20181010T221500
DTSTAMP:20260423T045441
CREATED:20180508T195110Z
LAST-MODIFIED:20180508T195110Z
UID:10000322-1539208800-1539209700@www.thecarlebachshul.org
SUMMARY:Maariv
DESCRIPTION:
URL:https://www.thecarlebachshul.org/event/maariv-105/
CATEGORIES:Events
ATTACH;FMTTYPE=image/jpeg:https://www.thecarlebachshul.org/wp-content/uploads/2018/04/images-5-1-600x400.jpeg
END:VEVENT
BEGIN:VEVENT
DTSTART;TZID=America/New_York:20181011T203000
DTEND;TZID=America/New_York:20181011T221500
DTSTAMP:20260423T045441
CREATED:20180509T163157Z
LAST-MODIFIED:20180509T163157Z
UID:10000651-1539289800-1539296100@www.thecarlebachshul.org
SUMMARY:Daf Yomi – Thursday Night Shiur (With Yitzy Weinberg)
DESCRIPTION:
URL:https://www.thecarlebachshul.org/event/daf-yomi-thursday-night-shiur-with-yitzy-weinberg-7/
CATEGORIES:Events
ATTACH;FMTTYPE=image/jpeg:https://www.thecarlebachshul.org/wp-content/uploads/2018/04/Yitzy_Weinberg-1-1.jpg
END:VEVENT
BEGIN:VEVENT
DTSTART;TZID=America/New_York:20181011T220000
DTEND;TZID=America/New_York:20181011T221500
DTSTAMP:20260423T045441
CREATED:20180508T195139Z
LAST-MODIFIED:20180508T195139Z
UID:10000323-1539295200-1539296100@www.thecarlebachshul.org
SUMMARY:Maariv
DESCRIPTION:
URL:https://www.thecarlebachshul.org/event/maariv-106/
CATEGORIES:Events
ATTACH;FMTTYPE=image/jpeg:https://www.thecarlebachshul.org/wp-content/uploads/2018/04/images-5-1-600x400.jpeg
END:VEVENT
BEGIN:VEVENT
DTSTART;TZID=America/New_York:20181012T180100
DTEND;TZID=America/New_York:20181013T190100
DTSTAMP:20260423T045441
CREATED:20180509T152436Z
LAST-MODIFIED:20180509T152436Z
UID:10000341-1539367260-1539457260@www.thecarlebachshul.org
SUMMARY:Friday – Shabbat Schedule 10/12-10/13
DESCRIPTION:
URL:https://www.thecarlebachshul.org/event/friday-shabbat-schedule-10-12-10-13/
CATEGORIES:Events,Friday-Shabbat Schedule
ATTACH;FMTTYPE=image/jpeg:https://www.thecarlebachshul.org/wp-content/uploads/2018/04/Carlebach-HP.jpg
END:VEVENT
BEGIN:VEVENT
DTSTART;TZID=America/New_York:20181012T181500
DTEND;TZID=America/New_York:20181012T223000
DTSTAMP:20260423T045441
CREATED:20180718T151201Z
LAST-MODIFIED:20180927T062353Z
UID:10000795-1539368100-1539383400@www.thecarlebachshul.org
SUMMARY:Friday Night Dinner October 12th Neila Carlebach
DESCRIPTION:
URL:https://www.thecarlebachshul.org/event/friday-night-dinner-october-12th-neila-carlebach/
CATEGORIES:Events
ATTACH;FMTTYPE=image/jpeg:https://www.thecarlebachshul.org/wp-content/uploads/2016/11/NeilaShabbat_Banner-13.jpg
END:VEVENT
BEGIN:VEVENT
DTSTART;TZID=America/New_York:20181013T103000
DTEND;TZID=America/New_York:20181013T123000
DTSTAMP:20260423T045441
CREATED:20180523T141253Z
LAST-MODIFIED:20180523T141253Z
UID:10000417-1539426600-1539433800@www.thecarlebachshul.org
SUMMARY:Children’s Program – Shabbat Morning
DESCRIPTION:
URL:https://www.thecarlebachshul.org/event/childrens-program-shabbat-morning-20/
CATEGORIES:Events
ATTACH;FMTTYPE=image/jpeg:https://www.thecarlebachshul.org/wp-content/uploads/2018/04/children-program-1.jpg
END:VEVENT
BEGIN:VEVENT
DTSTART;TZID=America/New_York:20181014T113000
DTEND;TZID=America/New_York:20181014T170000
DTSTAMP:20260423T045441
CREATED:20180510T192056Z
LAST-MODIFIED:20180510T193120Z
UID:10000401-1539516600-1539536400@www.thecarlebachshul.org
SUMMARY:Sunday Yeshiva with Rabbi Avraham Newman
DESCRIPTION:
URL:https://www.thecarlebachshul.org/event/sunday-yeshiva-with-rabbi-avraham-newman-7/
CATEGORIES:Events
ATTACH;FMTTYPE=image/jpeg:https://www.thecarlebachshul.org/wp-content/uploads/2018/04/Avraham-Newman-1.jpg
END:VEVENT
BEGIN:VEVENT
DTSTART;TZID=America/New_York:20181014T212000
DTEND;TZID=America/New_York:20181014T220000
DTSTAMP:20260423T045441
CREATED:20180509T161326Z
LAST-MODIFIED:20180509T161339Z
UID:10000355-1539552000-1539554400@www.thecarlebachshul.org
SUMMARY:Daf Yomi
DESCRIPTION:
URL:https://www.thecarlebachshul.org/event/daf-yomi-sunday-wednesday-920-pm-1000-pm-80/
CATEGORIES:Events
ATTACH;FMTTYPE=image/jpeg:https://www.thecarlebachshul.org/wp-content/uploads/2018/04/daf-yomi.jpg
END:VEVENT
BEGIN:VEVENT
DTSTART;TZID=America/New_York:20181014T220000
DTEND;TZID=America/New_York:20181014T221500
DTSTAMP:20260423T045441
CREATED:20180509T155604Z
LAST-MODIFIED:20180509T155604Z
UID:10000335-1539554400-1539555300@www.thecarlebachshul.org
SUMMARY:Maariv
DESCRIPTION:
URL:https://www.thecarlebachshul.org/event/maariv-107/
CATEGORIES:Events
ATTACH;FMTTYPE=image/jpeg:https://www.thecarlebachshul.org/wp-content/uploads/2018/04/images-5-1-600x400.jpeg
END:VEVENT
BEGIN:VEVENT
DTSTART;TZID=America/New_York:20181015T212000
DTEND;TZID=America/New_York:20181015T220000
DTSTAMP:20260423T045441
CREATED:20180509T161415Z
LAST-MODIFIED:20180509T161415Z
UID:10000357-1539638400-1539640800@www.thecarlebachshul.org
SUMMARY:Daf Yomi
DESCRIPTION:
URL:https://www.thecarlebachshul.org/event/daf-yomi-sunday-wednesday-920-pm-1000-pm-81/
CATEGORIES:Events
ATTACH;FMTTYPE=image/jpeg:https://www.thecarlebachshul.org/wp-content/uploads/2018/04/daf-yomi.jpg
END:VEVENT
BEGIN:VEVENT
DTSTART;TZID=America/New_York:20181015T220000
DTEND;TZID=America/New_York:20181015T221500
DTSTAMP:20260423T045441
CREATED:20180509T155652Z
LAST-MODIFIED:20180509T155652Z
UID:10000338-1539640800-1539641700@www.thecarlebachshul.org
SUMMARY:Maariv
DESCRIPTION:
URL:https://www.thecarlebachshul.org/event/maariv-108/
CATEGORIES:Events
ATTACH;FMTTYPE=image/jpeg:https://www.thecarlebachshul.org/wp-content/uploads/2018/04/images-5-1-600x400.jpeg
END:VEVENT
BEGIN:VEVENT
DTSTART;TZID=America/New_York:20181016T190000
DTEND;TZID=America/New_York:20181016T210000
DTSTAMP:20260423T045441
CREATED:20180509T165449Z
LAST-MODIFIED:20180509T165637Z
UID:10000663-1539716400-1539723600@www.thecarlebachshul.org
SUMMARY:A Touch of Kabbalah & A Taste of Torah with Rabbi Meir Fund
DESCRIPTION:
URL:https://www.thecarlebachshul.org/event/touch-of-kabbalah-a-taste-of-torah-with-rabbi-meir-fund-11/
CATEGORIES:Events
ATTACH;FMTTYPE=image/jpeg:https://www.thecarlebachshul.org/wp-content/uploads/2018/04/3-myths-about-kabbalah-1-600x400.jpg
END:VEVENT
BEGIN:VEVENT
DTSTART;TZID=America/New_York:20181016T212000
DTEND;TZID=America/New_York:20181016T220000
DTSTAMP:20260423T045441
CREATED:20180509T161458Z
LAST-MODIFIED:20180509T161519Z
UID:10000359-1539724800-1539727200@www.thecarlebachshul.org
SUMMARY:Daf Yomi
DESCRIPTION:
URL:https://www.thecarlebachshul.org/event/daf-yomi-sunday-wednesday-920-pm-1000-pm-82/
CATEGORIES:Events
ATTACH;FMTTYPE=image/jpeg:https://www.thecarlebachshul.org/wp-content/uploads/2018/04/daf-yomi.jpg
END:VEVENT
END:VCALENDAR