BEGIN:VCALENDAR
VERSION:2.0
PRODID:-//The Carlebach Shul - ECPv6.2.9//NONSGML v1.0//EN
CALSCALE:GREGORIAN
METHOD:PUBLISH
X-ORIGINAL-URL:https://www.thecarlebachshul.org
X-WR-CALDESC:Events for The Carlebach Shul
REFRESH-INTERVAL;VALUE=DURATION:PT1H
X-Robots-Tag:noindex
X-PUBLISHED-TTL:PT1H
BEGIN:VTIMEZONE
TZID:America/New_York
BEGIN:DAYLIGHT
TZOFFSETFROM:-0500
TZOFFSETTO:-0400
TZNAME:EDT
DTSTART:20180311T070000
END:DAYLIGHT
BEGIN:STANDARD
TZOFFSETFROM:-0400
TZOFFSETTO:-0500
TZNAME:EST
DTSTART:20181104T060000
END:STANDARD
END:VTIMEZONE
BEGIN:VEVENT
DTSTART;TZID=America/New_York:20181101T203000
DTEND;TZID=America/New_York:20181101T221500
DTSTAMP:20260423T025704
CREATED:20180509T194440Z
LAST-MODIFIED:20180509T194440Z
UID:10000404-1541104200-1541110500@www.thecarlebachshul.org
SUMMARY:Daf Yomi – Thursday Night Shiur (With Yitzy Weinberg)
DESCRIPTION:
URL:https://www.thecarlebachshul.org/event/daf-yomi-thursday-night-shiur-with-yitzy-weinberg-10/
CATEGORIES:Events
ATTACH;FMTTYPE=image/jpeg:https://www.thecarlebachshul.org/wp-content/uploads/2018/04/Yitzy_Weinberg-1-1.jpg
END:VEVENT
BEGIN:VEVENT
DTSTART;TZID=America/New_York:20181101T220000
DTEND;TZID=America/New_York:20181101T221500
DTSTAMP:20260423T025704
CREATED:20180509T190212Z
LAST-MODIFIED:20180509T190212Z
UID:10000670-1541109600-1541110500@www.thecarlebachshul.org
SUMMARY:Maariv
DESCRIPTION:
URL:https://www.thecarlebachshul.org/event/maariv-121/
CATEGORIES:Events
ATTACH;FMTTYPE=image/jpeg:https://www.thecarlebachshul.org/wp-content/uploads/2018/04/images-5-1-600x400.jpeg
END:VEVENT
BEGIN:VEVENT
DTSTART;TZID=America/New_York:20181102T173200
DTEND;TZID=America/New_York:20181103T183200
DTSTAMP:20260423T025704
CREATED:20180509T153117Z
LAST-MODIFIED:20180509T153117Z
UID:10000631-1541179920-1541269920@www.thecarlebachshul.org
SUMMARY:Friday – Shabbat Schedule 11/02-11/03
DESCRIPTION:
URL:https://www.thecarlebachshul.org/event/friday-shabbat-schedule-11-02-11-03/
CATEGORIES:Events,Friday-Shabbat Schedule
ATTACH;FMTTYPE=image/jpeg:https://www.thecarlebachshul.org/wp-content/uploads/2018/04/Carlebach-HP.jpg
END:VEVENT
BEGIN:VEVENT
DTSTART;TZID=America/New_York:20181103T103000
DTEND;TZID=America/New_York:20181103T123000
DTSTAMP:20260423T025704
CREATED:20180523T141530Z
LAST-MODIFIED:20180523T141530Z
UID:10000423-1541241000-1541248200@www.thecarlebachshul.org
SUMMARY:Children’s Program – Shabbat Morning
DESCRIPTION:
URL:https://www.thecarlebachshul.org/event/childrens-program-shabbat-morning-23/
CATEGORIES:Events
ATTACH;FMTTYPE=image/jpeg:https://www.thecarlebachshul.org/wp-content/uploads/2018/04/children-program-1.jpg
END:VEVENT
BEGIN:VEVENT
DTSTART;TZID=America/New_York:20181104T113000
DTEND;TZID=America/New_York:20181104T140000
DTSTAMP:20260423T025704
CREATED:20180510T192349Z
LAST-MODIFIED:20181018T151403Z
UID:10000408-1541331000-1541340000@www.thecarlebachshul.org
SUMMARY:Sunday Yeshiva with Rabbi Avraham Newman
DESCRIPTION:
URL:https://www.thecarlebachshul.org/event/sunday-yeshiva-with-rabbi-avraham-newman-10/
CATEGORIES:Events
ATTACH;FMTTYPE=image/jpeg:https://www.thecarlebachshul.org/wp-content/uploads/2018/04/Avraham-Newman-1.jpg
END:VEVENT
BEGIN:VEVENT
DTSTART;TZID=America/New_York:20181104T212000
DTEND;TZID=America/New_York:20181104T220000
DTSTAMP:20260423T025704
CREATED:20180509T192831Z
LAST-MODIFIED:20180509T192852Z
UID:10000691-1541366400-1541368800@www.thecarlebachshul.org
SUMMARY:Daf Yomi
DESCRIPTION:
URL:https://www.thecarlebachshul.org/event/daf-yomi-sunday-wednesday-920-pm-1000-pm-92/
CATEGORIES:Events
ATTACH;FMTTYPE=image/jpeg:https://www.thecarlebachshul.org/wp-content/uploads/2018/04/daf-yomi.jpg
END:VEVENT
BEGIN:VEVENT
DTSTART;TZID=America/New_York:20181104T220000
DTEND;TZID=America/New_York:20181104T221500
DTSTAMP:20260423T025704
CREATED:20180509T190246Z
LAST-MODIFIED:20180509T190246Z
UID:10000671-1541368800-1541369700@www.thecarlebachshul.org
SUMMARY:Maariv
DESCRIPTION:
URL:https://www.thecarlebachshul.org/event/maariv-122/
CATEGORIES:Events
ATTACH;FMTTYPE=image/jpeg:https://www.thecarlebachshul.org/wp-content/uploads/2018/04/images-5-1-600x400.jpeg
END:VEVENT
BEGIN:VEVENT
DTSTART;TZID=America/New_York:20181105T212000
DTEND;TZID=America/New_York:20181105T220000
DTSTAMP:20260423T025704
CREATED:20180509T192914Z
LAST-MODIFIED:20180509T192926Z
UID:10000692-1541452800-1541455200@www.thecarlebachshul.org
SUMMARY:Daf Yomi
DESCRIPTION:
URL:https://www.thecarlebachshul.org/event/daf-yomi-sunday-wednesday-920-pm-1000-pm-93/
CATEGORIES:Events
ATTACH;FMTTYPE=image/jpeg:https://www.thecarlebachshul.org/wp-content/uploads/2018/04/daf-yomi.jpg
END:VEVENT
BEGIN:VEVENT
DTSTART;TZID=America/New_York:20181105T220000
DTEND;TZID=America/New_York:20181105T221500
DTSTAMP:20260423T025704
CREATED:20180509T190323Z
LAST-MODIFIED:20180509T190323Z
UID:10000672-1541455200-1541456100@www.thecarlebachshul.org
SUMMARY:Maariv
DESCRIPTION:
URL:https://www.thecarlebachshul.org/event/maariv-123/
CATEGORIES:Events
ATTACH;FMTTYPE=image/jpeg:https://www.thecarlebachshul.org/wp-content/uploads/2018/04/images-5-1-600x400.jpeg
END:VEVENT
BEGIN:VEVENT
DTSTART;TZID=America/New_York:20181106T190000
DTEND;TZID=America/New_York:20181106T210000
DTSTAMP:20260423T025704
CREATED:20180509T165845Z
LAST-MODIFIED:20180509T165917Z
UID:10000666-1541530800-1541538000@www.thecarlebachshul.org
SUMMARY:A Touch of Kabbalah & A Taste of Torah with Rabbi Meir Fund
DESCRIPTION:
URL:https://www.thecarlebachshul.org/event/touch-of-kabbalah-a-taste-of-torah-with-rabbi-meir-fund-14/
CATEGORIES:Events
ATTACH;FMTTYPE=image/jpeg:https://www.thecarlebachshul.org/wp-content/uploads/2018/04/3-myths-about-kabbalah-1-600x400.jpg
END:VEVENT
BEGIN:VEVENT
DTSTART;TZID=America/New_York:20181106T212000
DTEND;TZID=America/New_York:20181106T220000
DTSTAMP:20260423T025704
CREATED:20180509T193036Z
LAST-MODIFIED:20180509T193049Z
UID:10000693-1541539200-1541541600@www.thecarlebachshul.org
SUMMARY:Daf Yomi
DESCRIPTION:
URL:https://www.thecarlebachshul.org/event/daf-yomi-sunday-wednesday-920-pm-1000-pm-94/
CATEGORIES:Events
ATTACH;FMTTYPE=image/jpeg:https://www.thecarlebachshul.org/wp-content/uploads/2018/04/daf-yomi.jpg
END:VEVENT
BEGIN:VEVENT
DTSTART;TZID=America/New_York:20181106T220000
DTEND;TZID=America/New_York:20181106T221500
DTSTAMP:20260423T025704
CREATED:20180509T190355Z
LAST-MODIFIED:20180509T190355Z
UID:10000673-1541541600-1541542500@www.thecarlebachshul.org
SUMMARY:Maariv
DESCRIPTION:
URL:https://www.thecarlebachshul.org/event/maariv-124/
CATEGORIES:Events
ATTACH;FMTTYPE=image/jpeg:https://www.thecarlebachshul.org/wp-content/uploads/2018/04/images-5-1-600x400.jpeg
END:VEVENT
BEGIN:VEVENT
DTSTART;TZID=America/New_York:20181107T212000
DTEND;TZID=America/New_York:20181107T220000
DTSTAMP:20260423T025704
CREATED:20180509T193128Z
LAST-MODIFIED:20180509T193128Z
UID:10000694-1541625600-1541628000@www.thecarlebachshul.org
SUMMARY:Daf Yomi
DESCRIPTION:
URL:https://www.thecarlebachshul.org/event/daf-yomi-sunday-wednesday-920-pm-1000-pm-95/
CATEGORIES:Events
ATTACH;FMTTYPE=image/jpeg:https://www.thecarlebachshul.org/wp-content/uploads/2018/04/daf-yomi.jpg
END:VEVENT
BEGIN:VEVENT
DTSTART;TZID=America/New_York:20181107T220000
DTEND;TZID=America/New_York:20181107T221500
DTSTAMP:20260423T025704
CREATED:20180509T190428Z
LAST-MODIFIED:20180509T190428Z
UID:10000674-1541628000-1541628900@www.thecarlebachshul.org
SUMMARY:Maariv
DESCRIPTION:
URL:https://www.thecarlebachshul.org/event/maariv-125/
CATEGORIES:Events
ATTACH;FMTTYPE=image/jpeg:https://www.thecarlebachshul.org/wp-content/uploads/2018/04/images-5-1-600x400.jpeg
END:VEVENT
BEGIN:VEVENT
DTSTART;TZID=America/New_York:20181108T203000
DTEND;TZID=America/New_York:20181108T221500
DTSTAMP:20260423T025704
CREATED:20180509T194518Z
LAST-MODIFIED:20180509T194531Z
UID:10000407-1541709000-1541715300@www.thecarlebachshul.org
SUMMARY:Daf Yomi – Thursday Night Shiur (With Yitzy Weinberg)
DESCRIPTION:
URL:https://www.thecarlebachshul.org/event/daf-yomi-thursday-night-shiur-with-yitzy-weinberg-11/
CATEGORIES:Events
ATTACH;FMTTYPE=image/jpeg:https://www.thecarlebachshul.org/wp-content/uploads/2018/04/Yitzy_Weinberg-1-1.jpg
END:VEVENT
BEGIN:VEVENT
DTSTART;TZID=America/New_York:20181108T220000
DTEND;TZID=America/New_York:20181108T221500
DTSTAMP:20260423T025704
CREATED:20180509T190457Z
LAST-MODIFIED:20180509T190457Z
UID:10000675-1541714400-1541715300@www.thecarlebachshul.org
SUMMARY:Maariv
DESCRIPTION:
URL:https://www.thecarlebachshul.org/event/maariv-126/
CATEGORIES:Events
ATTACH;FMTTYPE=image/jpeg:https://www.thecarlebachshul.org/wp-content/uploads/2018/04/images-5-1-600x400.jpeg
END:VEVENT
BEGIN:VEVENT
DTSTART;TZID=America/New_York:20181109T162400
DTEND;TZID=America/New_York:20181110T172400
DTSTAMP:20260423T025704
CREATED:20180509T153359Z
LAST-MODIFIED:20180509T153359Z
UID:10000632-1541780640-1541870640@www.thecarlebachshul.org
SUMMARY:Friday – Shabbat Schedule 11/09-11/10
DESCRIPTION:
URL:https://www.thecarlebachshul.org/event/friday-shabbat-schedule-11-09-11-10/
CATEGORIES:Events,Friday-Shabbat Schedule
ATTACH;FMTTYPE=image/jpeg:https://www.thecarlebachshul.org/wp-content/uploads/2018/04/Carlebach-HP.jpg
END:VEVENT
BEGIN:VEVENT
DTSTART;TZID=America/New_York:20181109T163500
DTEND;TZID=America/New_York:20181109T202000
DTSTAMP:20260423T025704
CREATED:20180720T134702Z
LAST-MODIFIED:20180720T134702Z
UID:10000797-1541781300-1541794800@www.thecarlebachshul.org
SUMMARY:Friday Night Dinner November 9th with Rabbi Simon Jacobson and Rabbi Naftali Citron
DESCRIPTION:
URL:https://www.thecarlebachshul.org/event/friday-night-dinner-november-9th-with-rabbi-simon-jacobson-and-rabbi-naftali-citron/
CATEGORIES:Events,Homepage+1,HP Banner Event,Shabbat,Special Events
ATTACH;FMTTYPE=image/jpeg:https://www.thecarlebachshul.org/wp-content/uploads/2018/07/Simon-Jacobson.jpg
END:VEVENT
BEGIN:VEVENT
DTSTART;TZID=America/New_York:20181110T103000
DTEND;TZID=America/New_York:20181110T123000
DTSTAMP:20260423T025704
CREATED:20180523T141606Z
LAST-MODIFIED:20180523T141606Z
UID:10000425-1541845800-1541853000@www.thecarlebachshul.org
SUMMARY:Children’s Program – Shabbat Morning
DESCRIPTION:
URL:https://www.thecarlebachshul.org/event/childrens-program-shabbat-morning-24/
CATEGORIES:Events
ATTACH;FMTTYPE=image/jpeg:https://www.thecarlebachshul.org/wp-content/uploads/2018/04/children-program-1.jpg
END:VEVENT
BEGIN:VEVENT
DTSTART;TZID=America/New_York:20181111T113000
DTEND;TZID=America/New_York:20181111T140000
DTSTAMP:20260423T025704
CREATED:20180510T193758Z
LAST-MODIFIED:20181018T151433Z
UID:10000410-1541935800-1541944800@www.thecarlebachshul.org
SUMMARY:Sunday Yeshiva with Rabbi Avraham Newman
DESCRIPTION:
URL:https://www.thecarlebachshul.org/event/sunday-yeshiva-with-rabbi-avraham-newman-11/
CATEGORIES:Events
ATTACH;FMTTYPE=image/jpeg:https://www.thecarlebachshul.org/wp-content/uploads/2018/04/Avraham-Newman-1.jpg
END:VEVENT
BEGIN:VEVENT
DTSTART;TZID=America/New_York:20181111T212000
DTEND;TZID=America/New_York:20181111T220000
DTSTAMP:20260423T025704
CREATED:20180509T193156Z
LAST-MODIFIED:20180509T193209Z
UID:10000695-1541971200-1541973600@www.thecarlebachshul.org
SUMMARY:Daf Yomi
DESCRIPTION:
URL:https://www.thecarlebachshul.org/event/daf-yomi-sunday-wednesday-920-pm-1000-pm-96/
CATEGORIES:Events
ATTACH;FMTTYPE=image/jpeg:https://www.thecarlebachshul.org/wp-content/uploads/2018/04/daf-yomi.jpg
END:VEVENT
BEGIN:VEVENT
DTSTART;TZID=America/New_York:20181111T220000
DTEND;TZID=America/New_York:20181111T221500
DTSTAMP:20260423T025704
CREATED:20180509T190611Z
LAST-MODIFIED:20180509T190611Z
UID:10000676-1541973600-1541974500@www.thecarlebachshul.org
SUMMARY:Maariv
DESCRIPTION:
URL:https://www.thecarlebachshul.org/event/maariv-127/
CATEGORIES:Events
ATTACH;FMTTYPE=image/jpeg:https://www.thecarlebachshul.org/wp-content/uploads/2018/04/images-5-1-600x400.jpeg
END:VEVENT
BEGIN:VEVENT
DTSTART;TZID=America/New_York:20181112T212000
DTEND;TZID=America/New_York:20181112T220000
DTSTAMP:20260423T025704
CREATED:20180509T193237Z
LAST-MODIFIED:20180509T193247Z
UID:10000696-1542057600-1542060000@www.thecarlebachshul.org
SUMMARY:Daf Yomi
DESCRIPTION:
URL:https://www.thecarlebachshul.org/event/daf-yomi-sunday-wednesday-920-pm-1000-pm-97/
CATEGORIES:Events
ATTACH;FMTTYPE=image/jpeg:https://www.thecarlebachshul.org/wp-content/uploads/2018/04/daf-yomi.jpg
END:VEVENT
BEGIN:VEVENT
DTSTART;TZID=America/New_York:20181112T220000
DTEND;TZID=America/New_York:20181112T221500
DTSTAMP:20260423T025704
CREATED:20180509T190637Z
LAST-MODIFIED:20180509T190637Z
UID:10000677-1542060000-1542060900@www.thecarlebachshul.org
SUMMARY:Maariv
DESCRIPTION:
URL:https://www.thecarlebachshul.org/event/maariv-128/
CATEGORIES:Events
ATTACH;FMTTYPE=image/jpeg:https://www.thecarlebachshul.org/wp-content/uploads/2018/04/images-5-1-600x400.jpeg
END:VEVENT
BEGIN:VEVENT
DTSTART;TZID=America/New_York:20181113T190000
DTEND;TZID=America/New_York:20181113T210000
DTSTAMP:20260423T025704
CREATED:20180509T165941Z
LAST-MODIFIED:20180509T165954Z
UID:10000667-1542135600-1542142800@www.thecarlebachshul.org
SUMMARY:A Touch of Kabbalah & A Taste of Torah with Rabbi Meir Fund
DESCRIPTION:
URL:https://www.thecarlebachshul.org/event/touch-of-kabbalah-a-taste-of-torah-with-rabbi-meir-fund-15/
CATEGORIES:Events
ATTACH;FMTTYPE=image/jpeg:https://www.thecarlebachshul.org/wp-content/uploads/2018/04/3-myths-about-kabbalah-1-600x400.jpg
END:VEVENT
BEGIN:VEVENT
DTSTART;TZID=America/New_York:20181113T212000
DTEND;TZID=America/New_York:20181113T220000
DTSTAMP:20260423T025704
CREATED:20180509T193329Z
LAST-MODIFIED:20180509T193329Z
UID:10000697-1542144000-1542146400@www.thecarlebachshul.org
SUMMARY:Daf Yomi
DESCRIPTION:
URL:https://www.thecarlebachshul.org/event/daf-yomi-sunday-wednesday-920-pm-1000-pm-98/
CATEGORIES:Events
ATTACH;FMTTYPE=image/jpeg:https://www.thecarlebachshul.org/wp-content/uploads/2018/04/daf-yomi.jpg
END:VEVENT
BEGIN:VEVENT
DTSTART;TZID=America/New_York:20181113T220000
DTEND;TZID=America/New_York:20181113T221500
DTSTAMP:20260423T025704
CREATED:20180509T190708Z
LAST-MODIFIED:20180509T190708Z
UID:10000678-1542146400-1542147300@www.thecarlebachshul.org
SUMMARY:Maariv
DESCRIPTION:
URL:https://www.thecarlebachshul.org/event/maariv-129/
CATEGORIES:Events
ATTACH;FMTTYPE=image/jpeg:https://www.thecarlebachshul.org/wp-content/uploads/2018/04/images-5-1-600x400.jpeg
END:VEVENT
BEGIN:VEVENT
DTSTART;TZID=America/New_York:20181114T212000
DTEND;TZID=America/New_York:20181114T220000
DTSTAMP:20260423T025704
CREATED:20180509T193400Z
LAST-MODIFIED:20180509T193409Z
UID:10000698-1542230400-1542232800@www.thecarlebachshul.org
SUMMARY:Daf Yomi
DESCRIPTION:
URL:https://www.thecarlebachshul.org/event/daf-yomi-sunday-wednesday-920-pm-1000-pm-99/
CATEGORIES:Events
ATTACH;FMTTYPE=image/jpeg:https://www.thecarlebachshul.org/wp-content/uploads/2018/04/daf-yomi.jpg
END:VEVENT
BEGIN:VEVENT
DTSTART;TZID=America/New_York:20181114T220000
DTEND;TZID=America/New_York:20181114T221500
DTSTAMP:20260423T025704
CREATED:20180509T190739Z
LAST-MODIFIED:20180509T190739Z
UID:10000679-1542232800-1542233700@www.thecarlebachshul.org
SUMMARY:Maariv
DESCRIPTION:
URL:https://www.thecarlebachshul.org/event/maariv-130/
CATEGORIES:Events
ATTACH;FMTTYPE=image/jpeg:https://www.thecarlebachshul.org/wp-content/uploads/2018/04/images-5-1-600x400.jpeg
END:VEVENT
BEGIN:VEVENT
DTSTART;TZID=America/New_York:20181115T203000
DTEND;TZID=America/New_York:20181115T221500
DTSTAMP:20260423T025704
CREATED:20180509T194601Z
LAST-MODIFIED:20180509T194611Z
UID:10000699-1542313800-1542320100@www.thecarlebachshul.org
SUMMARY:Daf Yomi – Thursday Night Shiur (With Yitzy Weinberg)
DESCRIPTION:
URL:https://www.thecarlebachshul.org/event/daf-yomi-thursday-night-shiur-with-yitzy-weinberg-12/
CATEGORIES:Events
ATTACH;FMTTYPE=image/jpeg:https://www.thecarlebachshul.org/wp-content/uploads/2018/04/Yitzy_Weinberg-1-1.jpg
END:VEVENT
END:VCALENDAR