BEGIN:VCALENDAR
VERSION:2.0
PRODID:-//The Carlebach Shul - ECPv6.2.9//NONSGML v1.0//EN
CALSCALE:GREGORIAN
METHOD:PUBLISH
X-WR-CALNAME:The Carlebach Shul
X-ORIGINAL-URL:https://www.thecarlebachshul.org
X-WR-CALDESC:Events for The Carlebach Shul
REFRESH-INTERVAL;VALUE=DURATION:PT1H
X-Robots-Tag:noindex
X-PUBLISHED-TTL:PT1H
BEGIN:VTIMEZONE
TZID:America/New_York
BEGIN:DAYLIGHT
TZOFFSETFROM:-0500
TZOFFSETTO:-0400
TZNAME:EDT
DTSTART:20190310T070000
END:DAYLIGHT
BEGIN:STANDARD
TZOFFSETFROM:-0400
TZOFFSETTO:-0500
TZNAME:EST
DTSTART:20191103T060000
END:STANDARD
END:VTIMEZONE
BEGIN:VEVENT
DTSTART;TZID=America/New_York:20190301T172900
DTEND;TZID=America/New_York:20190302T182900
DTSTAMP:20260422T193547
CREATED:20190104T152958Z
LAST-MODIFIED:20190104T152958Z
UID:10001090-1551461340-1551551340@www.thecarlebachshul.org
SUMMARY:Friday – Shabbat Schedule 3/1 - 3/2
DESCRIPTION:
URL:https://www.thecarlebachshul.org/event/friday-shabbat-schedule-3-1-3-2/
CATEGORIES:Events,Friday-Shabbat Schedule
ATTACH;FMTTYPE=image/jpeg:https://www.thecarlebachshul.org/wp-content/uploads/2018/04/Carlebach-HP.jpg
END:VEVENT
BEGIN:VEVENT
DTSTART;TZID=America/New_York:20190301T174400
DTEND;TZID=America/New_York:20190301T220000
DTSTAMP:20260422T193547
CREATED:20181213T184057Z
LAST-MODIFIED:20190129T185522Z
UID:10000974-1551462240-1551477600@www.thecarlebachshul.org
SUMMARY:3/1 – Shabbat Across America with Naomi Seidman and Rabbi Naftali Citron
DESCRIPTION:
URL:https://www.thecarlebachshul.org/event/3-1-shabbat-across-america/
CATEGORIES:Events,Shabbat
END:VEVENT
BEGIN:VEVENT
DTSTART;TZID=America/New_York:20190303T113000
DTEND;TZID=America/New_York:20190303T140000
DTSTAMP:20260422T193547
CREATED:20181008T210920Z
LAST-MODIFIED:20190108T161137Z
UID:10000947-1551612600-1551621600@www.thecarlebachshul.org
SUMMARY:Sunday Yeshiva with Rabbi Avraham Newman
DESCRIPTION:
URL:https://www.thecarlebachshul.org/event/sunday-yeshiva-with-rabbi-avraham-newman-21/
CATEGORIES:Events
ATTACH;FMTTYPE=image/jpeg:https://www.thecarlebachshul.org/wp-content/uploads/2018/04/Avraham-Newman-1.jpg
END:VEVENT
BEGIN:VEVENT
DTSTART;TZID=America/New_York:20190305T190000
DTEND;TZID=America/New_York:20190305T210000
DTSTAMP:20260422T193547
CREATED:20190108T180118Z
LAST-MODIFIED:20190108T180135Z
UID:10001254-1551812400-1551819600@www.thecarlebachshul.org
SUMMARY:A Touch of Kabbalah & A Taste of Torah with Rabbi Meir Fund
DESCRIPTION:
URL:https://www.thecarlebachshul.org/event/touch-of-kabbalah-a-taste-of-torah-with-rabbi-meir-fund-31/
CATEGORIES:Events
ATTACH;FMTTYPE=image/jpeg:https://www.thecarlebachshul.org/wp-content/uploads/2016/03/3-myths-about-kabbalah-1.jpg
END:VEVENT
BEGIN:VEVENT
DTSTART;TZID=America/New_York:20190307T120000
DTEND;TZID=America/New_York:20190307T130000
DTSTAMP:20260422T193547
CREATED:20181211T220344Z
LAST-MODIFIED:20181211T220344Z
UID:10000561-1551960000-1551963600@www.thecarlebachshul.org
SUMMARY:Rabbi Naftali Citron: Debates for the sake of Heaven
DESCRIPTION:
URL:https://www.thecarlebachshul.org/event/rabbi-naftali-citron-debates-for-the-sake-of-heaven-6/
CATEGORIES:Classes,Events
ATTACH;FMTTYPE=image/jpeg:https://www.thecarlebachshul.org/wp-content/uploads/2017/08/Rabbi_Naftali_Citron-1.jpg
END:VEVENT
BEGIN:VEVENT
DTSTART;TZID=America/New_York:20190307T203000
DTEND;TZID=America/New_York:20190307T221500
DTSTAMP:20260422T193547
CREATED:20190108T192911Z
LAST-MODIFIED:20190108T194025Z
UID:10001264-1551990600-1551996900@www.thecarlebachshul.org
SUMMARY:Daf Yomi – Thursday Night Shiur (With Yitzy Weinberg)
DESCRIPTION:
URL:https://www.thecarlebachshul.org/event/daf-yomi-thursday-night-shiur-with-yitzy-weinberg-26/
CATEGORIES:Daf Yomi,Events
ATTACH;FMTTYPE=image/jpeg:https://www.thecarlebachshul.org/wp-content/uploads/2018/04/Yitzy_Weinberg-1-1.jpg
END:VEVENT
BEGIN:VEVENT
DTSTART;TZID=America/New_York:20190308T173700
DTEND;TZID=America/New_York:20190309T183700
DTSTAMP:20260422T193547
CREATED:20190104T153036Z
LAST-MODIFIED:20190104T153036Z
UID:10001091-1552066620-1552156620@www.thecarlebachshul.org
SUMMARY:Friday – Shabbat Schedule 3/8 - 3/9
DESCRIPTION:
URL:https://www.thecarlebachshul.org/event/friday-shabbat-schedule-3-8-3-9/
CATEGORIES:Events,Friday-Shabbat Schedule
ATTACH;FMTTYPE=image/jpeg:https://www.thecarlebachshul.org/wp-content/uploads/2018/04/Carlebach-HP.jpg
END:VEVENT
BEGIN:VEVENT
DTSTART;TZID=America/New_York:20190312T190000
DTEND;TZID=America/New_York:20190312T210000
DTSTAMP:20260422T193547
CREATED:20190108T180223Z
LAST-MODIFIED:20190108T180223Z
UID:10001257-1552417200-1552424400@www.thecarlebachshul.org
SUMMARY:A Touch of Kabbalah & A Taste of Torah with Rabbi Meir Fund
DESCRIPTION:
URL:https://www.thecarlebachshul.org/event/touch-of-kabbalah-a-taste-of-torah-with-rabbi-meir-fund-32/
CATEGORIES:Events
ATTACH;FMTTYPE=image/jpeg:https://www.thecarlebachshul.org/wp-content/uploads/2016/03/3-myths-about-kabbalah-1.jpg
END:VEVENT
BEGIN:VEVENT
DTSTART;TZID=America/New_York:20190314T120000
DTEND;TZID=America/New_York:20190314T130000
DTSTAMP:20260422T193547
CREATED:20181211T220414Z
LAST-MODIFIED:20181211T220414Z
UID:10000562-1552564800-1552568400@www.thecarlebachshul.org
SUMMARY:Rabbi Naftali Citron: Debates for the sake of Heaven
DESCRIPTION:
URL:https://www.thecarlebachshul.org/event/rabbi-naftali-citron-debates-for-the-sake-of-heaven-7/
CATEGORIES:Classes,Events
ATTACH;FMTTYPE=image/jpeg:https://www.thecarlebachshul.org/wp-content/uploads/2017/08/Rabbi_Naftali_Citron-1.jpg
END:VEVENT
BEGIN:VEVENT
DTSTART;TZID=America/New_York:20190314T203000
DTEND;TZID=America/New_York:20190314T221500
DTSTAMP:20260422T193547
CREATED:20190108T192955Z
LAST-MODIFIED:20190108T194120Z
UID:10001265-1552595400-1552601700@www.thecarlebachshul.org
SUMMARY:Daf Yomi – Thursday Night Shiur (With Yitzy Weinberg)
DESCRIPTION:
URL:https://www.thecarlebachshul.org/event/daf-yomi-thursday-night-shiur-with-yitzy-weinberg-27/
CATEGORIES:Daf Yomi,Events
ATTACH;FMTTYPE=image/jpeg:https://www.thecarlebachshul.org/wp-content/uploads/2018/04/Yitzy_Weinberg-1-1.jpg
END:VEVENT
BEGIN:VEVENT
DTSTART;TZID=America/New_York:20190315T184400
DTEND;TZID=America/New_York:20190316T194400
DTSTAMP:20260422T193547
CREATED:20190104T153112Z
LAST-MODIFIED:20190104T153112Z
UID:10001092-1552675440-1552765440@www.thecarlebachshul.org
SUMMARY:Friday – Shabbat Schedule 3/15 - 3/16
DESCRIPTION:
URL:https://www.thecarlebachshul.org/event/friday-shabbat-schedule-3-15-3-16/
CATEGORIES:Events,Friday-Shabbat Schedule
ATTACH;FMTTYPE=image/jpeg:https://www.thecarlebachshul.org/wp-content/uploads/2018/04/Carlebach-HP.jpg
END:VEVENT
BEGIN:VEVENT
DTSTART;TZID=America/New_York:20190315T185500
DTEND;TZID=America/New_York:20190315T230000
DTSTAMP:20260422T193547
CREATED:20181031T170015Z
LAST-MODIFIED:20181031T170015Z
UID:10000964-1552676100-1552690800@www.thecarlebachshul.org
SUMMARY:Shabbat Friday Night Dinner March 15th with Rabbi Hershel Reichman
DESCRIPTION:
URL:https://www.thecarlebachshul.org/event/shabbat-friday-night-dinner-march-15th-with-rabbi-hershel-reichman/
CATEGORIES:Events,Shabbat
ATTACH;FMTTYPE=image/jpeg:https://www.thecarlebachshul.org/wp-content/uploads/2018/03/reichmann-ShabbatDinner-Banner-13.jpg
END:VEVENT
BEGIN:VEVENT
DTSTART;TZID=America/New_York:20190317T103000
DTEND;TZID=America/New_York:20190317T140000
DTSTAMP:20260422T193547
CREATED:20190108T161707Z
LAST-MODIFIED:20190108T161707Z
UID:10001243-1552818600-1552831200@www.thecarlebachshul.org
SUMMARY:Sunday Yeshiva with Rabbi Avraham Newman
DESCRIPTION:
URL:https://www.thecarlebachshul.org/event/sunday-yeshiva-with-rabbi-avraham-newman-9/
CATEGORIES:Events
ATTACH;FMTTYPE=image/jpeg:https://www.thecarlebachshul.org/wp-content/uploads/2018/04/Avraham-Newman-1.jpg
END:VEVENT
BEGIN:VEVENT
DTSTART;TZID=America/New_York:20190319T190000
DTEND;TZID=America/New_York:20190319T210000
DTSTAMP:20260422T193547
CREATED:20190108T180258Z
LAST-MODIFIED:20190108T180258Z
UID:10001259-1553022000-1553029200@www.thecarlebachshul.org
SUMMARY:A Touch of Kabbalah & A Taste of Torah with Rabbi Meir Fund
DESCRIPTION:
URL:https://www.thecarlebachshul.org/event/touch-of-kabbalah-a-taste-of-torah-with-rabbi-meir-fund-33/
CATEGORIES:Events
ATTACH;FMTTYPE=image/jpeg:https://www.thecarlebachshul.org/wp-content/uploads/2016/03/3-myths-about-kabbalah-1.jpg
END:VEVENT
BEGIN:VEVENT
DTSTART;TZID=America/New_York:20190320T194500
DTEND;TZID=America/New_York:20190321T220000
DTSTAMP:20260422T193547
CREATED:20181231T182359Z
LAST-MODIFIED:20181231T182414Z
UID:10001082-1553111100-1553205600@www.thecarlebachshul.org
SUMMARY:Purim Events
DESCRIPTION:
URL:https://www.thecarlebachshul.org/event/purim-events-2019/
CATEGORIES:Events,Special Events
ATTACH;FMTTYPE=image/jpeg:https://www.thecarlebachshul.org/wp-content/uploads/2018/01/Purim-Banner.jpg
END:VEVENT
BEGIN:VEVENT
DTSTART;TZID=America/New_York:20190321T120000
DTEND;TZID=America/New_York:20190321T163000
DTSTAMP:20260422T193547
CREATED:20181231T182541Z
LAST-MODIFIED:20181231T182541Z
UID:10001083-1553169600-1553185800@www.thecarlebachshul.org
SUMMARY:3/21 - Purim Kids Program 2019
DESCRIPTION:
URL:https://www.thecarlebachshul.org/event/3-21-purim-kids-program-2019/
CATEGORIES:Events,Holidays,Special Events
ATTACH;FMTTYPE=image/jpeg:https://www.thecarlebachshul.org/wp-content/uploads/2017/02/img_6977-medium.jpg
END:VEVENT
BEGIN:VEVENT
DTSTART;TZID=America/New_York:20190321T163000
DTEND;TZID=America/New_York:20190321T194500
DTSTAMP:20260422T193547
CREATED:20181231T182723Z
LAST-MODIFIED:20190220T201943Z
UID:10001084-1553185800-1553197500@www.thecarlebachshul.org
SUMMARY:Thursday Night 3/21 – Purim Se’udah and Comedy Show at Stand Up NY
DESCRIPTION:
URL:https://www.thecarlebachshul.org/event/thursday-night-3-21-purim-seudah-and-comedy-show-at-stand-up-ny/
CATEGORIES:Events,Holidays,Special Events
ATTACH;FMTTYPE=image/jpeg:https://www.thecarlebachshul.org/wp-content/uploads/2017/11/standUpNy.jpg
END:VEVENT
BEGIN:VEVENT
DTSTART;TZID=America/New_York:20190322T185200
DTEND;TZID=America/New_York:20190323T195200
DTSTAMP:20260422T193547
CREATED:20190104T153153Z
LAST-MODIFIED:20190104T153153Z
UID:10001093-1553280720-1553370720@www.thecarlebachshul.org
SUMMARY:Friday – Shabbat Schedule 3/22 - 3/23
DESCRIPTION:
URL:https://www.thecarlebachshul.org/event/friday-shabbat-schedule-3-22-3-23/
CATEGORIES:Events,Friday-Shabbat Schedule
ATTACH;FMTTYPE=image/jpeg:https://www.thecarlebachshul.org/wp-content/uploads/2018/04/Carlebach-HP.jpg
END:VEVENT
BEGIN:VEVENT
DTSTART;TZID=America/New_York:20190322T190700
DTEND;TZID=America/New_York:20190323T200800
DTSTAMP:20260422T193547
CREATED:20190320T155841Z
LAST-MODIFIED:20190320T155841Z
UID:10001461-1553281620-1553371680@www.thecarlebachshul.org
SUMMARY:Yehuda Green is at The Carlebach Shul Shabbat 3/22-3/23
DESCRIPTION:
URL:https://www.thecarlebachshul.org/event/yehuda-green-is-at-the-carlebach-shul-shabbat-3-22-3-23/
CATEGORIES:Events,Special Events
ATTACH;FMTTYPE=image/png:https://www.thecarlebachshul.org/wp-content/uploads/2017/08/HP_YehudaGreenIsIn.png
END:VEVENT
BEGIN:VEVENT
DTSTART;TZID=America/New_York:20190326T190000
DTEND;TZID=America/New_York:20190326T210000
DTSTAMP:20260422T193547
CREATED:20190108T180332Z
LAST-MODIFIED:20190108T180332Z
UID:10001260-1553626800-1553634000@www.thecarlebachshul.org
SUMMARY:A Touch of Kabbalah & A Taste of Torah with Rabbi Meir Fund
DESCRIPTION:
URL:https://www.thecarlebachshul.org/event/touch-of-kabbalah-a-taste-of-torah-with-rabbi-meir-fund-34/
CATEGORIES:Events
ATTACH;FMTTYPE=image/jpeg:https://www.thecarlebachshul.org/wp-content/uploads/2016/03/3-myths-about-kabbalah-1.jpg
END:VEVENT
BEGIN:VEVENT
DTSTART;TZID=America/New_York:20190328T203000
DTEND;TZID=America/New_York:20190328T221500
DTSTAMP:20260422T193547
CREATED:20190108T193028Z
LAST-MODIFIED:20190108T193028Z
UID:10001266-1553805000-1553811300@www.thecarlebachshul.org
SUMMARY:Daf Yomi – Thursday Night Shiur (With Yitzy Weinberg)
DESCRIPTION:
URL:https://www.thecarlebachshul.org/event/daf-yomi-thursday-night-shiur-with-yitzy-weinberg-28/
CATEGORIES:Daf Yomi,Events
ATTACH;FMTTYPE=image/jpeg:https://www.thecarlebachshul.org/wp-content/uploads/2018/04/Yitzy_Weinberg-1-1.jpg
END:VEVENT
BEGIN:VEVENT
DTSTART;TZID=America/New_York:20190329T185900
DTEND;TZID=America/New_York:20190330T195900
DTSTAMP:20260422T193547
CREATED:20190104T153554Z
LAST-MODIFIED:20190104T153554Z
UID:10001096-1553885940-1553975940@www.thecarlebachshul.org
SUMMARY:Friday – Shabbat Schedule 3/29 - 3/30
DESCRIPTION:
URL:https://www.thecarlebachshul.org/event/friday-shabbat-schedule-3-29-3-30/
CATEGORIES:Events,Friday-Shabbat Schedule
ATTACH;FMTTYPE=image/jpeg:https://www.thecarlebachshul.org/wp-content/uploads/2018/04/Carlebach-HP.jpg
END:VEVENT
BEGIN:VEVENT
DTSTART;TZID=America/New_York:20190329T191000
DTEND;TZID=America/New_York:20190329T233000
DTSTAMP:20260422T193547
CREATED:20190103T185036Z
LAST-MODIFIED:20190103T185036Z
UID:10001085-1553886600-1553902200@www.thecarlebachshul.org
SUMMARY:3/29 - Shabbat in Memory of Reb Eli Chaim Carlebach
DESCRIPTION:
URL:https://www.thecarlebachshul.org/event/3-29-shabbat-in-memory-of-reb-eli-chaim-carlebach/
CATEGORIES:Events,Shabbat
ATTACH;FMTTYPE=image/jpeg:https://www.thecarlebachshul.org/wp-content/uploads/2016/08/Eli-Chaim.jpg
END:VEVENT
BEGIN:VEVENT
DTSTART;TZID=America/New_York:20190331T103000
DTEND;TZID=America/New_York:20190331T140000
DTSTAMP:20260422T193547
CREATED:20190108T161805Z
LAST-MODIFIED:20190108T161805Z
UID:10001245-1554028200-1554040800@www.thecarlebachshul.org
SUMMARY:Sunday Yeshiva with Rabbi Avraham Newman
DESCRIPTION:
URL:https://www.thecarlebachshul.org/event/sunday-yeshiva-with-rabbi-avraham-newman-28/
CATEGORIES:Events
ATTACH;FMTTYPE=image/jpeg:https://www.thecarlebachshul.org/wp-content/uploads/2018/04/Avraham-Newman-1.jpg
END:VEVENT
END:VCALENDAR