BEGIN:VCALENDAR
VERSION:2.0
PRODID:-//The Carlebach Shul - ECPv6.2.9//NONSGML v1.0//EN
CALSCALE:GREGORIAN
METHOD:PUBLISH
X-WR-CALNAME:The Carlebach Shul
X-ORIGINAL-URL:https://www.thecarlebachshul.org
X-WR-CALDESC:Events for The Carlebach Shul
REFRESH-INTERVAL;VALUE=DURATION:PT1H
X-Robots-Tag:noindex
X-PUBLISHED-TTL:PT1H
BEGIN:VTIMEZONE
TZID:America/New_York
BEGIN:DAYLIGHT
TZOFFSETFROM:-0500
TZOFFSETTO:-0400
TZNAME:EDT
DTSTART:20190310T070000
END:DAYLIGHT
BEGIN:STANDARD
TZOFFSETFROM:-0400
TZOFFSETTO:-0500
TZNAME:EST
DTSTART:20191103T060000
END:STANDARD
END:VTIMEZONE
BEGIN:VEVENT
DTSTART;TZID=America/New_York:20190402T190000
DTEND;TZID=America/New_York:20190402T210000
DTSTAMP:20260422T175237
CREATED:20190108T180418Z
LAST-MODIFIED:20190108T180431Z
UID:10001261-1554231600-1554238800@www.thecarlebachshul.org
SUMMARY:A Touch of Kabbalah & A Taste of Torah with Rabbi Meir Fund
DESCRIPTION:
URL:https://www.thecarlebachshul.org/event/touch-of-kabbalah-a-taste-of-torah-with-rabbi-meir-fund-35/
CATEGORIES:Events
ATTACH;FMTTYPE=image/jpeg:https://www.thecarlebachshul.org/wp-content/uploads/2016/03/3-myths-about-kabbalah-1.jpg
END:VEVENT
BEGIN:VEVENT
DTSTART;TZID=America/New_York:20190403T193000
DTEND;TZID=America/New_York:20190403T223000
DTSTAMP:20260422T175237
CREATED:20190328T224650Z
LAST-MODIFIED:20190328T225058Z
UID:10001474-1554319800-1554330600@www.thecarlebachshul.org
SUMMARY:Yehuda Solomon in Concert
DESCRIPTION:Wednesday\, 3 April 2019 \nDoors Open- 7:30pm\nConcert Begins- 8:00pm \nPrice: $20\, All Ages\, Online or At the Door \nLocation: 305W 79th St.\, NY \n  \nClick Here to Book Now!
URL:https://www.thecarlebachshul.org/event/yehuda-solomon-in-concert/
CATEGORIES:Events
ATTACH;FMTTYPE=image/jpeg:https://www.thecarlebachshul.org/wp-content/uploads/2019/03/YEHUDA-SOLOMON-Event-Graphic.jpg
END:VEVENT
BEGIN:VEVENT
DTSTART;TZID=America/New_York:20190404T203000
DTEND;TZID=America/New_York:20190404T221500
DTSTAMP:20260422T175237
CREATED:20190108T193102Z
LAST-MODIFIED:20190108T193102Z
UID:10001267-1554409800-1554416100@www.thecarlebachshul.org
SUMMARY:Daf Yomi – Thursday Night Shiur (With Yitzy Weinberg)
DESCRIPTION:
URL:https://www.thecarlebachshul.org/event/daf-yomi-thursday-night-shiur-with-yitzy-weinberg-29/
CATEGORIES:Daf Yomi,Events
ATTACH;FMTTYPE=image/jpeg:https://www.thecarlebachshul.org/wp-content/uploads/2018/04/Yitzy_Weinberg-1-1.jpg
END:VEVENT
BEGIN:VEVENT
DTSTART;TZID=America/New_York:20190405T190700
DTEND;TZID=America/New_York:20190406T200700
DTSTAMP:20260422T175237
CREATED:20190104T153311Z
LAST-MODIFIED:20190104T153311Z
UID:10001094-1554491220-1554581220@www.thecarlebachshul.org
SUMMARY:Friday – Shabbat Schedule 4/5 - 4/6
DESCRIPTION:
URL:https://www.thecarlebachshul.org/event/friday-shabbat-schedule-4-5-4-6/
CATEGORIES:Events,Friday-Shabbat Schedule
ATTACH;FMTTYPE=image/jpeg:https://www.thecarlebachshul.org/wp-content/uploads/2018/04/Carlebach-HP.jpg
END:VEVENT
BEGIN:VEVENT
DTSTART;TZID=America/New_York:20190407T103000
DTEND;TZID=America/New_York:20190407T140000
DTSTAMP:20260422T175237
CREATED:20190108T161900Z
LAST-MODIFIED:20190108T161900Z
UID:10001248-1554633000-1554645600@www.thecarlebachshul.org
SUMMARY:Sunday Yeshiva with Rabbi Avraham Newman
DESCRIPTION:
URL:https://www.thecarlebachshul.org/event/sunday-yeshiva-with-rabbi-avraham-newman-29/
CATEGORIES:Events
ATTACH;FMTTYPE=image/jpeg:https://www.thecarlebachshul.org/wp-content/uploads/2018/04/Avraham-Newman-1.jpg
END:VEVENT
BEGIN:VEVENT
DTSTART;TZID=America/New_York:20190409T190000
DTEND;TZID=America/New_York:20190409T210000
DTSTAMP:20260422T175237
CREATED:20190108T180509Z
LAST-MODIFIED:20190108T180509Z
UID:10001262-1554836400-1554843600@www.thecarlebachshul.org
SUMMARY:A Touch of Kabbalah & A Taste of Torah with Rabbi Meir Fund
DESCRIPTION:
URL:https://www.thecarlebachshul.org/event/touch-of-kabbalah-a-taste-of-torah-with-rabbi-meir-fund-36/
CATEGORIES:Events
ATTACH;FMTTYPE=image/jpeg:https://www.thecarlebachshul.org/wp-content/uploads/2016/03/3-myths-about-kabbalah-1.jpg
END:VEVENT
BEGIN:VEVENT
DTSTART;TZID=America/New_York:20190411T203000
DTEND;TZID=America/New_York:20190411T221500
DTSTAMP:20260422T175237
CREATED:20190108T193215Z
LAST-MODIFIED:20190108T193215Z
UID:10001268-1555014600-1555020900@www.thecarlebachshul.org
SUMMARY:Daf Yomi – Thursday Night Shiur (With Yitzy Weinberg)
DESCRIPTION:
URL:https://www.thecarlebachshul.org/event/daf-yomi-thursday-night-shiur-with-yitzy-weinberg-30/
CATEGORIES:Daf Yomi,Events
ATTACH;FMTTYPE=image/jpeg:https://www.thecarlebachshul.org/wp-content/uploads/2018/04/Yitzy_Weinberg-1-1.jpg
END:VEVENT
BEGIN:VEVENT
DTSTART;TZID=America/New_York:20190412T191400
DTEND;TZID=America/New_York:20190413T201400
DTSTAMP:20260422T175237
CREATED:20190104T153349Z
LAST-MODIFIED:20190104T153349Z
UID:10001095-1555096440-1555186440@www.thecarlebachshul.org
SUMMARY:Friday – Shabbat Schedule 4/12 - 4/13
DESCRIPTION:
URL:https://www.thecarlebachshul.org/event/friday-shabbat-schedule-4-12-4-13/
CATEGORIES:Events,Friday-Shabbat Schedule
ATTACH;FMTTYPE=image/jpeg:https://www.thecarlebachshul.org/wp-content/uploads/2018/04/Carlebach-HP.jpg
END:VEVENT
BEGIN:VEVENT
DTSTART;TZID=America/New_York:20190414T103000
DTEND;TZID=America/New_York:20190414T140000
DTSTAMP:20260422T175237
CREATED:20190108T161925Z
LAST-MODIFIED:20190108T161925Z
UID:10001251-1555237800-1555250400@www.thecarlebachshul.org
SUMMARY:Sunday Yeshiva with Rabbi Avraham Newman
DESCRIPTION:
URL:https://www.thecarlebachshul.org/event/sunday-yeshiva-with-rabbi-avraham-newman-30/
CATEGORIES:Events
ATTACH;FMTTYPE=image/jpeg:https://www.thecarlebachshul.org/wp-content/uploads/2018/04/Avraham-Newman-1.jpg
END:VEVENT
BEGIN:VEVENT
DTSTART;TZID=America/New_York:20190418T203200
DTEND;TZID=America/New_York:20190427T202100
DTSTAMP:20260422T175237
CREATED:20190104T170741Z
LAST-MODIFIED:20190104T170741Z
UID:10001123-1555619520-1556396460@www.thecarlebachshul.org
SUMMARY:Pesach 2019
DESCRIPTION:
URL:https://www.thecarlebachshul.org/event/pesach-2019/
CATEGORIES:Events,Holidays
END:VEVENT
BEGIN:VEVENT
DTSTART;TZID=America/New_York:20190430T190000
DTEND;TZID=America/New_York:20190430T210000
DTSTAMP:20260422T175237
CREATED:20190108T180623Z
LAST-MODIFIED:20190108T180623Z
UID:10001263-1556650800-1556658000@www.thecarlebachshul.org
SUMMARY:A Touch of Kabbalah & A Taste of Torah with Rabbi Meir Fund
DESCRIPTION:
URL:https://www.thecarlebachshul.org/event/touch-of-kabbalah-a-taste-of-torah-with-rabbi-meir-fund-38/
CATEGORIES:Events
ATTACH;FMTTYPE=image/jpeg:https://www.thecarlebachshul.org/wp-content/uploads/2016/03/3-myths-about-kabbalah-1.jpg
END:VEVENT
END:VCALENDAR