BEGIN:VCALENDAR
VERSION:2.0
PRODID:-//The Carlebach Shul - ECPv6.2.9//NONSGML v1.0//EN
CALSCALE:GREGORIAN
METHOD:PUBLISH
X-ORIGINAL-URL:https://www.thecarlebachshul.org
X-WR-CALDESC:Events for The Carlebach Shul
REFRESH-INTERVAL;VALUE=DURATION:PT1H
X-Robots-Tag:noindex
X-PUBLISHED-TTL:PT1H
BEGIN:VTIMEZONE
TZID:America/New_York
BEGIN:DAYLIGHT
TZOFFSETFROM:-0500
TZOFFSETTO:-0400
TZNAME:EDT
DTSTART:20190310T070000
END:DAYLIGHT
BEGIN:STANDARD
TZOFFSETFROM:-0400
TZOFFSETTO:-0500
TZNAME:EST
DTSTART:20191103T060000
END:STANDARD
END:VTIMEZONE
BEGIN:VEVENT
DTSTART;TZID=America/New_York:20190503T192600
DTEND;TZID=America/New_York:20190504T202600
DTSTAMP:20260422T160803
CREATED:20190116T180745Z
LAST-MODIFIED:20190116T180745Z
UID:10001338-1556911560-1557001560@www.thecarlebachshul.org
SUMMARY:Friday – Shabbat Schedule 5/3 - 5/4
DESCRIPTION:
URL:https://www.thecarlebachshul.org/event/friday-shabbat-schedule-5-3-5-4/
CATEGORIES:Events,Friday-Shabbat Schedule
ATTACH;FMTTYPE=image/jpeg:https://www.thecarlebachshul.org/wp-content/uploads/2018/04/Carlebach-HP.jpg
END:VEVENT
BEGIN:VEVENT
DTSTART;TZID=America/New_York:20190503T194500
DTEND;TZID=America/New_York:20190503T204500
DTSTAMP:20260422T160803
CREATED:20190502T193849Z
LAST-MODIFIED:20190502T194544Z
UID:10001491-1556912700-1556916300@www.thecarlebachshul.org
SUMMARY:Going to Shul in Solidarity
DESCRIPTION:
URL:https://www.thecarlebachshul.org/event/going-to-shul-in-solidarity/
CATEGORIES:Events,Shabbat
ATTACH;FMTTYPE=image/jpeg:https://www.thecarlebachshul.org/wp-content/uploads/2019/05/400x600-chabad-solidarity-shabb.jpg
END:VEVENT
BEGIN:VEVENT
DTSTART;TZID=America/New_York:20190505T103000
DTEND;TZID=America/New_York:20190505T140000
DTSTAMP:20260422T160803
CREATED:20190116T165305Z
LAST-MODIFIED:20190116T165305Z
UID:10000750-1557052200-1557064800@www.thecarlebachshul.org
SUMMARY:Sunday Yeshiva with Rabbi Avraham Newman
DESCRIPTION:
URL:https://www.thecarlebachshul.org/event/sunday-yeshiva-with-rabbi-avraham-newman-32/
CATEGORIES:Events
ATTACH;FMTTYPE=image/jpeg:https://www.thecarlebachshul.org/wp-content/uploads/2018/04/Avraham-Newman-1.jpg
END:VEVENT
BEGIN:VEVENT
DTSTART;TZID=America/New_York:20190505T160000
DTEND;TZID=America/New_York:20190505T190000
DTSTAMP:20260422T160803
CREATED:20190301T180052Z
LAST-MODIFIED:20190301T180052Z
UID:10000779-1557072000-1557082800@www.thecarlebachshul.org
SUMMARY:Carlebach Holocaust Commemoration 2019
DESCRIPTION:
URL:https://www.thecarlebachshul.org/event/carlebach-holocaust-commemoration-2019/
CATEGORIES:Events
ATTACH;FMTTYPE=image/jpeg:https://www.thecarlebachshul.org/wp-content/uploads/2019/02/reduced_MG_8777B.jpg
END:VEVENT
BEGIN:VEVENT
DTSTART;TZID=America/New_York:20190507T190000
DTEND;TZID=America/New_York:20190507T210000
DTSTAMP:20260422T160803
CREATED:20190116T170643Z
LAST-MODIFIED:20190116T170643Z
UID:10000773-1557255600-1557262800@www.thecarlebachshul.org
SUMMARY:A Touch of Kabbalah & A Taste of Torah with Rabbi Meir Fund
DESCRIPTION:
URL:https://www.thecarlebachshul.org/event/touch-of-kabbalah-a-taste-of-torah-with-rabbi-meir-fund-39/
CATEGORIES:Events
ATTACH;FMTTYPE=image/jpeg:https://www.thecarlebachshul.org/wp-content/uploads/2018/04/3-myths-about-kabbalah-1-600x400.jpg
END:VEVENT
BEGIN:VEVENT
DTSTART;TZID=America/New_York:20190509T203000
DTEND;TZID=America/New_York:20190509T221500
DTSTAMP:20260422T160803
CREATED:20190116T172007Z
LAST-MODIFIED:20190116T172007Z
UID:10001331-1557433800-1557440100@www.thecarlebachshul.org
SUMMARY:Daf Yomi – Thursday Night Shiur (With Yitzy Weinberg)
DESCRIPTION:
URL:https://www.thecarlebachshul.org/event/daf-yomi-thursday-night-shiur-with-yitzy-weinberg-32/
CATEGORIES:Daf Yomi,Events
ATTACH;FMTTYPE=image/jpeg:https://www.thecarlebachshul.org/wp-content/uploads/2018/04/Yitzy_Weinberg-1-1.jpg
END:VEVENT
BEGIN:VEVENT
DTSTART;TZID=America/New_York:20190510T194300
DTEND;TZID=America/New_York:20190511T204300
DTSTAMP:20260422T160803
CREATED:20190116T180944Z
LAST-MODIFIED:20190116T180944Z
UID:10001339-1557517380-1557607380@www.thecarlebachshul.org
SUMMARY:Friday – Shabbat Schedule 5/10 - 5/11
DESCRIPTION:
URL:https://www.thecarlebachshul.org/event/friday-shabbat-schedule-5-10-5-11/
CATEGORIES:Events,Friday-Shabbat Schedule
ATTACH;FMTTYPE=image/jpeg:https://www.thecarlebachshul.org/wp-content/uploads/2018/04/Carlebach-HP.jpg
END:VEVENT
BEGIN:VEVENT
DTSTART;TZID=America/New_York:20190512T103000
DTEND;TZID=America/New_York:20190512T140000
DTSTAMP:20260422T160803
CREATED:20190116T165407Z
LAST-MODIFIED:20190116T165407Z
UID:10000754-1557657000-1557669600@www.thecarlebachshul.org
SUMMARY:Sunday Yeshiva with Rabbi Avraham Newman
DESCRIPTION:
URL:https://www.thecarlebachshul.org/event/sunday-yeshiva-with-rabbi-avraham-newman-33/
CATEGORIES:Events
ATTACH;FMTTYPE=image/jpeg:https://www.thecarlebachshul.org/wp-content/uploads/2016/02/Avraham-Newman-1-e1746811144555.jpg
END:VEVENT
BEGIN:VEVENT
DTSTART;TZID=America/New_York:20190514T190000
DTEND;TZID=America/New_York:20190514T210000
DTSTAMP:20260422T160803
CREATED:20190116T170747Z
LAST-MODIFIED:20190116T170747Z
UID:10000775-1557860400-1557867600@www.thecarlebachshul.org
SUMMARY:A Touch of Kabbalah & A Taste of Torah with Rabbi Meir Fund
DESCRIPTION:
URL:https://www.thecarlebachshul.org/event/touch-of-kabbalah-a-taste-of-torah-with-rabbi-meir-fund-40/
CATEGORIES:Events
ATTACH;FMTTYPE=image/jpeg:https://www.thecarlebachshul.org/wp-content/uploads/2018/04/3-myths-about-kabbalah-1-600x400.jpg
END:VEVENT
BEGIN:VEVENT
DTSTART;TZID=America/New_York:20190516T203000
DTEND;TZID=America/New_York:20190516T221500
DTSTAMP:20260422T160803
CREATED:20190116T172113Z
LAST-MODIFIED:20190116T172113Z
UID:10001332-1558038600-1558044900@www.thecarlebachshul.org
SUMMARY:Daf Yomi – Thursday Night Shiur (With Yitzy Weinberg)
DESCRIPTION:
URL:https://www.thecarlebachshul.org/event/daf-yomi-thursday-night-shiur-with-yitzy-weinberg-33/
CATEGORIES:Daf Yomi,Events
ATTACH;FMTTYPE=image/jpeg:https://www.thecarlebachshul.org/wp-content/uploads/2018/04/Yitzy_Weinberg-1-1.jpg
END:VEVENT
BEGIN:VEVENT
DTSTART;TZID=America/New_York:20190517T195000
DTEND;TZID=America/New_York:20190517T195000
DTSTAMP:20260422T160803
CREATED:20190409T195502Z
LAST-MODIFIED:20190514T211118Z
UID:10001477-1558122600-1558122600@www.thecarlebachshul.org
SUMMARY:Shabbat Dinner Friday May 17th with Rabbi Nehemia Polen\, Rabbi Naftali Citron\, and Yehuda Green
DESCRIPTION:
URL:https://www.thecarlebachshul.org/event/shabbat-dinner-friday-may-17th-with-rabbi-nehemia-polen/
CATEGORIES:Events
ATTACH;FMTTYPE=image/jpeg:https://www.thecarlebachshul.org/wp-content/uploads/2019/02/polen2019ShabbatDinner-Banner-13.jpg
END:VEVENT
BEGIN:VEVENT
DTSTART;TZID=America/New_York:20190517T195000
DTEND;TZID=America/New_York:20190518T205000
DTSTAMP:20260422T160803
CREATED:20190116T181112Z
LAST-MODIFIED:20190116T181112Z
UID:10001340-1558122600-1558212600@www.thecarlebachshul.org
SUMMARY:Friday – Shabbat Schedule 5/17 - 5/18
DESCRIPTION:
URL:https://www.thecarlebachshul.org/event/friday-shabbat-schedule-5-17-5-18/
CATEGORIES:Events,Friday-Shabbat Schedule
ATTACH;FMTTYPE=image/jpeg:https://www.thecarlebachshul.org/wp-content/uploads/2018/04/Carlebach-HP.jpg
END:VEVENT
BEGIN:VEVENT
DTSTART;TZID=America/New_York:20190519T103000
DTEND;TZID=America/New_York:20190519T140000
DTSTAMP:20260422T160803
CREATED:20190116T165505Z
LAST-MODIFIED:20190116T165505Z
UID:10000758-1558261800-1558274400@www.thecarlebachshul.org
SUMMARY:Sunday Yeshiva with Rabbi Avraham Newman
DESCRIPTION:
URL:https://www.thecarlebachshul.org/event/sunday-yeshiva-with-rabbi-avraham-newman-34/
CATEGORIES:Events
ATTACH;FMTTYPE=image/jpeg:https://www.thecarlebachshul.org/wp-content/uploads/2018/04/Avraham-Newman-1.jpg
END:VEVENT
BEGIN:VEVENT
DTSTART;TZID=America/New_York:20190521T190000
DTEND;TZID=America/New_York:20190521T210000
DTSTAMP:20260422T160803
CREATED:20190116T170832Z
LAST-MODIFIED:20190116T170832Z
UID:10000778-1558465200-1558472400@www.thecarlebachshul.org
SUMMARY:A Touch of Kabbalah & A Taste of Torah with Rabbi Meir Fund
DESCRIPTION:
URL:https://www.thecarlebachshul.org/event/touch-of-kabbalah-a-taste-of-torah-with-rabbi-meir-fund-41/
CATEGORIES:Events
ATTACH;FMTTYPE=image/jpeg:https://www.thecarlebachshul.org/wp-content/uploads/2018/04/3-myths-about-kabbalah-1-600x400.jpg
END:VEVENT
BEGIN:VEVENT
DTSTART;TZID=America/New_York:20190523T203000
DTEND;TZID=America/New_York:20190523T221500
DTSTAMP:20260422T160803
CREATED:20190116T172157Z
LAST-MODIFIED:20190116T172157Z
UID:10001333-1558643400-1558649700@www.thecarlebachshul.org
SUMMARY:Daf Yomi – Thursday Night Shiur (With Yitzy Weinberg)
DESCRIPTION:
URL:https://www.thecarlebachshul.org/event/daf-yomi-thursday-night-shiur-with-yitzy-weinberg-34/
CATEGORIES:Daf Yomi,Events
ATTACH;FMTTYPE=image/jpeg:https://www.thecarlebachshul.org/wp-content/uploads/2018/04/Yitzy_Weinberg-1-1.jpg
END:VEVENT
BEGIN:VEVENT
DTSTART;TZID=America/New_York:20190524T195600
DTEND;TZID=America/New_York:20190525T205600
DTSTAMP:20260422T160803
CREATED:20190116T181216Z
LAST-MODIFIED:20190116T181216Z
UID:10001341-1558727760-1558817760@www.thecarlebachshul.org
SUMMARY:Friday – Shabbat Schedule 5/24 - 5/25
DESCRIPTION:
URL:https://www.thecarlebachshul.org/event/friday-shabbat-schedule-5-24-5-25/
CATEGORIES:Events,Friday-Shabbat Schedule
ATTACH;FMTTYPE=image/jpeg:https://www.thecarlebachshul.org/wp-content/uploads/2018/04/Carlebach-HP.jpg
END:VEVENT
BEGIN:VEVENT
DTSTART;TZID=America/New_York:20190526T103000
DTEND;TZID=America/New_York:20190526T140000
DTSTAMP:20260422T160803
CREATED:20190116T165545Z
LAST-MODIFIED:20190116T165545Z
UID:10000763-1558866600-1558879200@www.thecarlebachshul.org
SUMMARY:Sunday Yeshiva with Rabbi Avraham Newman
DESCRIPTION:
URL:https://www.thecarlebachshul.org/event/sunday-yeshiva-with-rabbi-avraham-newman-35/
CATEGORIES:Events
ATTACH;FMTTYPE=image/jpeg:https://www.thecarlebachshul.org/wp-content/uploads/2018/04/Avraham-Newman-1.jpg
END:VEVENT
BEGIN:VEVENT
DTSTART;TZID=America/New_York:20190528T190000
DTEND;TZID=America/New_York:20190528T210000
DTSTAMP:20260422T160803
CREATED:20190116T170935Z
LAST-MODIFIED:20190116T170935Z
UID:10001327-1559070000-1559077200@www.thecarlebachshul.org
SUMMARY:A Touch of Kabbalah & A Taste of Torah with Rabbi Meir Fund
DESCRIPTION:
URL:https://www.thecarlebachshul.org/event/touch-of-kabbalah-a-taste-of-torah-with-rabbi-meir-fund-42/
CATEGORIES:Events
ATTACH;FMTTYPE=image/jpeg:https://www.thecarlebachshul.org/wp-content/uploads/2018/04/3-myths-about-kabbalah-1-600x400.jpg
END:VEVENT
BEGIN:VEVENT
DTSTART;TZID=America/New_York:20190530T203000
DTEND;TZID=America/New_York:20190530T221500
DTSTAMP:20260422T160803
CREATED:20190116T172236Z
LAST-MODIFIED:20190116T172236Z
UID:10001334-1559248200-1559254500@www.thecarlebachshul.org
SUMMARY:Daf Yomi – Thursday Night Shiur (With Yitzy Weinberg)
DESCRIPTION:
URL:https://www.thecarlebachshul.org/event/daf-yomi-thursday-night-shiur-with-yitzy-weinberg-35/
CATEGORIES:Daf Yomi,Events
ATTACH;FMTTYPE=image/jpeg:https://www.thecarlebachshul.org/wp-content/uploads/2018/04/Yitzy_Weinberg-1-1.jpg
END:VEVENT
BEGIN:VEVENT
DTSTART;TZID=America/New_York:20190531T200200
DTEND;TZID=America/New_York:20190601T210200
DTSTAMP:20260422T160803
CREATED:20190116T181338Z
LAST-MODIFIED:20190116T181338Z
UID:10001342-1559332920-1559422920@www.thecarlebachshul.org
SUMMARY:Friday – Shabbat Schedule 5/31 - 6/1
DESCRIPTION:
URL:https://www.thecarlebachshul.org/event/friday-shabbat-schedule-5-31-6-1/
CATEGORIES:Events,Friday-Shabbat Schedule
ATTACH;FMTTYPE=image/jpeg:https://www.thecarlebachshul.org/wp-content/uploads/2018/04/Carlebach-HP.jpg
END:VEVENT
END:VCALENDAR