BEGIN:VCALENDAR
VERSION:2.0
PRODID:-//The Carlebach Shul - ECPv6.2.9//NONSGML v1.0//EN
CALSCALE:GREGORIAN
METHOD:PUBLISH
X-WR-CALNAME:The Carlebach Shul
X-ORIGINAL-URL:https://www.thecarlebachshul.org
X-WR-CALDESC:Events for The Carlebach Shul
REFRESH-INTERVAL;VALUE=DURATION:PT1H
X-Robots-Tag:noindex
X-PUBLISHED-TTL:PT1H
BEGIN:VTIMEZONE
TZID:America/New_York
BEGIN:DAYLIGHT
TZOFFSETFROM:-0500
TZOFFSETTO:-0400
TZNAME:EDT
DTSTART:20190310T070000
END:DAYLIGHT
BEGIN:STANDARD
TZOFFSETFROM:-0400
TZOFFSETTO:-0500
TZNAME:EST
DTSTART:20191103T060000
END:STANDARD
END:VTIMEZONE
BEGIN:VEVENT
DTSTART;TZID=America/New_York:20190531T200200
DTEND;TZID=America/New_York:20190601T210200
DTSTAMP:20260422T142027
CREATED:20190116T181338Z
LAST-MODIFIED:20190116T181338Z
UID:10001342-1559332920-1559422920@www.thecarlebachshul.org
SUMMARY:Friday – Shabbat Schedule 5/31 - 6/1
DESCRIPTION:
URL:https://www.thecarlebachshul.org/event/friday-shabbat-schedule-5-31-6-1/
CATEGORIES:Events,Friday-Shabbat Schedule
ATTACH;FMTTYPE=image/jpeg:https://www.thecarlebachshul.org/wp-content/uploads/2018/04/Carlebach-HP.jpg
END:VEVENT
BEGIN:VEVENT
DTSTART;TZID=America/New_York:20190604T190000
DTEND;TZID=America/New_York:20190604T210000
DTSTAMP:20260422T142027
CREATED:20190116T171015Z
LAST-MODIFIED:20190116T171015Z
UID:10001328-1559674800-1559682000@www.thecarlebachshul.org
SUMMARY:A Touch of Kabbalah & A Taste of Torah with Rabbi Meir Fund
DESCRIPTION:
URL:https://www.thecarlebachshul.org/event/touch-of-kabbalah-a-taste-of-torah-with-rabbi-meir-fund-43/
CATEGORIES:Events
ATTACH;FMTTYPE=image/jpeg:https://www.thecarlebachshul.org/wp-content/uploads/2018/04/3-myths-about-kabbalah-1-600x400.jpg
END:VEVENT
BEGIN:VEVENT
DTSTART;TZID=America/New_York:20190607T200700
DTEND;TZID=America/New_York:20190608T210700
DTSTAMP:20260422T142027
CREATED:20190116T183331Z
LAST-MODIFIED:20190116T183331Z
UID:10001343-1559938020-1560028020@www.thecarlebachshul.org
SUMMARY:Friday – Shabbat Schedule 6/7-6/8
DESCRIPTION:
URL:https://www.thecarlebachshul.org/event/friday-shabbat-schedule-6-7-6-8/
CATEGORIES:Events,Friday-Shabbat Schedule
ATTACH;FMTTYPE=image/jpeg:https://www.thecarlebachshul.org/wp-content/uploads/2018/04/Carlebach-HP.jpg
END:VEVENT
BEGIN:VEVENT
DTSTART;TZID=America/New_York:20190611T190000
DTEND;TZID=America/New_York:20190611T210000
DTSTAMP:20260422T142027
CREATED:20190116T171103Z
LAST-MODIFIED:20190116T171103Z
UID:10001329-1560279600-1560286800@www.thecarlebachshul.org
SUMMARY:A Touch of Kabbalah & A Taste of Torah with Rabbi Meir Fund
DESCRIPTION:
URL:https://www.thecarlebachshul.org/event/touch-of-kabbalah-a-taste-of-torah-with-rabbi-meir-fund-44/
CATEGORIES:Events
ATTACH;FMTTYPE=image/jpeg:https://www.thecarlebachshul.org/wp-content/uploads/2018/04/3-myths-about-kabbalah-1-600x400.jpg
END:VEVENT
BEGIN:VEVENT
DTSTART;TZID=America/New_York:20190613T203000
DTEND;TZID=America/New_York:20190613T203000
DTSTAMP:20260422T142027
CREATED:20190116T172350Z
LAST-MODIFIED:20190116T172350Z
UID:10001335-1560457800-1560457800@www.thecarlebachshul.org
SUMMARY:Daf Yomi – Thursday Night Shiur (With Yitzy Weinberg)
DESCRIPTION:
URL:https://www.thecarlebachshul.org/event/daf-yomi-thursday-night-shiur-with-yitzy-weinberg-37/
CATEGORIES:Daf Yomi,Events
ATTACH;FMTTYPE=image/jpeg:https://www.thecarlebachshul.org/wp-content/uploads/2018/04/Yitzy_Weinberg-1-1.jpg
END:VEVENT
BEGIN:VEVENT
DTSTART;TZID=America/New_York:20190614T201000
DTEND;TZID=America/New_York:20190615T211000
DTSTAMP:20260422T142027
CREATED:20190116T183454Z
LAST-MODIFIED:20190116T183454Z
UID:10001344-1560543000-1560633000@www.thecarlebachshul.org
SUMMARY:Friday – Shabbat Schedule 6/14-6/15
DESCRIPTION:
URL:https://www.thecarlebachshul.org/event/friday-shabbat-schedule-6-14-6-15/
CATEGORIES:Events,Friday-Shabbat Schedule
ATTACH;FMTTYPE=image/jpeg:https://www.thecarlebachshul.org/wp-content/uploads/2018/04/Carlebach-HP.jpg
END:VEVENT
BEGIN:VEVENT
DTSTART;TZID=America/New_York:20190616T103000
DTEND;TZID=America/New_York:20190616T140000
DTSTAMP:20260422T142027
CREATED:20190116T165704Z
LAST-MODIFIED:20190116T165704Z
UID:10000765-1560681000-1560693600@www.thecarlebachshul.org
SUMMARY:Sunday Yeshiva with Rabbi Avraham Newman
DESCRIPTION:
URL:https://www.thecarlebachshul.org/event/sunday-yeshiva-with-rabbi-avraham-newman-37/
CATEGORIES:Events
ATTACH;FMTTYPE=image/jpeg:https://www.thecarlebachshul.org/wp-content/uploads/2018/04/Avraham-Newman-1.jpg
END:VEVENT
BEGIN:VEVENT
DTSTART;TZID=America/New_York:20190618T190000
DTEND;TZID=America/New_York:20190618T210000
DTSTAMP:20260422T142027
CREATED:20190116T171145Z
LAST-MODIFIED:20190116T171145Z
UID:10001330-1560884400-1560891600@www.thecarlebachshul.org
SUMMARY:A Touch of Kabbalah & A Taste of Torah with Rabbi Meir Fund
DESCRIPTION:
URL:https://www.thecarlebachshul.org/event/touch-of-kabbalah-a-taste-of-torah-with-rabbi-meir-fund-45/
CATEGORIES:Events
ATTACH;FMTTYPE=image/jpeg:https://www.thecarlebachshul.org/wp-content/uploads/2018/04/3-myths-about-kabbalah-1-600x400.jpg
END:VEVENT
BEGIN:VEVENT
DTSTART;TZID=America/New_York:20190620T203000
DTEND;TZID=America/New_York:20190620T221500
DTSTAMP:20260422T142027
CREATED:20190116T172426Z
LAST-MODIFIED:20190116T172426Z
UID:10001336-1561062600-1561068900@www.thecarlebachshul.org
SUMMARY:Daf Yomi – Thursday Night Shiur (With Yitzy Weinberg)
DESCRIPTION:
URL:https://www.thecarlebachshul.org/event/daf-yomi-thursday-night-shiur-with-yitzy-weinberg-38/
CATEGORIES:Daf Yomi,Events
ATTACH;FMTTYPE=image/jpeg:https://www.thecarlebachshul.org/wp-content/uploads/2018/04/Yitzy_Weinberg-1-1.jpg
END:VEVENT
BEGIN:VEVENT
DTSTART;TZID=America/New_York:20190621T201200
DTEND;TZID=America/New_York:20190622T211200
DTSTAMP:20260422T142027
CREATED:20190116T183601Z
LAST-MODIFIED:20190116T183601Z
UID:10000767-1561147920-1561237920@www.thecarlebachshul.org
SUMMARY:Friday – Shabbat Schedule 6/21-6/22
DESCRIPTION:
URL:https://www.thecarlebachshul.org/event/friday-shabbat-schedule-6-21-6-22/
CATEGORIES:Events,Friday-Shabbat Schedule
ATTACH;FMTTYPE=image/jpeg:https://www.thecarlebachshul.org/wp-content/uploads/2018/04/Carlebach-HP.jpg
END:VEVENT
BEGIN:VEVENT
DTSTART;TZID=America/New_York:20190623T103000
DTEND;TZID=America/New_York:20190623T140000
DTSTAMP:20260422T142027
CREATED:20190116T165747Z
LAST-MODIFIED:20190116T165747Z
UID:10000768-1561285800-1561298400@www.thecarlebachshul.org
SUMMARY:Sunday Yeshiva with Rabbi Avraham Newman
DESCRIPTION:
URL:https://www.thecarlebachshul.org/event/sunday-yeshiva-with-rabbi-avraham-newman-38/
CATEGORIES:Events
ATTACH;FMTTYPE=image/jpeg:https://www.thecarlebachshul.org/wp-content/uploads/2018/04/Avraham-Newman-1.jpg
END:VEVENT
BEGIN:VEVENT
DTSTART;TZID=America/New_York:20190627T203000
DTEND;TZID=America/New_York:20190627T221500
DTSTAMP:20260422T142027
CREATED:20190116T172511Z
LAST-MODIFIED:20190116T172511Z
UID:10001337-1561667400-1561673700@www.thecarlebachshul.org
SUMMARY:Daf Yomi – Thursday Night Shiur (With Yitzy Weinberg)
DESCRIPTION:
URL:https://www.thecarlebachshul.org/event/daf-yomi-thursday-night-shiur-with-yitzy-weinberg-39/
CATEGORIES:Daf Yomi,Events
ATTACH;FMTTYPE=image/jpeg:https://www.thecarlebachshul.org/wp-content/uploads/2018/04/Yitzy_Weinberg-1-1.jpg
END:VEVENT
BEGIN:VEVENT
DTSTART;TZID=America/New_York:20190628T201300
DTEND;TZID=America/New_York:20190629T003000
DTSTAMP:20260422T142027
CREATED:20190411T182228Z
LAST-MODIFIED:20190411T182546Z
UID:10001478-1561752780-1561768200@www.thecarlebachshul.org
SUMMARY:Shabbat Friday Night Dinner June 28th with Rabbi Naftali Citron and Special Guest Dr. Raphael Kellman
DESCRIPTION:
URL:https://www.thecarlebachshul.org/event/shabbat-friday-night-dinner-june-28th-with-dr-raphael-kellman/
CATEGORIES:Events
ATTACH;FMTTYPE=image/jpeg:https://www.thecarlebachshul.org/wp-content/uploads/2018/06/Kelleman-ShabbatDinner-Banner-13.jpg
END:VEVENT
BEGIN:VEVENT
DTSTART;TZID=America/New_York:20190628T201300
DTEND;TZID=America/New_York:20190629T211300
DTSTAMP:20260422T142027
CREATED:20190116T183718Z
LAST-MODIFIED:20190116T183718Z
UID:10000769-1561752780-1561842780@www.thecarlebachshul.org
SUMMARY:Friday – Shabbat Schedule 6/28-6/29
DESCRIPTION:
URL:https://www.thecarlebachshul.org/event/friday-shabbat-schedule-6-28-6-29/
CATEGORIES:Events,Friday-Shabbat Schedule
ATTACH;FMTTYPE=image/jpeg:https://www.thecarlebachshul.org/wp-content/uploads/2018/04/Carlebach-HP.jpg
END:VEVENT
BEGIN:VEVENT
DTSTART;TZID=America/New_York:20190630T103000
DTEND;TZID=America/New_York:20190630T140000
DTSTAMP:20260422T142027
CREATED:20190116T165826Z
LAST-MODIFIED:20190116T165826Z
UID:10000770-1561890600-1561903200@www.thecarlebachshul.org
SUMMARY:Sunday Yeshiva with Rabbi Avraham Newman
DESCRIPTION:
URL:https://www.thecarlebachshul.org/event/sunday-yeshiva-with-rabbi-avraham-newman-39/
CATEGORIES:Events
ATTACH;FMTTYPE=image/jpeg:https://www.thecarlebachshul.org/wp-content/uploads/2018/04/Avraham-Newman-1.jpg
END:VEVENT
END:VCALENDAR