BEGIN:VCALENDAR
VERSION:2.0
PRODID:-//The Carlebach Shul - ECPv6.2.9//NONSGML v1.0//EN
CALSCALE:GREGORIAN
METHOD:PUBLISH
X-ORIGINAL-URL:https://www.thecarlebachshul.org
X-WR-CALDESC:Events for The Carlebach Shul
REFRESH-INTERVAL;VALUE=DURATION:PT1H
X-Robots-Tag:noindex
X-PUBLISHED-TTL:PT1H
BEGIN:VTIMEZONE
TZID:America/New_York
BEGIN:DAYLIGHT
TZOFFSETFROM:-0500
TZOFFSETTO:-0400
TZNAME:EDT
DTSTART:20180311T070000
END:DAYLIGHT
BEGIN:STANDARD
TZOFFSETFROM:-0400
TZOFFSETTO:-0500
TZNAME:EST
DTSTART:20181104T060000
END:STANDARD
END:VTIMEZONE
BEGIN:VEVENT
DTSTART;TZID=America/New_York:20180720T200400
DTEND;TZID=America/New_York:20180721T002000
DTSTAMP:20260423T125728
CREATED:20180608T174229Z
LAST-MODIFIED:20180621T202016Z
UID:10000766-1532117040-1532132400@www.thecarlebachshul.org
SUMMARY:Friday Night Dinner Shabbat Chazzon July 20th with Rute Yair-Nussbaum - Moshe Liebert Yahrzeit
DESCRIPTION:
URL:https://www.thecarlebachshul.org/event/shabbat-friday-night-dinner-shabbat-chazzon-july-20th-moshe-liebert-yahrzeit-dinner/
CATEGORIES:Events
ATTACH;FMTTYPE=image/jpeg:https://www.thecarlebachshul.org/wp-content/uploads/2016/07/Moshe-Liebert.jpg
END:VEVENT
BEGIN:VEVENT
DTSTART;TZID=America/New_York:20180720T200400
DTEND;TZID=America/New_York:20180721T210400
DTSTAMP:20260423T125728
CREATED:20180717T204317Z
LAST-MODIFIED:20180717T204317Z
UID:10000790-1532117040-1532207040@www.thecarlebachshul.org
SUMMARY:Yehuda Green is at The Carlebach Shul Shabbat 07/20- 07/21
DESCRIPTION:
URL:https://www.thecarlebachshul.org/event/yehuda-green-is-at-the-carlebach-shul-shabbat-07-20-07-21/
CATEGORIES:Events,Special Events
ATTACH;FMTTYPE=image/png:https://www.thecarlebachshul.org/wp-content/uploads/2017/08/HP_YehudaGreenIsIn.png
END:VEVENT
BEGIN:VEVENT
DTSTART;TZID=America/New_York:20180721T103000
DTEND;TZID=America/New_York:20180721T123000
DTSTAMP:20260423T125728
CREATED:20180523T140345Z
LAST-MODIFIED:20180523T140345Z
UID:10000715-1532169000-1532176200@www.thecarlebachshul.org
SUMMARY:Children’s Program – Shabbat Morning
DESCRIPTION:
URL:https://www.thecarlebachshul.org/event/childrens-program-shabbat-morning-8/
CATEGORIES:Events
ATTACH;FMTTYPE=image/jpeg:https://www.thecarlebachshul.org/wp-content/uploads/2018/04/children-program-1.jpg
END:VEVENT
BEGIN:VEVENT
DTSTART;TZID=America/New_York:20180721T141500
DTEND;TZID=America/New_York:20180721T151500
DTSTAMP:20260423T125728
CREATED:20180712T215624Z
LAST-MODIFIED:20180712T215624Z
UID:10000789-1532182500-1532186100@www.thecarlebachshul.org
SUMMARY:Pre-Mincha Lecture with Rute Yair-Nussbaum
DESCRIPTION:
URL:https://www.thecarlebachshul.org/event/pre-mincha-lecture-with-rute-yair-nussbaum/
CATEGORIES:Classes,Events,Special Events
ATTACH;FMTTYPE=image/png:https://www.thecarlebachshul.org/wp-content/uploads/2018/06/Rute.png
END:VEVENT
BEGIN:VEVENT
DTSTART;TZID=America/New_York:20180721T202100
DTEND;TZID=America/New_York:20180722T210000
DTSTAMP:20260423T125728
CREATED:20180702T214238Z
LAST-MODIFIED:20180702T214238Z
UID:10000786-1532204460-1532293200@www.thecarlebachshul.org
SUMMARY:Tish’a B’Av 2018
DESCRIPTION:
URL:https://www.thecarlebachshul.org/event/tisha-bav-2018/
CATEGORIES:Events
ATTACH;FMTTYPE=image/png:https://www.thecarlebachshul.org/wp-content/uploads/2017/07/2017-07-30_00h20_03.png
END:VEVENT
END:VCALENDAR