BEGIN:VCALENDAR
VERSION:2.0
PRODID:-//The Carlebach Shul - ECPv6.2.9//NONSGML v1.0//EN
CALSCALE:GREGORIAN
METHOD:PUBLISH
X-WR-CALNAME:The Carlebach Shul
X-ORIGINAL-URL:https://www.thecarlebachshul.org
X-WR-CALDESC:Events for The Carlebach Shul
REFRESH-INTERVAL;VALUE=DURATION:PT1H
X-Robots-Tag:noindex
X-PUBLISHED-TTL:PT1H
BEGIN:VTIMEZONE
TZID:America/New_York
BEGIN:DAYLIGHT
TZOFFSETFROM:-0500
TZOFFSETTO:-0400
TZNAME:EDT
DTSTART:20180311T070000
END:DAYLIGHT
BEGIN:STANDARD
TZOFFSETFROM:-0400
TZOFFSETTO:-0500
TZNAME:EST
DTSTART:20181104T060000
END:STANDARD
END:VTIMEZONE
BEGIN:VEVENT
DTSTART;TZID=America/New_York:20181012T180100
DTEND;TZID=America/New_York:20181013T190100
DTSTAMP:20260423T064548
CREATED:20180509T152436Z
LAST-MODIFIED:20180509T152436Z
UID:10000341-1539367260-1539457260@www.thecarlebachshul.org
SUMMARY:Friday – Shabbat Schedule 10/12-10/13
DESCRIPTION:
URL:https://www.thecarlebachshul.org/event/friday-shabbat-schedule-10-12-10-13/
CATEGORIES:Events,Friday-Shabbat Schedule
ATTACH;FMTTYPE=image/jpeg:https://www.thecarlebachshul.org/wp-content/uploads/2018/04/Carlebach-HP.jpg
END:VEVENT
BEGIN:VEVENT
DTSTART;TZID=America/New_York:20181013T103000
DTEND;TZID=America/New_York:20181013T123000
DTSTAMP:20260423T064548
CREATED:20180523T141253Z
LAST-MODIFIED:20180523T141253Z
UID:10000417-1539426600-1539433800@www.thecarlebachshul.org
SUMMARY:Children’s Program – Shabbat Morning
DESCRIPTION:
URL:https://www.thecarlebachshul.org/event/childrens-program-shabbat-morning-20/
CATEGORIES:Events
ATTACH;FMTTYPE=image/jpeg:https://www.thecarlebachshul.org/wp-content/uploads/2018/04/children-program-1.jpg
END:VEVENT
END:VCALENDAR