BEGIN:VCALENDAR
VERSION:2.0
PRODID:-//The Carlebach Shul - ECPv6.2.9//NONSGML v1.0//EN
CALSCALE:GREGORIAN
METHOD:PUBLISH
X-WR-CALNAME:The Carlebach Shul
X-ORIGINAL-URL:https://www.thecarlebachshul.org
X-WR-CALDESC:Events for The Carlebach Shul
REFRESH-INTERVAL;VALUE=DURATION:PT1H
X-Robots-Tag:noindex
X-PUBLISHED-TTL:PT1H
BEGIN:VTIMEZONE
TZID:America/New_York
BEGIN:DAYLIGHT
TZOFFSETFROM:-0500
TZOFFSETTO:-0400
TZNAME:EDT
DTSTART:20180311T070000
END:DAYLIGHT
BEGIN:STANDARD
TZOFFSETFROM:-0400
TZOFFSETTO:-0500
TZNAME:EST
DTSTART:20181104T060000
END:STANDARD
END:VTIMEZONE
BEGIN:VEVENT
DTSTART;TZID=America/New_York:20181027T204500
DTEND;TZID=America/New_York:20181028T003000
DTSTAMP:20260423T045629
CREATED:20180923T133913Z
LAST-MODIFIED:20181015T164043Z
UID:10000804-1540673100-1540686600@www.thecarlebachshul.org
SUMMARY:Reb Shlomo Carlebach Tribute Concert 2018
DESCRIPTION:
URL:https://www.thecarlebachshul.org/event/reb-shlomo-carlebach-tribute-concert-2018/
CATEGORIES:Events,Special Events
ATTACH;FMTTYPE=image/jpeg:https://www.thecarlebachshul.org/wp-content/uploads/2018/10/CarlebachConcert2018_400x600.jpg
END:VEVENT
BEGIN:VEVENT
DTSTART;TZID=America/New_York:20181028T113000
DTEND;TZID=America/New_York:20181028T150000
DTSTAMP:20260423T045629
CREATED:20180510T192305Z
LAST-MODIFIED:20181018T151000Z
UID:10000406-1540726200-1540738800@www.thecarlebachshul.org
SUMMARY:24th Yahrzeit Commemoration
DESCRIPTION:
URL:https://www.thecarlebachshul.org/event/24th-yahrzeit-commemoration/
CATEGORIES:Events
ATTACH;FMTTYPE=image/jpeg:https://www.thecarlebachshul.org/wp-content/uploads/2018/08/24nd-yahrzeit.jpg
END:VEVENT
BEGIN:VEVENT
DTSTART;TZID=America/New_York:20181028T212000
DTEND;TZID=America/New_York:20181028T220000
DTSTAMP:20260423T045629
CREATED:20180509T162114Z
LAST-MODIFIED:20180509T162114Z
UID:10000647-1540761600-1540764000@www.thecarlebachshul.org
SUMMARY:Daf Yomi
DESCRIPTION:
URL:https://www.thecarlebachshul.org/event/daf-yomi-sunday-wednesday-920-pm-1000-pm-88/
CATEGORIES:Events
ATTACH;FMTTYPE=image/jpeg:https://www.thecarlebachshul.org/wp-content/uploads/2018/04/daf-yomi.jpg
END:VEVENT
BEGIN:VEVENT
DTSTART;TZID=America/New_York:20181028T220000
DTEND;TZID=America/New_York:20181028T221500
DTSTAMP:20260423T045629
CREATED:20180509T160226Z
LAST-MODIFIED:20180509T160226Z
UID:10000640-1540764000-1540764900@www.thecarlebachshul.org
SUMMARY:Maariv
DESCRIPTION:
URL:https://www.thecarlebachshul.org/event/maariv-117/
CATEGORIES:Events
ATTACH;FMTTYPE=image/jpeg:https://www.thecarlebachshul.org/wp-content/uploads/2018/04/images-5-1-600x400.jpeg
END:VEVENT
END:VCALENDAR