BEGIN:VCALENDAR
VERSION:2.0
PRODID:-//The Carlebach Shul - ECPv6.2.9//NONSGML v1.0//EN
CALSCALE:GREGORIAN
METHOD:PUBLISH
X-ORIGINAL-URL:https://www.thecarlebachshul.org
X-WR-CALDESC:Events for The Carlebach Shul
REFRESH-INTERVAL;VALUE=DURATION:PT1H
X-Robots-Tag:noindex
X-PUBLISHED-TTL:PT1H
BEGIN:VTIMEZONE
TZID:America/New_York
BEGIN:DAYLIGHT
TZOFFSETFROM:-0500
TZOFFSETTO:-0400
TZNAME:EDT
DTSTART:20190310T070000
END:DAYLIGHT
BEGIN:STANDARD
TZOFFSETFROM:-0400
TZOFFSETTO:-0500
TZNAME:EST
DTSTART:20191103T060000
END:STANDARD
END:VTIMEZONE
BEGIN:VEVENT
DTSTART;TZID=America/New_York:20190403T193000
DTEND;TZID=America/New_York:20190403T223000
DTSTAMP:20260422T212156
CREATED:20190328T224650Z
LAST-MODIFIED:20190328T225058Z
UID:10001474-1554319800-1554330600@www.thecarlebachshul.org
SUMMARY:Yehuda Solomon in Concert
DESCRIPTION:Wednesday\, 3 April 2019 \nDoors Open- 7:30pm\nConcert Begins- 8:00pm \nPrice: $20\, All Ages\, Online or At the Door \nLocation: 305W 79th St.\, NY \n  \nClick Here to Book Now!
URL:https://www.thecarlebachshul.org/event/yehuda-solomon-in-concert/
CATEGORIES:Events
ATTACH;FMTTYPE=image/jpeg:https://www.thecarlebachshul.org/wp-content/uploads/2019/03/YEHUDA-SOLOMON-Event-Graphic.jpg
END:VEVENT
END:VCALENDAR