BEGIN:VCALENDAR
VERSION:2.0
PRODID:-//The Carlebach Shul - ECPv6.2.9//NONSGML v1.0//EN
CALSCALE:GREGORIAN
METHOD:PUBLISH
X-ORIGINAL-URL:https://www.thecarlebachshul.org
X-WR-CALDESC:Events for The Carlebach Shul
REFRESH-INTERVAL;VALUE=DURATION:PT1H
X-Robots-Tag:noindex
X-PUBLISHED-TTL:PT1H
BEGIN:VTIMEZONE
TZID:America/New_York
BEGIN:DAYLIGHT
TZOFFSETFROM:-0500
TZOFFSETTO:-0400
TZNAME:EDT
DTSTART:20180311T070000
END:DAYLIGHT
BEGIN:STANDARD
TZOFFSETFROM:-0400
TZOFFSETTO:-0500
TZNAME:EST
DTSTART:20181104T060000
END:STANDARD
END:VTIMEZONE
BEGIN:VEVENT
DTSTART;VALUE=DATE:20180413
DTEND;VALUE=DATE:20180415
DTSTAMP:20260423T183706
CREATED:20180405T125058Z
LAST-MODIFIED:20180407T011631Z
UID:10000150-1523577600-1523750399@www.thecarlebachshul.org
SUMMARY:Friday – Shabbat Schedule 4/13 - 4/14
DESCRIPTION:
URL:https://www.thecarlebachshul.org/event/friday-shabbat-schedule-413-414/
LOCATION:305 W 79th St\, New York\, NY\, 10024
CATEGORIES:Events,Friday-Shabbat Schedule
ATTACH;FMTTYPE=image/jpeg:https://www.thecarlebachshul.org/wp-content/uploads/2018/04/Carlebach-HP.jpg
END:VEVENT
END:VCALENDAR