BEGIN:VCALENDAR
VERSION:2.0
PRODID:-//The Carlebach Shul - ECPv6.2.9//NONSGML v1.0//EN
CALSCALE:GREGORIAN
METHOD:PUBLISH
X-ORIGINAL-URL:https://www.thecarlebachshul.org
X-WR-CALDESC:Events for The Carlebach Shul
REFRESH-INTERVAL;VALUE=DURATION:PT1H
X-Robots-Tag:noindex
X-PUBLISHED-TTL:PT1H
BEGIN:VTIMEZONE
TZID:America/New_York
BEGIN:DAYLIGHT
TZOFFSETFROM:-0500
TZOFFSETTO:-0400
TZNAME:EDT
DTSTART:20240310T070000
END:DAYLIGHT
BEGIN:STANDARD
TZOFFSETFROM:-0400
TZOFFSETTO:-0500
TZNAME:EST
DTSTART:20241103T060000
END:STANDARD
END:VTIMEZONE
BEGIN:VEVENT
DTSTART;TZID=America/New_York:20240321T053500
DTEND;TZID=America/New_York:20240321T194000
DTSTAMP:20260424T032042
CREATED:20240220T171220Z
LAST-MODIFIED:20240315T162026Z
UID:10007874-1710999300-1711050000@www.thecarlebachshul.org
SUMMARY:Taanit Esther- 03/21
DESCRIPTION:Taanit Esther\nFast begins: 5:35am\nMincha: 6:45pm\nFast ends: 7:40pm\nMaariv: 7:35pm\n 
URL:https://www.thecarlebachshul.org/event/taanit-esther-03-21/
CATEGORIES:Holidays
END:VEVENT
BEGIN:VEVENT
DTSTART;TZID=America/New_York:20240323T213000
DTEND;TZID=America/New_York:20240323T230000
DTSTAMP:20260424T032042
CREATED:20240318T172400Z
LAST-MODIFIED:20240318T200435Z
UID:10007883-1711229400-1711234800@www.thecarlebachshul.org
SUMMARY:Purim Party 3/23
DESCRIPTION:The Carlebach Shul Purim Party\nSat night\, March 23rd 9:30 pm \nOpen bar with Professional Bartender and Live Music. Pizza and salad will be served.\nFree for members – reservations required by March 20th\n$25 non members in advance and $30 at the door if available. \nClick Here to Register
URL:https://www.thecarlebachshul.org/event/68267/
CATEGORIES:Events,Holidays
ATTACH;FMTTYPE=image/png:https://www.thecarlebachshul.org/wp-content/uploads/2024/03/Carlebach-Shul-purim-night-600x400-1.png
END:VEVENT
BEGIN:VEVENT
DTSTART;TZID=America/New_York:20240324T120000
DTEND;TZID=America/New_York:20240324T120000
DTSTAMP:20260424T032042
CREATED:20240201T164219Z
LAST-MODIFIED:20240318T200342Z
UID:10007862-1711281600-1711281600@www.thecarlebachshul.org
SUMMARY:March 24th  -Brunch Purim Seudah
DESCRIPTION:The Carlebach Shul Brunch Purim Seudah\nSunday\, March 24th\, 2024 – 12:00 PM \nLive Music\, Mimosas\, Irish coffee\, White Wine bar\, Assorted Smoked Fish\, Bagels & Lox with Scotch pairings\n$10 for members; $20 for non-members \nRESERVATIONS REQUIRED BY MARCH 20TH \nClick Here to reserve
URL:https://www.thecarlebachshul.org/event/march-24th-brunch-purim-seudah/
CATEGORIES:Holidays
END:VEVENT
END:VCALENDAR