BEGIN:VCALENDAR
VERSION:2.0
PRODID:-//The Carlebach Shul - ECPv6.2.9//NONSGML v1.0//EN
CALSCALE:GREGORIAN
METHOD:PUBLISH
X-ORIGINAL-URL:https://www.thecarlebachshul.org
X-WR-CALDESC:Events for The Carlebach Shul
REFRESH-INTERVAL;VALUE=DURATION:PT1H
X-Robots-Tag:noindex
X-PUBLISHED-TTL:PT1H
BEGIN:VTIMEZONE
TZID:America/New_York
BEGIN:DAYLIGHT
TZOFFSETFROM:-0500
TZOFFSETTO:-0400
TZNAME:EDT
DTSTART:20240310T070000
END:DAYLIGHT
BEGIN:STANDARD
TZOFFSETFROM:-0400
TZOFFSETTO:-0500
TZNAME:EST
DTSTART:20241103T060000
END:STANDARD
END:VTIMEZONE
BEGIN:VEVENT
DTSTART;TZID=America/New_York:20240526T130000
DTEND;TZID=America/New_York:20240526T163000
DTSTAMP:20260423T224223
CREATED:20240408T162215Z
LAST-MODIFIED:20240524T211153Z
UID:10009368-1716728400-1716741000@www.thecarlebachshul.org
SUMMARY:Lag Ba'Omer 2024
DESCRIPTION:Lag Ba’Omer Beer\, Barbeque\, and Bar Yochai Memorial\nCelebrating the Mysteries of the Zohar Through Music\, Words\, and Meditation\nSunday May 26\, 1:00 PM\nLag Ba’Omer is a celebration of the mystical revelations that Rabbi Shimon Bar Yochai taught on the day of his passing. On that day\, as described in the section of the Zohar known as the Idra Zuta\, Rabbi Shimon Bar Yochai revealed to his students the mysteries of the Divine crowns. Every year\, nearly half a million people gather on this day in Meiron to celebrate Rabbi Shimon Bar Yochai. Experience the Zohar in a beautiful and stirring way.\nMusic by Levi Okunov\n$20 at the door\n  \n 
URL:https://www.thecarlebachshul.org/event/lag-baomer-2024-2/
CATEGORIES:Holidays
ATTACH;FMTTYPE=image/jpeg:https://www.thecarlebachshul.org/wp-content/uploads/2019/04/ariella_creativisualsLagBaomer.jpg
END:VEVENT
END:VCALENDAR