BEGIN:VCALENDAR
VERSION:2.0
PRODID:-//The Carlebach Shul - ECPv6.2.9//NONSGML v1.0//EN
CALSCALE:GREGORIAN
METHOD:PUBLISH
X-ORIGINAL-URL:https://www.thecarlebachshul.org
X-WR-CALDESC:Events for The Carlebach Shul
REFRESH-INTERVAL;VALUE=DURATION:PT1H
X-Robots-Tag:noindex
X-PUBLISHED-TTL:PT1H
BEGIN:VTIMEZONE
TZID:America/New_York
BEGIN:DAYLIGHT
TZOFFSETFROM:-0500
TZOFFSETTO:-0400
TZNAME:EDT
DTSTART:20240310T070000
END:DAYLIGHT
BEGIN:STANDARD
TZOFFSETFROM:-0400
TZOFFSETTO:-0500
TZNAME:EST
DTSTART:20241103T060000
END:STANDARD
END:VTIMEZONE
BEGIN:VEVENT
DTSTART;TZID=America/New_York:20241002T181700
DTEND;TZID=America/New_York:20241004T191500
DTSTAMP:20260423T131759
CREATED:20240729T171234Z
LAST-MODIFIED:20241002T010459Z
UID:10010321-1727893020-1728069300@www.thecarlebachshul.org
SUMMARY:Rosh Hashanah 5785 Schedule
DESCRIPTION:EREV ROSH HASHANAH – Wednesday\, October 2nd \nRemember to make an Eruv Tavshillin before Yom Tov.\nCandles 6:17PM\nMincha 6:20 PM\nDinner follows services\nWith Rabbi Citron and Yehuda Green.\nCurated Rosh Hashanah dinner experience. Explore the significance of food that ushers in blessing for a positive year.\nFinal Deadline to reserve: Tuesday\, October 1st at 3:00 PM\nClick Here for Rosh Hashana Dinner\n1st Day Rosh Hashanah – Thursday\, October 3rd \nShacharit: 9:00 AM\nMincha 5:15 PM (followed by Tashlich)\nTashlich will be in the vicinity of the 79th Street Boat Basin-Marina. Due to renovations of the Boat Basin\, we highly recommend coming to Shul for mincha and walking over together. \nCandle lighting not before 7:14 PM\nMaariv 7:14\nDinner follows services\nWith Rabbi Naftali Citron and Yehuda Green.\nExperience Brisket and a special assortment of new fruits.\nFinal Deadline to reserve: Tuesday\, October 1st at 3:00 PM\nClick Here for Rosh Hashana Dinner\n2nd Day Rosh Hashanah – Friday\, October 4th \nShacharit: 9:00 AM\nMincha 6:15 PM\nFinal Deadline to purchase tickets: Tuesday morning\, October 1st at 9:00 AM\nClick Here for seats
URL:https://www.thecarlebachshul.org/event/rosh-hashanah-5785-schedule/
CATEGORIES:Holidays,Rosh Hashanah
ATTACH;FMTTYPE=image/jpeg:https://www.thecarlebachshul.org/wp-content/uploads/2018/08/yehudaGreen_Citron-1.jpg
END:VEVENT
BEGIN:VEVENT
DTSTART;TZID=America/New_York:20241011T143000
DTEND;TZID=America/New_York:20241012T190100
DTSTAMP:20260423T131759
CREATED:20240729T172128Z
LAST-MODIFIED:20241010T152753Z
UID:10010346-1728657000-1728759660@www.thecarlebachshul.org
SUMMARY:Yom Kippur 5785 Schedule
DESCRIPTION:Erev Yom Kippur – Friday\, October 11th\nMincha 2:30 PM\nCandle lighting 6:02 PM\nKol Nidrei 615 PM\nYom Kippur Day – Saturday\, October 12th \nShacharis 9:00 AM\nYizkor 12:45\nMincha 4:05PM\nNeila 5:30 PM\nFast Ends 7:01 PM
URL:https://www.thecarlebachshul.org/event/yom-kippur-5785-schedule/
CATEGORIES:Holidays,Yom Kippur
ATTACH;FMTTYPE=image/jpeg:https://www.thecarlebachshul.org/wp-content/uploads/2018/08/yehudaGreen_Citron-1.jpg
END:VEVENT
BEGIN:VEVENT
DTSTART;TZID=America/New_York:20241016T175500
DTEND;TZID=America/New_York:20241018T192100
DTSTAMP:20260423T131759
CREATED:20230725T221436Z
LAST-MODIFIED:20241016T155831Z
UID:10003738-1729101300-1729279260@www.thecarlebachshul.org
SUMMARY:Sukkot 2024 Day 1 and Day 2 Schedule
DESCRIPTION:Wednesday\, October 16th – EREV SUKKOT \nRemember to make   an Eruv Tavshillin\nCandle Lighting 5:55 PM\nMincha 5:55 PM \nThursday October 17th – 1ST DAY SUKKOT\nMorning Services 9:30 AM\nMussaf: Yehuda Green\nCake & Wine Kiddush following services\nMincha  5:55 PM\nCandle Lighting not before 6:53 PM\nMaariv 6:45 PM \nFriday\, October 18th – 2ND DAY SUKKOT\nMorning Services 9:30 AM\nMussaf: Yehuda Green\nCandle Lighting: 5:52 PM\nMincha 5:55 PM
URL:https://www.thecarlebachshul.org/event/sukkot-2024-day-1-and-day-2-schedule/
CATEGORIES:Holidays,Sukkot
ATTACH;FMTTYPE=image/jpeg:https://www.thecarlebachshul.org/wp-content/uploads/2023/07/Sukkah-Lulav-e1695153202139.jpg
END:VEVENT
BEGIN:VEVENT
DTSTART;TZID=America/New_York:20241023T100000
DTEND;TZID=America/New_York:20241023T100000
DTSTAMP:20260423T131759
CREATED:20240827T163905Z
LAST-MODIFIED:20240827T163905Z
UID:10010410-1729677600-1729677600@www.thecarlebachshul.org
SUMMARY:Hoshana Rabbah Schedule 2024
DESCRIPTION:Hoshana Rabbah Davening\nWednesday\, October 23rd at 10:00 AM \nAdd your voice to the music and experience the joy of Hallel\, with Rabbi Naftali Citron and Noah Solomon \nShacharis/morning service: 10:00 AM\nHallel: 11:00 AM
URL:https://www.thecarlebachshul.org/event/hoshana-rabbah-schedule-2024-2/
CATEGORIES:Holidays,Sukkot
ATTACH;FMTTYPE=image/jpeg:https://www.thecarlebachshul.org/wp-content/uploads/2019/07/noah-sol-e1697687799503.jpg
END:VEVENT
BEGIN:VEVENT
DTSTART;TZID=America/New_York:20241023T174500
DTEND;TZID=America/New_York:20241025T174200
DTSTAMP:20260423T131759
CREATED:20240827T165428Z
LAST-MODIFIED:20241023T170101Z
UID:10010411-1729705500-1729878120@www.thecarlebachshul.org
SUMMARY:Shemini Atzeret & Simchat Torah Schedule 5785
DESCRIPTION:PLEASE REMEMBER TO MAKE AN ERUV TAVSHILLIN\nWednesday\, October 23rd – EREV SHEMINI ATZERET\nCandle Lighting: 5:45 PM\nMincha: 5:45 PM \n  \nThursday\, October 24th – SHEMINI ATZERET\nMorning Services: 9:30 AM\nYizkor: 11:45 AM\nMusaf and Tefillat Geshem\, led by Yehuda Green\nMincha: 5:45 PM \nSimchat Torah Eve\, October 24th – SIMCHAT TORAH EVE\nCandle Lighting  not before 6:43 PM\nMa’ariv: 6:45 PM\nFull Open Bar & Social Hour following Maariv (Priority admission to Members)\nHakafot: 9:00 PM \nFriday\, October 25th – SIMCHAT TORAH\nMorning Services: 10:00 AM\nFollowed by full Kiddush before Mussaf\nMincha: following Mussaf\nCandle Lighting: 5:42 PM\nKabbalat Shabbat & Maariv: 6:20 PM \n \n 
URL:https://www.thecarlebachshul.org/event/shemini-atzeret-simchat-torah-schedule-5785/
CATEGORIES:Holidays,Sukkot
ATTACH;FMTTYPE=image/jpeg:https://www.thecarlebachshul.org/wp-content/uploads/2016/02/Geshem-Banner.jpg
END:VEVENT
END:VCALENDAR