BEGIN:VCALENDAR
VERSION:2.0
PRODID:-//The Carlebach Shul - ECPv6.2.9//NONSGML v1.0//EN
CALSCALE:GREGORIAN
METHOD:PUBLISH
X-WR-CALNAME:The Carlebach Shul
X-ORIGINAL-URL:https://www.thecarlebachshul.org
X-WR-CALDESC:Events for The Carlebach Shul
REFRESH-INTERVAL;VALUE=DURATION:PT1H
X-Robots-Tag:noindex
X-PUBLISHED-TTL:PT1H
BEGIN:VTIMEZONE
TZID:America/New_York
BEGIN:DAYLIGHT
TZOFFSETFROM:-0500
TZOFFSETTO:-0400
TZNAME:EDT
DTSTART:20250309T070000
END:DAYLIGHT
BEGIN:STANDARD
TZOFFSETFROM:-0400
TZOFFSETTO:-0500
TZNAME:EST
DTSTART:20251102T060000
END:STANDARD
END:VTIMEZONE
BEGIN:VEVENT
DTSTART;TZID=America/New_York:20250913T235900
DTEND;TZID=America/New_York:20250914T031500
DTSTAMP:20260422T171804
CREATED:20250617T205213Z
LAST-MODIFIED:20250914T012911Z
UID:10018559-1757807940-1757819700@www.thecarlebachshul.org
SUMMARY:Selichot at West Side Institutional Synagogue with Yehuda Green
DESCRIPTION:Although Online  reservations have now closed\, you may purchase tickets at the door. To purchase Priority & VIP tickets at the door\, please ask to speak to Avi upon arrival.\n\n\nAlthough Online  reservations have now closed\, you may purchase tickets at the door. To purchase Priority & VIP tickets at the door\, please ask to speak to Avi upon arrival.\nEveryone who arrives by 12:00 AM is guaranteed admission.\nCarlebach Shul members get free general admission tickets.\n  \n \n 
URL:https://www.thecarlebachshul.org/event/carlebach-shul-selichot-at-west-side-institutional-synagogue-with-yehuda-green-2/
LOCATION:West Side Institutional Synagogue\, 120 West 76th Street\, New York\, NY\, United States
CATEGORIES:Events,High Holidays 2025,Rosh Hashanah,Special Events
END:VEVENT
BEGIN:VEVENT
DTSTART;VALUE=DATE:20250922
DTEND;VALUE=DATE:20250923
DTSTAMP:20260422T171804
CREATED:20250626T182529Z
LAST-MODIFIED:20250626T182944Z
UID:10018843-1758499200-1758585599@www.thecarlebachshul.org
SUMMARY:1st Night Rosh Hashanah Dinner
DESCRIPTION:Dinner follows services.  (A seat is required to attend High Holiday services.\nPlease click here to purchase your seats.) \n\nFirst night: Monday\, September 22nd\nWith Rabbi Citron and Yehuda Green.\nCurated Rosh Hashanah dinner experience. Explore the significance of food that ushers in blessing for a positive year. \nClick Here to Reserve
URL:https://www.thecarlebachshul.org/event/rosh-hashanah-dinner-3/
CATEGORIES:High Holidays 2025,Rosh Hashanah
END:VEVENT
BEGIN:VEVENT
DTSTART;TZID=America/New_York:20250922T183000
DTEND;TZID=America/New_York:20250924T200000
DTSTAMP:20260422T171804
CREATED:20250617T202817Z
LAST-MODIFIED:20250922T171201Z
UID:10018555-1758565800-1758744000@www.thecarlebachshul.org
SUMMARY:Rosh Hashanah Schedule 5786
DESCRIPTION:Rosh Hashanah 5786\nMonday Night\, September 22nd – Wednesday September 24th\nA seat is required to attend High Holiday services. Please click here to purchase your seats. \nEREV ROSH HASHANAH – Monday\, September 22nd\nCandle lighting: 6:34 PM             Mincha: 6:40 PM \nYom Tov Dinner follows services; prior reservations required \n1st DAY ROSH HASHANAH – Tuesday\, September 23rd\nShacharit: 9:00 AM   \nMussaf: Yehuda Green\nMincha: 5:30 PM (followed by Tashlich) \nTashlich will be in the vicinity of the 79th Street Boat Basin-Marina.\nDue to renovations of the Boat Basin\, we highly recommend coming to Shul for Mincha and walking over together.\nCandle lighting not before: 7:31 PM  Ma’ariv: 7:31 PM \nYom Tov Dinner follows services; prior reservations required \n2nd DAY ROSH HASHANAH – Wednesday\, September 23rd\nShacharit: 9:00 AM\nMussaf: Yehuda Green\nMincha: 6:14 PM
URL:https://www.thecarlebachshul.org/event/rosh-hashanah-5786/
CATEGORIES:High Holidays 2025,Rosh Hashanah
END:VEVENT
BEGIN:VEVENT
DTSTART;VALUE=DATE:20250923
DTEND;VALUE=DATE:20250924
DTSTAMP:20260422T171804
CREATED:20250626T182921Z
LAST-MODIFIED:20250626T182950Z
UID:10018844-1758585600-1758671999@www.thecarlebachshul.org
SUMMARY:2nd Night Rosh Hashanah Dinner
DESCRIPTION:Dinner follows services.  (A seat is required to attend High Holiday services.\nPlease click here to purchase your seats.) \nSecond night: Tuesday\, September 23rd\nWith Rabbi Naftali Citron and Yehuda Green.\nExperience Brisket and a special assortment of new fruits. \nClick Here to Reserve 
URL:https://www.thecarlebachshul.org/event/2nd-night-rosh-hashanah-dinner/
CATEGORIES:High Holidays 2025,Rosh Hashanah
END:VEVENT
BEGIN:VEVENT
DTSTART;TZID=America/New_York:20250927T133000
DTEND;TZID=America/New_York:20250927T143000
DTSTAMP:20260422T171804
CREATED:20250918T210624Z
LAST-MODIFIED:20250918T215047Z
UID:10020536-1758979800-1758983400@www.thecarlebachshul.org
SUMMARY:Shabbat Shuva Drasha
DESCRIPTION:Shabbat\, September 27th: Shabbat Shuva Drasha\nfollowing Kiddush\nTOPIC: Ten Ways to Help Define Yourself
URL:https://www.thecarlebachshul.org/event/shabbat-shuva-drasha-2/
CATEGORIES:High Holidays 2025
END:VEVENT
END:VCALENDAR