BEGIN:VCALENDAR
VERSION:2.0
PRODID:-//The Carlebach Shul - ECPv6.2.9//NONSGML v1.0//EN
CALSCALE:GREGORIAN
METHOD:PUBLISH
X-ORIGINAL-URL:https://www.thecarlebachshul.org
X-WR-CALDESC:Events for The Carlebach Shul
REFRESH-INTERVAL;VALUE=DURATION:PT1H
X-Robots-Tag:noindex
X-PUBLISHED-TTL:PT1H
BEGIN:VTIMEZONE
TZID:America/New_York
BEGIN:DAYLIGHT
TZOFFSETFROM:-0500
TZOFFSETTO:-0400
TZNAME:EDT
DTSTART:20260308T070000
END:DAYLIGHT
BEGIN:STANDARD
TZOFFSETFROM:-0400
TZOFFSETTO:-0500
TZNAME:EST
DTSTART:20261101T060000
END:STANDARD
END:VTIMEZONE
BEGIN:VEVENT
DTSTART;TZID=America/New_York:20260504T200000
DTEND;TZID=America/New_York:20260504T220000
DTSTAMP:20260422T070101
CREATED:20260420T201851Z
LAST-MODIFIED:20260421T193840Z
UID:10021370-1777924800-1777932000@www.thecarlebachshul.org
SUMMARY:Lag Ba'Omer Seder
DESCRIPTION:Lag Ba’Omer Seder – Live at The Carlebach Shul!\nWith Rabbis Naftali Citron and Avrohom Levitt\n \nMonday\, May 4th\nDinner 7:00 – 8:00 PM\nProgram  8:00 PM – 10:00 PM\nCelebrating the Mysteries of the Zohar Through Words\, Music\, and Meditation\nAn evening of learning\, stories\, and music \nProgram is free; Dinner: $20 ($15 Members) \nReservations for dinner due in office Sunday\, May 3rd at 7:00 PM \nClick here to reserve\n \n 
URL:https://www.thecarlebachshul.org/event/lag-baomer-seder/
CATEGORIES:Holidays
END:VEVENT
BEGIN:VEVENT
DTSTART;TZID=America/New_York:20260521T195500
DTEND;TZID=America/New_York:20260522T230000
DTSTAMP:20260422T070101
CREATED:20260415T212100Z
LAST-MODIFIED:20260415T213154Z
UID:10021367-1779393300-1779490800@www.thecarlebachshul.org
SUMMARY:Shavuot Dinners  with Rabbi Dr. Nehemia Polen\, Rabbi Naftali Citron\, & Yehuda Green
DESCRIPTION:Thursday night\, May 21st and Friday night\, May 22nd\n\nClick Here to Reserve \nTikkun Leil Shavuot follows 1st night dinner – Details to follow \nNehemia Polen\, professor of Jewish thought\, director of the Hasidic Text Institute at Boston’s Hebrew College\, and an ordained rabbi\, is the author of The Holy Fire: The Teachings of Rabbi Kalonymus Shapira\, the Rebbe of the Warsaw Ghetto. He is a contributing commentator to My People’s Prayer Book\, a multivolume Siddur incorporating diverse perspectives on the liturgy. A recipient of the National Jewish Book Award\, Nehemia has studied with and served as a teaching fellow for Elie Wiesel and was a visiting scholar at the Hebrew University in Jerusalem. He co-authored Filling Words with Light: Hasidic and Mystical Reflections on Jewish Prayer with Rabbi Lawrence Kushner. His recent book\, Stop\, Look\, Listen\, reintroduces Shabbos as a totally immersive spiritual experience\, based on the teachings of the great Chassidic masters. \nThe Carlebach Shul strives to provide a beautiful experience for everyone participating in our Shabbat or Yom Tov dinners. A typical dinner commences approximately 2 hours after Mincha begins. These dinners provide a unique opportunity for both members and visitors to celebrate Shabbat together in a lively and inviting setting. Attendees can expect delicious food\, lots of singing\, and inspiring words of Torah from the world-renowned scholars-in-residence who join us for these dinners.
URL:https://www.thecarlebachshul.org/event/shavuot-dinners-with-rabbi-dr-nehemia-polen-rabbi-naftali-citron-yehuda-green/
CATEGORIES:Holidays
END:VEVENT
END:VCALENDAR