BEGIN:VCALENDAR
VERSION:2.0
PRODID:-//The Carlebach Shul - ECPv6.2.9//NONSGML v1.0//EN
CALSCALE:GREGORIAN
METHOD:PUBLISH
X-ORIGINAL-URL:https://www.thecarlebachshul.org
X-WR-CALDESC:Events for The Carlebach Shul
REFRESH-INTERVAL;VALUE=DURATION:PT1H
X-Robots-Tag:noindex
X-PUBLISHED-TTL:PT1H
BEGIN:VTIMEZONE
TZID:America/New_York
BEGIN:DAYLIGHT
TZOFFSETFROM:-0500
TZOFFSETTO:-0400
TZNAME:EDT
DTSTART:20240310T070000
END:DAYLIGHT
BEGIN:STANDARD
TZOFFSETFROM:-0400
TZOFFSETTO:-0500
TZNAME:EST
DTSTART:20241103T060000
END:STANDARD
END:VTIMEZONE
BEGIN:VEVENT
DTSTART;TZID=America/New_York:20240321T053500
DTEND;TZID=America/New_York:20240321T194000
DTSTAMP:20260424T034742
CREATED:20240220T171220Z
LAST-MODIFIED:20240315T162026Z
UID:10007874-1710999300-1711050000@www.thecarlebachshul.org
SUMMARY:Taanit Esther- 03/21
DESCRIPTION:Taanit Esther\nFast begins: 5:35am\nMincha: 6:45pm\nFast ends: 7:40pm\nMaariv: 7:35pm\n 
URL:https://www.thecarlebachshul.org/event/taanit-esther-03-21/
CATEGORIES:Holidays
END:VEVENT
END:VCALENDAR