BEGIN:VCALENDAR
VERSION:2.0
PRODID:-//The Carlebach Shul - ECPv6.2.9//NONSGML v1.0//EN
CALSCALE:GREGORIAN
METHOD:PUBLISH
X-ORIGINAL-URL:https://www.thecarlebachshul.org
X-WR-CALDESC:Events for The Carlebach Shul
REFRESH-INTERVAL;VALUE=DURATION:PT1H
X-Robots-Tag:noindex
X-PUBLISHED-TTL:PT1H
BEGIN:VTIMEZONE
TZID:America/New_York
BEGIN:DAYLIGHT
TZOFFSETFROM:-0500
TZOFFSETTO:-0400
TZNAME:EDT
DTSTART:20240310T070000
END:DAYLIGHT
BEGIN:STANDARD
TZOFFSETFROM:-0400
TZOFFSETTO:-0500
TZNAME:EST
DTSTART:20241103T060000
END:STANDARD
END:VTIMEZONE
BEGIN:VEVENT
DTSTART;TZID=America/New_York:20241016T175500
DTEND;TZID=America/New_York:20241018T192100
DTSTAMP:20260423T152111
CREATED:20230725T221436Z
LAST-MODIFIED:20241016T155831Z
UID:10003738-1729101300-1729279260@www.thecarlebachshul.org
SUMMARY:Sukkot 2024 Day 1 and Day 2 Schedule
DESCRIPTION:Wednesday\, October 16th – EREV SUKKOT \nRemember to make   an Eruv Tavshillin\nCandle Lighting 5:55 PM\nMincha 5:55 PM \nThursday October 17th – 1ST DAY SUKKOT\nMorning Services 9:30 AM\nMussaf: Yehuda Green\nCake & Wine Kiddush following services\nMincha  5:55 PM\nCandle Lighting not before 6:53 PM\nMaariv 6:45 PM \nFriday\, October 18th – 2ND DAY SUKKOT\nMorning Services 9:30 AM\nMussaf: Yehuda Green\nCandle Lighting: 5:52 PM\nMincha 5:55 PM
URL:https://www.thecarlebachshul.org/event/sukkot-2024-day-1-and-day-2-schedule/
CATEGORIES:Holidays,Sukkot
ATTACH;FMTTYPE=image/jpeg:https://www.thecarlebachshul.org/wp-content/uploads/2023/07/Sukkah-Lulav-e1695153202139.jpg
END:VEVENT
END:VCALENDAR