BEGIN:VCALENDAR
VERSION:2.0
PRODID:-//The Carlebach Shul - ECPv6.2.9//NONSGML v1.0//EN
CALSCALE:GREGORIAN
METHOD:PUBLISH
X-ORIGINAL-URL:https://www.thecarlebachshul.org
X-WR-CALDESC:Events for The Carlebach Shul
REFRESH-INTERVAL;VALUE=DURATION:PT1H
X-Robots-Tag:noindex
X-PUBLISHED-TTL:PT1H
BEGIN:VTIMEZONE
TZID:America/New_York
BEGIN:DAYLIGHT
TZOFFSETFROM:-0500
TZOFFSETTO:-0400
TZNAME:EDT
DTSTART:20180311T070000
END:DAYLIGHT
BEGIN:STANDARD
TZOFFSETFROM:-0400
TZOFFSETTO:-0500
TZNAME:EST
DTSTART:20181104T060000
END:STANDARD
END:VTIMEZONE
BEGIN:VEVENT
DTSTART;TZID=America/New_York:20180902T003000
DTEND;TZID=America/New_York:20180902T031500
DTSTAMP:20260423T140233
CREATED:20180719T182618Z
LAST-MODIFIED:20180719T182618Z
UID:10000796-1535848200-1535858100@www.thecarlebachshul.org
SUMMARY:Selichot Tickets – Sunday morning\, September 2nd\, 12:30 AM – Carlebach Shul Selichot at West Side Institutional Synagogue
DESCRIPTION:
URL:https://www.thecarlebachshul.org/event/selichot-tickets-sunday-morning-september-2nd-1230-am-carlebach-shul-selichot-at-west-side-institutional-synagogue/
CATEGORIES:Events,Holidays,Homepage+1,Rosh Hashanah
ATTACH;FMTTYPE=image/jpeg:https://www.thecarlebachshul.org/wp-content/uploads/2016/07/slichot-Yehuda3-1.jpg
END:VEVENT
BEGIN:VEVENT
DTSTART;TZID=America/New_York:20180914T190000
DTEND;TZID=America/New_York:20180914T231500
DTSTAMP:20260423T140233
CREATED:20180815T132558Z
LAST-MODIFIED:20180815T132645Z
UID:10000801-1536951600-1536966900@www.thecarlebachshul.org
SUMMARY:Shabbat Dinner Friday September 14th with Rabbi Elie Weinstock and Rabbi Naftali Citron
DESCRIPTION:
URL:https://www.thecarlebachshul.org/event/shabbat-dinner-friday-september-14th-with-rabbi-elie-weinstock/
CATEGORIES:Events,Homepage+1,HP Banner Event,Special Events
ATTACH;FMTTYPE=image/png:https://www.thecarlebachshul.org/wp-content/uploads/2018/08/Weinstock2.png
END:VEVENT
END:VCALENDAR