BEGIN:VCALENDAR
VERSION:2.0
PRODID:-//The Carlebach Shul - ECPv6.2.9//NONSGML v1.0//EN
CALSCALE:GREGORIAN
METHOD:PUBLISH
X-WR-CALNAME:The Carlebach Shul
X-ORIGINAL-URL:https://www.thecarlebachshul.org
X-WR-CALDESC:Events for The Carlebach Shul
REFRESH-INTERVAL;VALUE=DURATION:PT1H
X-Robots-Tag:noindex
X-PUBLISHED-TTL:PT1H
BEGIN:VTIMEZONE
TZID:America/New_York
BEGIN:DAYLIGHT
TZOFFSETFROM:-0500
TZOFFSETTO:-0400
TZNAME:EDT
DTSTART:20230312T070000
END:DAYLIGHT
BEGIN:STANDARD
TZOFFSETFROM:-0400
TZOFFSETTO:-0500
TZNAME:EST
DTSTART:20231105T060000
END:STANDARD
END:VTIMEZONE
BEGIN:VEVENT
DTSTART;TZID=America/New_York:20231027T174000
DTEND;TZID=America/New_York:20231027T223000
DTSTAMP:20260421T101219
CREATED:20231002T195414Z
LAST-MODIFIED:20231020T154805Z
UID:10003775-1698428400-1698445800@www.thecarlebachshul.org
SUMMARY:Reb Shlomo Carlebach Yahrzeit Dinner - Guest speaker Rabbi Joseph Telushkin
DESCRIPTION:Join us Friday night\, October 27th for an inspirational davening and Shabbat dinner with Rabbi Naftali Citron\, Rabbi Joseph Telushkin\, Rabbi Nehemia Polen\, Yehuda Green\, and other special guests \nMincha will begin at 5:40 PM\, with dinner following services. \n$65 for members\, $75 for non-members\, with a $5 discount if reserved before Monday\, October 23rd \nClick Here to reserve\nThis event has been made possible by a contribution from Joy Fishman in memory of her son Jonathan Stampler.
URL:https://www.thecarlebachshul.org/event/reb-shlomo-carlebach-yahrzeit-dinner-october-27th-guest-speaker-rabbi-joseph-telushkin/
CATEGORIES:Shabbat,Yahrzeit23
ATTACH;FMTTYPE=image/jpeg:https://www.thecarlebachshul.org/wp-content/uploads/2018/03/telushkin-ShabbatDinner-Banner-13.jpg
END:VEVENT
END:VCALENDAR