BEGIN:VCALENDAR
VERSION:2.0
PRODID:-//The Carlebach Shul - ECPv6.2.9//NONSGML v1.0//EN
CALSCALE:GREGORIAN
METHOD:PUBLISH
X-WR-CALNAME:The Carlebach Shul
X-ORIGINAL-URL:https://www.thecarlebachshul.org
X-WR-CALDESC:Events for The Carlebach Shul
REFRESH-INTERVAL;VALUE=DURATION:PT1H
X-Robots-Tag:noindex
X-PUBLISHED-TTL:PT1H
BEGIN:VTIMEZONE
TZID:America/New_York
BEGIN:DAYLIGHT
TZOFFSETFROM:-0500
TZOFFSETTO:-0400
TZNAME:EDT
DTSTART:20240310T070000
END:DAYLIGHT
BEGIN:STANDARD
TZOFFSETFROM:-0400
TZOFFSETTO:-0500
TZNAME:EST
DTSTART:20241103T060000
END:STANDARD
END:VTIMEZONE
BEGIN:VEVENT
DTSTART;TZID=America/New_York:20240301T174000
DTEND;TZID=America/New_York:20240301T220000
DTSTAMP:20260421T172030
CREATED:20240130T033045Z
LAST-MODIFIED:20240229T173546Z
UID:10007859-1709314800-1709330400@www.thecarlebachshul.org
SUMMARY:March 1st - Shabbat Across America - Wine Tasting Shabbat Dinner
DESCRIPTION:Mar 1 – Shabbat across America. \nWe will have a special Wine tasting Shabbat Dinner featuring Benyamin Cantz\, creator of the exclusive “Fourgates” wines and Miriam Morgenstern\, Vice- President and Associate Publisher of Wine Spectator. They will each share their unique perspective on the world of wine. \nThis is a once in a lifetime opportunity to both experience and learn about a truly singular wine. \n$95 Members\, $105 Non-Members \n\nClick Here to reserve\n\nTo help sponsor this event please click on the level of sponsorship\, all sponsors will be announced at the event \nSponsorship Available \n\nVIP $180\nEvent Supporter $500\nEvent Builder $1\,000\nSponsorship $1800\nClick Here to be a VIP Sponsor \nClick Here to be an Event Supporter \nClick Here to be an Event Builder\nClick Here To Be AN Event Sponsor\nREFUND POLICY:\nThe Carlebach Shul incurs costs for every event based on the number of reservations. Therefore\, please note that unless otherwise indicated\, the cancellation deadline for any event is 24 hours before the start of the event. After that deadline\, we will not be able to issue any refunds for that event. Thank you for your understanding.
URL:https://www.thecarlebachshul.org/event/march-1st-shabbat-across-america-wine-tasting-shabbat-dinner/
CATEGORIES:Shabbat
END:VEVENT
BEGIN:VEVENT
DTSTART;TZID=America/New_York:20240308T173700
DTEND;TZID=America/New_York:20240309T183800
DTSTAMP:20260421T172030
CREATED:20240219T155625Z
LAST-MODIFIED:20240307T154351Z
UID:10007866-1709919420-1710009480@www.thecarlebachshul.org
SUMMARY:Friday – Shabbat Schedule 3/8 - 3/9
DESCRIPTION:Friday Night 3/8\nShabbat Candle Lighting: 5:37 PM\nMincha 5:50 PM\nKabbalat Shabbat:\nDrasha: Rabbi Naftali Citron \nSaturday Morning 3/9\nParshat Vayakhel – Shabbat Mevarchim Adar Beis \nMorning Services: 9:30 AM\nSof Z’man Kriyat Shema: (Gr”a) 9:11 AM\nDrasha: Rabbi Naftali Citron\nMusaf:\nKiddush following services\nPre-Mincha Shiur: Rabbi Naftali Citron: 5:00 PM at the Shul\nMincha: 5:30 PM\nDrasha: Rabbi Naftali Citron
URL:https://www.thecarlebachshul.org/event/friday-shabbat-schedule-3-8-3-9-2/
CATEGORIES:Shabbat
ATTACH;FMTTYPE=image/jpeg:https://www.thecarlebachshul.org/wp-content/uploads/2019/01/Carlebach-HP.jpg
END:VEVENT
BEGIN:VEVENT
DTSTART;TZID=America/New_York:20240315T184500
DTEND;TZID=America/New_York:20240316T194500
DTSTAMP:20260421T172030
CREATED:20240219T155952Z
LAST-MODIFIED:20240311T191424Z
UID:10007867-1710528300-1710618300@www.thecarlebachshul.org
SUMMARY:Friday – Shabbat Schedule 3/15 - 3/16
DESCRIPTION:Friday Night 3/15\nShabbat Candle Lighting: 6:45 PM\nMincha 6:55 PM\nKabbalat Shabbat:\nDrasha: Rabbi Naftali Citron \nSaturday Morning 3/16\nShabbat Parshat Pekudei\nMorning Services: 9:30 AM\nSof Z’man Kriyat Shema: (Gr”a) 10:04 AM\nDrasha: Rabbi Naftali Citron\nMusaf:\nKiddush following services\nPre-Mincha Shiur: Rabbi Naftali Citron: 5:35 PM at the Shul on the topic of “What would the Ishbitzer say? A look at the Parsha\, Rambam\, and Daf Yomi from the Ishbetz perspective.”\nMincha: 6:35 PM\nDrasha: Rabbi Naftali Citron
URL:https://www.thecarlebachshul.org/event/friday-shabbat-schedule-3-15-3-16-2/
CATEGORIES:Shabbat
ATTACH;FMTTYPE=image/jpeg:https://www.thecarlebachshul.org/wp-content/uploads/2019/01/Carlebach-HP.jpg
END:VEVENT
BEGIN:VEVENT
DTSTART;TZID=America/New_York:20240322T185200
DTEND;TZID=America/New_York:20240323T195300
DTSTAMP:20260421T172030
CREATED:20240219T160259Z
LAST-MODIFIED:20240322T152828Z
UID:10007868-1711133520-1711223580@www.thecarlebachshul.org
SUMMARY:Friday – Shabbat Schedule 3/22 - 3/23
DESCRIPTION:Friday Night 3/22\nShabbat Candle Lighting: 6:52 PM\nMincha 7:00 PM\nKabbalat Shabbat: Yehuda Green\nDrasha: Rabbi Naftali Citron \nSaturday Morning 3/23\nShabbat Parshat Vayikra + Zachor\nMorning Services: 9:30 AM\nSof Z’man Kriyat Shema: (Gr”a) 9:58 AM\nDrasha: Rabbi Naftali Citron\nMusaf: Yehuda Green\nKiddush following services\nMincha: 1:45 PM
URL:https://www.thecarlebachshul.org/event/friday-shabbat-schedule-3-22-3-23-2/
CATEGORIES:Shabbat
ATTACH;FMTTYPE=image/jpeg:https://www.thecarlebachshul.org/wp-content/uploads/2019/01/Carlebach-HP.jpg
END:VEVENT
BEGIN:VEVENT
DTSTART;TZID=America/New_York:20240322T193000
DTEND;TZID=America/New_York:20240322T220000
DTSTAMP:20260421T172030
CREATED:20240304T220050Z
LAST-MODIFIED:20240319T161707Z
UID:10007881-1711135800-1711144800@www.thecarlebachshul.org
SUMMARY:March 22nd- Shabbat Erev Purim Dinner
DESCRIPTION:Join Rabbi Naftali Citron and Guest Comedian Mike Fine.\nMike Fine is an American stand-up headlining comedian\, writer\, actor\, and producer . He’s also founder and President of Roasted Daily Productions\, Inc.\, a  boutique creative content development and consulting firm offering an array of personal services to a diverse mix of A-List Celebrities\, and Pro- Athletes\, including numerous Oscar\, Grammy\, Emmy nominated artists and performers. Mike’s clients have appeared on Comedy Central\, HBO\, The Tonight Show with Jimmy Fallon and Jay Leno\, Late Show with Stephen Colbert and David Letterman\, Saturday Night Live\, The Daily Show\, America’s Got Talent\, Howard Stern\, as wells as countless other TV and Radio programs. \n$45 Members\, $55 Non-Members\n$5 discount if reserved by March 20th\n\nClick Here to reserve
URL:https://www.thecarlebachshul.org/event/march-22nd-shabbat-erev-purim-dinner/
CATEGORIES:Shabbat,Special Events
END:VEVENT
BEGIN:VEVENT
DTSTART;TZID=America/New_York:20240329T190000
DTEND;TZID=America/New_York:20240330T200100
DTSTAMP:20260421T172030
CREATED:20240219T160518Z
LAST-MODIFIED:20240329T143404Z
UID:10007869-1711738800-1711828860@www.thecarlebachshul.org
SUMMARY:Friday – Shabbat Schedule 3/29 - 3/30
DESCRIPTION:Friday Night 3/29\nShabbat Candle Lighting: 7:00 PM\nMincha 7:00 PM\nKabbalat Shabbat: Eli Cohn\nDrasha: Shy Yellin \nSaturday Morning 3/30\nShabbat Parshat Tzav – Parah\nMorning Services: 9:30 AM\nSof Z’man Kriyat Shema: (Gr”a) 9:51 AM\nDrasha: Raphael Kellman\nMusaf: Eli Cohn\nKiddush following services\nPre-Mincha Shiur: Zev Teifer – 5:50 PM\nMincha: 6:50 PM
URL:https://www.thecarlebachshul.org/event/friday-shabbat-schedule-3-29-3-30-2/
CATEGORIES:Shabbat
ATTACH;FMTTYPE=image/jpeg:https://www.thecarlebachshul.org/wp-content/uploads/2019/01/Carlebach-HP.jpg
END:VEVENT
END:VCALENDAR